{"text_format":"1","workbook":"xlsx","n_sheets":5,"sheets":["Calculation","W.H curve","erosion model","calculation2","User Manual"],"not_rendered":{"charts":8,"images":12,"macros":1,"external_links":1,"defined_names":0,"comments":0,"pivot_tables":0},"unopened":[],"bounds":{"document_bytes":16777216,"sheet_cells":100000,"rows_first":2000,"rows_last":500,"rows_between":2000,"halvings":0,"cell_chars":16384,"cell_head_chars":4096},"cells_cut":0,"cells_raw":0,"read":"whole","date_system":"1900"}

{"sheet":"Calculation","index":0,"n_rows":1000,"n_cols":38,"rows_kept":1000,"cut":false,"hidden":false,"merged":[[0,0,0,10],[7,15,8,15],[5,13,5,14],[5,15,5,16],[4,7,4,11],[4,13,4,16],[5,7,5,9],[5,10,5,11],[1,0,1,10],[2,0,2,10],[55,3,55,6],[25,2,25,5],[28,4,28,6],[47,8,47,9],[47,2,47,3]]}
["       Dam Breach Analysis DB-IWHR 2014"]
[" Copy Right：Chen ZuYu（Email：chenzuyu@cashq.ac.cn）"]
["                                     Disclaimer: The author assumes No responsibility and makes no guarantees, expressed or implied, on the quality, reliability, or any other characteristic of this software"]
["Project Name",null,"Serial Numbe",null,"Calculated by",null,"Checked by",null," Date",null,"Company "]
[]
["Z0",740,"Elevations of channel bed,m"]
["Qin",80,"Inflow flow,m3/s"]
["Hr",700,"Elevations of dead Water,m",null,null,null,"B0",{"$f":"B7/S51/S52/(B61-C61)^1.5","v":14.399707304778284},"Channel Width, beginning",null,null,null,null,null,"Velocity Criteria"]
[null,null,null,null,null,null,"Bend",{"$f":"H8+(B6-H12)*2","v":40.399707304778282},"Channel Width, ending",null,null,null,null,null,"DB-Excel 2014 角度版"]
[null,null,null,null,null,null,"а1",144,"Channel side inclination, beginning",null,null,null,null,5,"Meyer Peter & Muller"]
["a1",6.3133333333333375E-2,"W~H curve coefficient",null,null,null,"a2",170,"Channel side inclination, ending",null,null,null,null,null,"Englund_Hense"]
["b1",1.9633333333333303,"W~H curve coefficient",null,null,null,"Zend",727,"Elevation ending",null,null,null,null,null,"DB-Excel 2014 论文版"]
["c1",44.000000000000028,"W~H curve coefficient",null,null,null,"n",207,"Row number",null,null,null,null,null,"Du Boys"]
["   Note: obtained by water storage capacity curve worksheet",null,null,null,null,null,null,null,null,null,null,null,null,null,"Einstein-Brown"]
[null,null,null,null,null,null,"D50",5.0000000000000001E-3,"平均粒径（mm）",null,null,null,null,null,"指数模型"]
[null,null,null,null,null,null,"ρs",2650,"颗粒密度（kg/m3)"]
["mq",0.36,"Broad-crested weir flow coefficient",null,null,null,"υ",0.43,"孔隙比"]
["mb",0.9,"Lateral shrinkage coefficient",null,null,null,"Gs",2.65,"颗粒重度"]
["m",0.8,"Ratio of tailwater",null,null,null,"L",36,"冲刷长度（m)"]
[null,null,null,null,null,null,"n",2.5000000000000001E-2,"河道粗率"]
[]
["Vc",2.7,"The incipient velocity,m/s"]
["a2",1.1000000000000001,"Erosion coefficient"]
["b2",6.9999999999999999E-4,"Erosion coefficient"]
["zc",0,"Erosion coefficient"]
[]
[]
[]
[]
[null,"Qp",{"$f":"MAX(G56:G329)","v":7469.9595617843179},"m3/s","Magnitude"]
[null,"tp",{"$f":"INDEX(AJ62:AJ2080,MATCH(MAX(G62:G2080),G62:G2080,0))","v":4.8530425507170731},"h","Time"]
[null,"Error",{"$f":"IF(H13>0,err(H13,B8,B11,B12),\"\")","v":1.3325403491977741E-3},null,"error"]
[]
[]
[]
[]
[]
[]
[]
[]
[]
[]
[]
[]
[]
[]
[]
[null,null,"图1",null,null,null,null,null,"图2"]
[]
[null,null,null,null,null,null,null,null,null,null,"Tc",30]
[null,"Z0",{"$f":"B6","v":740},null,"Hr",{"$f":"B8","v":700},"Ho",742.5,null,null,"Vc",{"$f":"B22","v":2.7},null,null,"mq",{"$f":"B17","v":0.36},null,"c2",{"$f":"1-27.8*(P53-0.67)^3","v":0.93892339999999996},{"$f":"(S54*S53*C55)^2","v":2.8341735671955877},null,null,"Methods",2]
[null,"B",{"$f":"I9","v":"Channel Width, ending"},null,"a1*2",{"$f":"B11*2","v":0.12626666666666675},"H1",704.5,null,null,"a2",{"$f":"B23","v":1.1000000000000001},null,null,"mb",{"$f":"B18","v":0.9},null,"c1",{"$f":"P51*P52*4.427","v":1.434348}]
[null,"Qin",{"$f":"B7","v":80},null,"b1",{"$f":"B12","v":1.9633333333333303},null,null,null,null,"b2",{"$f":"B24","v":6.9999999999999999E-4},{"$f":"1/L53","v":1428.5714285714287},null,"m",{"$f":"B19","v":0.8},null,"c2*mq*mb",{"$f":"P51*P52*S51","v":0.30421118159999999},"Balance Check","Row number","Elevation, begin","Elevatiob end","loss of storage","inflow","Outflow","Error"]
[null,"g",9.8000000000000007,null,"c1",{"$f":"B13","v":44.000000000000028},null,null,null,null,"zc",{"$f":"B25","v":0},null,null,"s/dz",{"$f":"B26","v":0},null,"m-1",{"$f":"1/P53","v":1.25},null,207,{"$f":"B61-B8","v":42.57217838892393},4.3960175796680687,{"$f":"B11*(V54^2-W54^2)+B12*(V54-W54)","v":188.15472478217748},3.254594753473278,192.15162074433553,{"$f":"(Z54-X54-Y54)/Z54","v":3.8631014706476475E-3}]
[null,"Sqrt(2g)",{"$f":"SQRT(2*C54)","v":4.4271887242357311},null,"Dq",{"$f":"(H51-Calculation!F51)^2*0.063+Calculation!F53*(H51-Calculation!F51)+44","v":241.23541666666654},{"$f":"($H$52-Calculation!$F$51)^2*0.063+Calculation!$F$53*($H$52-Calculation!$F$51)+44","v":54.110749999999989},{"$f":"F55-G55","v":187.12466666666654},null,null,"n",{"$f":"H20","v":2.5000000000000001E-2},null,null,null,null,null,"mmqmb",{"$f":"S53*S54","v":0.38026397699999998}]
[null,null,null,null,null,null,null,null,null,null,null,null,null,null,null,null,null,null,null,null,-7.9]
["Symbols","Ho","zo","Vo","B","B平均","Q","dV","h","Qin","Index","V1","Va1","s1","E1","Tau1","A1","D1","A/DE_1","dz1","V2","Va2","s2","A2","Tau2","D2","A/DE_2","dz2","dz","dv/dz","d2z/dz2","H1","z1","V1","dt","T","SumQout","SumQin"]
["Unit","m","m","m/s","m","m","m3","m/s","m",null,null,"m/s","m/s"]
["The formula",null,null,"eq. (22)",null,null,"eq.(21)",null,null,null,null,null,null,"eq.(24)",null,null,null,null,null,null,null,null,null,null,null,null,null,null,"eq.(21)",null,null,null,null,null,"eq.(21)"]
["Initial value",null,null,null,null,null,null,null,null,null,null,{"$f":"(1-$P$54)*O61*R61+C53","v":3032.9439157917141},{"$f":"M61*(B61-C61+N61/2)/$S$54","v":5.8070057967793778},{"$f":"L60/M60","v":522.29049219716887},null,{"$f":"((1-$P$54)*O61*R61+C53)/(M61*(B61-C61+N61/2)/$S$54)","v":522.29049219716887},null,{"$f":"IF(H60>0, rate1(1,$L$52,$L$51,$L$54,L60,$L$53,$L$50,P60),\"\")","v":""},null,null,null,null,null,null,null,{"$f":"IF(H60>0, rate1(1,$L$52,$L$51,$L$54,U60,$L$53,$L$50,Y60),\"\")","v":""}]
[null,{"$f":"(D61/$C$55/$S$54/$S$53)^2+C61","v":742.57217838892393},{"$f":"B6","v":740},{"$f":"$L$51","v":2.7},{"$f":"B7/S51/S52/(B61-C61)^1.5","v":14.399707304778284},{"$f":"E61","v":14.399707304778284},{"$f":"F61*$S$53*$C$55*(B61-C61+N61)^1.5","v":87.295077502206496},0.08,{"$f":"(B61-C61)*B$19","v":2.0577427111391446},{"$f":"$B$7","v":80},1,{"$f":"D61+H61*K61","v":2.7800000000000002},{"$f":"(D61+L61)/2","v":2.74},{"$f":"2*($P$53*M61/$S$52/$S$51)^2-(B61-C61)*2","v":0.15400617541799466},{"$f":"wh(B61,$F$51,$F$52,$F$53)","v":7.3387803912414622},{"$f":"$C$54*$L$55*$L$55*M61*M61/(($B$19*(B61-C61))^0.333)*1000","v":36.161629454736847},{"$f":"M61/$S$54*(B61-C61+N61/2)*E61-J61","v":3.619183790773846},{"$f":"IF(H61>0, rate1(1,$L$52,$L$51,$L$54,L61,$L$53,$L$50,P61),\"\")","v":402.37529376351597},{"$f":"Q61/O61/R61","v":1.2256188718719728E-3},{"$f":"N61/(1-S61)","v":0.15419515991593896},{"$f":"L61-K61*H61","v":2.7},{"$f":"(D61+U61)/2","v":2.7},{"$f":"2*($P$53*V61/$S$52/$S$51)^2-(B61-C61)*2","v":4.386200566734999E-4},{"$f":"V61/$S$54*(B61-C61+W61/2)*F61-J61","v":1.0231702619265093E-2},{"$f":"$C$54*$L$55*$L$55*V61*V61/(($B$19*(B61-C61))^0.333)*1000","v":35.113522127581589},{"$f":"IF(H61>0, rate1(1,$L$52,$L$51,$L$54,U61,$L$53,$L$50,Y61),\"\")","v":350.73454039395028},{"$f":"X61/O61/Z61","v":3.9750763970185162E-6},-1.0000000000000001E-5,{"$f":"delta_z(N61,S61,H61,AE61,AB61)","v":0.15419515991593896},{"$f":"H61/AC61*K61","v":0.51882302948816816},{"$f":"AD61","v":0.51882302948816816},{"$f":"B61-(AC61-N61)","v":742.57198940442595},{"$f":"C61-AC61","v":739.84580484008404},{"$f":"$S$54*$S$53*$C$55*SQRT(AF61-AG61)","v":2.7796546964604167},{"$f":"AC61/R61*1000000","v":383.21229535171847},{"$f":"AI61/3600","v":0.1064478598199218}]
[null,{"$f":"AF61","v":742.57198940442595},{"$f":"AG61","v":739.84580484008404},{"$f":"AH61","v":2.7796546964604167},{"$f":"IF(AND(C62<$B$6,C62>$H$12),bb($B$6,$H$12,C62,$H$8,$H$9,I62,$H$10,$H$11),E61)","v":20.780190925896861},{"$f":"(E62+E61)/2","v":17.589949115337571},{"$f":"F62*$S$53*$C$55*(B62-C62+N62)^1.5","v":116.07053335784136},{"$f":"dv(S61)","v":0.08},{"$f":"(B62-C62)*B$19","v":2.1809476514735251},{"$f":"$B$7","v":80},{"$f":"INT(IF((1-S61-0.015)>0,1,-1))","v":1},{"$f":"D62+K62*H62","v":2.8596546964604168},{"$f":"(D62+L62)/2","v":2.8196546964604168},{"$f":"2*($P$53*M62/$S$52/$S$51)^2-(B62-C62)*2","v":0.1585296347108951},{"$f":"wh(B62,$F$51,$F$52,$F$53)","v":7.3387565287988501},{"$f":"$C$54*$L$55*$L$55*M62*M62/(($B$19*(B62-C62))^0.333)*1000","v":37.560302449797433},{"$f":"M62/$S$54*(B62-C62+N62/2)*E62-J62","v":51.503673315970758},{"$f":"IF(H62>0, rate1(1,$L$52,$L$51,$L$54,L62,$L$53,$L$50,P62),\"\")","v":464.0439605202634},{"$f":"Q62/O62/R62","v":1.5123649374310329E-2},{"$f":"N62/(1-S62)","v":0.16096399777513348},{"$f":"L62-K62*H62","v":2.7796546964604167},{"$f":"(D62+U62)/2","v":2.7796546964604167},{"$f":"2*($P$53*V62/$S$52/$S$51)^2-(B62-C62)*2","v":4.6488191998772521E-4},{"$f":"V62/$S$54*(B62-C62+W62/2)*F62-J62","v":26.644313006711826},{"$f":"$C$54*$L$55*$L$55*V62*V62/(($B$19*(B62-C62))^0.333)*1000","v":36.502190341232676},{"$f":"IF(H62>0, rate1(1,$L$52,$L$51,$L$54,U62,$L$53,$L$50,Y62),\"\")","v":418.10606332910464},{"$f":"X62/O62/Z62","v":8.6835154532295868E-3},{"$f":"W62/(1-AA62)","v":4.6895409007575322E-4},{"$f":"delta_z(N62,S62,H62,AE61,AB62)","v":0.16096399777513348},{"$f":"H62/AC62*K62","v":0.49700554848146794},{"$f":"(AD62-AD61)/(AC62+AC61)*2","v":-0.1384537334503623},{"$f":"B62-(AC62-N62)","v":742.5695550413617},{"$f":"C62-AC62","v":739.68484084230886},{"$f":"$S$54*$S$53*$C$55*SQRT(AF62-AG62)","v":2.8593322178210321},{"$f":"AC62/R62*1000000","v":346.87230406935697},{"$f":"AJ61+AI62/3600","v":0.20280127761696543},{"$f":"AK61+AI61*G61/1000000","v":3.3452547022526716E-2},{"$f":"AL61+AI61*J61/1000000","v":3.0656983628137478E-2}]
[null,{"$f":"IF(H63>0, AF62,\"\")","v":742.5695550413617},{"$f":"IF(H63>0, AG62,\"\")","v":739.68484084230886},{"$f":"IF(H63>0, AH62,\"\")","v":2.8593322178210321},{"$f":"IF(AND(C63<$B$6,C63>$H$12),bb($B$6,$H$12,C63,$H$8,$H$9,I63,$H$10,$H$11),E62)","v":21.532006089576946},{"$f":"IF(H63>0, (E63+E62)/2,\"\")","v":21.156098507736903},{"$f":"IF(H63>0, F63*$S$53*$C$55*(B63-C63+N63)^1.5,\"\")","v":151.60444528373293},0.08,{"$f":"IF(H63>0, (B63-C63)*B$19,\"\")","v":2.3077713592422699},{"$f":"IF(H63>0, $B$7,\"\")","v":80},{"$f":"IF(H63>0, IF((1-S62-0.015)>0,1,-1),\"\")","v":1},{"$f":"IF(H63>0, D63+K63*H63,\"\")","v":2.9393322178210322},{"$f":"IF(H63>0, (D63+L63)/2,\"\")","v":2.8993322178210321},{"$f":"IF(H63>0, 2*($P$53*M63/$S$52/$S$51)^2-(B63-C63)*2,\"\")","v":0.16305515402884829},{"$f":"IF(H63>0, wh(B63,$F$51,$F$52,$F$53),\"\")","v":7.3384491498892706},{"$f":"IF(H63>0, $C$54*$L$55*$L$55*M63*M63/(($B$19*(B63-C63))^0.333)*1000,\"\")","v":38.972553382337964},{"$f":"IF(H63>0, M63/$S$54*(B63-C63+N63/2)*E63-J63,\"\")","v":68.142274949577995},{"$f":"IF(H63>0, rate1(1,$L$52,$L$51,$L$54,L63,$L$53,$L$50,P63),\"\")","v":519.22132895065556},{"$f":"IF(H63>0, Q63/O63/R63,\"\")","v":1.7883800431938209E-2},{"$f":"IF(H63>0, N63/(1-S63),\"\")","v":0.16602429946737518},2.8593322178210321,{"$f":"IF(H63>0, (D63+U63)/2,\"\")","v":2.8593322178210321},{"$f":"IF(H63>0, 2*($P$53*V63/$S$52/$S$51)^2-(B63-C63)*2,\"\")","v":4.9191514507374023E-4},{"$f":"IF(H63>0, V63/$S$54*(B63-C63+W63/2)*F63-J63,\"\")","v":59.61433269129293},{"$f":"IF(H63>0, $C$54*$L$55*$L$55*V63*V63/(($B$19*(B63-C63))^0.333)*1000,\"\")","v":37.904618772873413},{"$f":"IF(H63>0, rate1(1,$L$52,$L$51,$L$54,U63,$L$53,$L$50,Y63),\"\")","v":478.10483923230169},{"$f":"IF(H63>0, X63/O63/Z63,\"\")","v":1.6991168946346349E-2},{"$f":"IF(H63>0, W63/(1-AA63),\"\")","v":5.0041782894917955E-4},{"$f":"IF(H63>0, delta_z(N63,S63,H63,AE62,AB63),\"\")","v":0.16602429946737518},{"$f":"IF(H63>0, H63/AC63*K63,\"\")","v":0.48185717546557399},{"$f":"IF(H63>0, (AD63-AD62)/(AC63+AC62)*2,\"\")","v":-9.2653915407004656E-2},{"$f":"IF(H63>0, B63-(AC63-N63),\"\")","v":742.56658589592314},{"$f":"IF(H63>0, C63-AC63,\"\")","v":739.51881654284148},{"$f":"IF(H63>0, $S$54*$S$53*$C$55*SQRT(AF63-AG63),\"\")","v":2.9390317009880729},{"$f":"IF(H63>0, AC63/R63*1000000,\"\")","v":319.75631625709542},{"$f":"IF(H63>0, AJ62+AI63/3600,\"\")","v":0.2916224765772697},{"$f":"IF(H63>0, AK62+AI62*G62/1000000,\"\")","v":7.3714200362920312E-2},{"$f":"IF(H63>0, AL62+AI62*J62/1000000,\"\")","v":5.8406767953686031E-2}]
[null,{"$f":"IF(H64>0, AF63,\"\")","v":742.56658589592314},{"$f":"IF(H64>0, AG63,\"\")","v":739.51881654284148},{"$f":"IF(H64>0, AH63,\"\")","v":2.9390317009880729},{"$f":"IF(AND(C64<$B$6,C64>$H$12),bb($B$6,$H$12,C64,$H$8,$H$9,I64,$H$10,$H$11),E63)","v":22.316609862971742},{"$f":"IF(H64>0, (E64+E63)/2,\"\")","v":21.924307976274342},{"$f":"IF(H64>0, F64*$S$53*$C$55*(B64-C64+N64)^1.5,\"\")","v":170.24403210410625},0.08,{"$f":"IF(H64>0, (B64-C64)*B$19,\"\")","v":2.4382154824653299},{"$f":"IF(H64>0, $B$7,\"\")","v":80},{"$f":"IF(H64>0, IF((1-S63-0.015)>0,1,-1),\"\")","v":1},{"$f":"IF(H64>0, D64+K64*H64,\"\")","v":3.0190317009880729},{"$f":"IF(H64>0, (D64+L64)/2,\"\")","v":2.9790317009880729},{"$f":"IF(H64>0, 2*($P$53*M64/$S$52/$S$51)^2-(B64-C64)*2,\"\")","v":0.16758268499398277},{"$f":"IF(H64>0, wh(B64,$F$51,$F$52,$F$53),\"\")","v":7.3380742457918959},{"$f":"IF(H64>0, $C$54*$L$55*$L$55*M64*M64/(($B$19*(B64-C64))^0.333)*1000,\"\")","v":40.398137060018719},{"$f":"IF(H64>0, M64/$S$54*(B64-C64+N64/2)*E64-J64,\"\")","v":86.553654545131138},{"$f":"IF(H64>0, rate1(1,$L$52,$L$51,$L$54,L64,$L$53,$L$50,P64),\"\")","v":568.86646033204556},{"$f":"IF(H64>0, Q64/O64/R64,\"\")","v":2.0734471929651971E-2},{"$f":"IF(H64>0, N64/(1-S64),\"\")","v":0.17113099582317171},2.9390317009880729,{"$f":"IF(H64>0, (D64+U64)/2,\"\")","v":2.9390317009880729},{"$f":"IF(H64>0, 2*($P$53*V64/$S$52/$S$51)^2-(B64-C64)*2,\"\")","v":5.1972008317768825E-4},{"$f":"IF(H64>0, V64/$S$54*(B64-C64+W64/2)*F64-J64,\"\")","v":77.122824170474075},{"$f":"IF(H64>0, $C$54*$L$55*$L$55*V64*V64/(($B$19*(B64-C64))^0.333)*1000,\"\")","v":39.320554153251415},{"$f":"IF(H64>0, rate1(1,$L$52,$L$51,$L$54,U64,$L$53,$L$50,Y64),\"\")","v":531.86189455333795},{"$f":"IF(H64>0, X64/O64/Z64,\"\")","v":1.9760682797972523E-2},{"$f":"IF(H64>0, W64/(1-AA64),\"\")","v":5.3019714069536133E-4},{"$f":"IF(H64>0, delta_z(N64,S64,H64,AE63,AB64),\"\")","v":0.17113099582317171},{"$f":"IF(H64>0, H64/AC64*K64,\"\")","v":0.4674781421985259},{"$f":"IF(H64>0, (AD64-AD63)/(AC64+AC63)*2,\"\")","v":-8.5296203072574128E-2},{"$f":"IF(H64>0, B64-(AC64-N64),\"\")","v":742.56303758509398},{"$f":"IF(H64>0, C64-AC64,\"\")","v":739.34768554701827},{"$f":"IF(H64>0, $S$54*$S$53*$C$55*SQRT(AF64-AG64),\"\")","v":3.0187523508135992},{"$f":"IF(H64>0, AC64/R64*1000000,\"\")","v":300.82806380127084},{"$f":"IF(H64>0, AJ63+AI64/3600,\"\")","v":0.37518582763317826},{"$f":"IF(H64>0, AK63+AI63*G63/1000000,\"\")","v":0.12219067931504714},{"$f":"IF(H64>0, AL63+AI63*J63/1000000,\"\")","v":8.3987273254253661E-2}]
[null,742.56303758509398,739.34768554701827,3.0187523508135992,{"$f":"IF(AND(C65<$B$6,C65>$H$12),bb($B$6,$H$12,C65,$H$8,$H$9,I65,$H$10,$H$11),E64)","v":23.135308551047284},22.725959207009513,190.82598230926612,0.08,2.5722816304605658,80,1,3.0987523508135992,3.0587523508135992,0.17211218305634191,7.3376262124111999,41.836819308620058,106.8997908969576,{"$f":"IF(H65>0, rate1(1,$L$52,$L$51,$L$54,L65,$L$53,$L$50,P65),\"\")","v":613.75911620962563},2.3736862573631601E-2,0.17629691878981033,3.0187523508135992,3.0187523508135992,5.4829707733095034E-4,96.483965178466775,40.749754787086658,{"$f":"IF(H65>0, rate1(1,$L$52,$L$51,$L$54,U65,$L$53,$L$50,Y65),\"\")","v":580.2890360670574},2.2659754151493124E-2,5.6100941269939214E-4,0.17629691878981033,0.45377991033059323,-7.8855102263108851E-2,742.55885284936051,739.17138862822844,3.0984934331628464,287.24122238470704,0.45497505607337463,0.1734048618666468,0.10805351835835533]
[null,742.55885284936051,739.17138862822844,3.0984934331628464,{"$f":"IF(AND(C66<$B$6,C66>$H$12),bb($B$6,$H$12,C66,$H$8,$H$9,I66,$H$10,$H$11),E65)","v":23.989536914898697},23.562422732972991,213.52533113393537,0.08,2.709971376905651,80,1,3.1784934331628465,3.1384934331628465,0.17664360710310323,7.3370978197792533,43.288376204387873,129.35633579035957,{"$f":"IF(H66>0, rate1(1,$L$52,$L$51,$L$54,L66,$L$53,$L$50,P66),\"\")","v":654.53973262620957},2.6935645091701925E-2,0.18153332429873065,3.0984934331628464,3.0984934331628464,5.7764646297453481E-4,117.86649222415571,42.191989734269853,{"$f":"IF(H66>0, rate1(1,$L$52,$L$51,$L$54,U66,$L$53,$L$50,Y66),\"\")","v":624.129444429876},2.5738982698584652E-2,5.9290729354495304E-4,0.18153332429873065,0.44069043691588144,-7.3160241022293612E-2,742.55396313216488,738.98985530392974,3.1782542688430229,277.34500329012042,0.53201533476507479,0.22821795028792288,0.1310328161491319]
[null,742.55396313216488,738.98985530392974,3.1782542688430229,{"$f":"IF(AND(C67<$B$6,C67>$H$12),bb($B$6,$H$12,C67,$H$8,$H$9,I67,$H$10,$H$11),E66)","v":24.880865760540235},24.435201337719466,238.53185926325193,0.08,2.8512862625881099,80,1,3.2582542688430229,3.2182542688430229,0.18117691911637657,7.3364804114880195,44.752593377940784,154.1138576467165,{"$f":"IF(H67>0, rate1(1,$L$52,$L$51,$L$54,L67,$L$53,$L$50,P67),\"\")","v":691.73916150917807},3.0367676618474955E-2,0.18685115455365051,3.1782542688430229,3.1782542688430229,6.077685685346168E-4,141.45342927821866,43.647038068453355,{"$f":"IF(H67>0, rate1(1,$L$52,$L$51,$L$54,U67,$L$53,$L$50,Y67),\"\")","v":663.99488025401115},2.9037617992606058E-2,6.2594450598394921E-4,0.18685115455365051,0.42814827765503388,-6.8092767099850876E-2,742.54828889672763,738.80300414937608,3.2580342282678001,270.11793599482559,0.60704809476363741,0.28743813395378826,0.15322041641234152]
[null,742.54828889672763,738.80300414937608,3.2580342282678001,{"$f":"IF(AND(C68<$B$6,C68>$H$12),bb($B$6,$H$12,C68,$H$8,$H$9,I68,$H$10,$H$11),E67)","v":25.811014110197959},25.345939935369096,266.05146248614096,0.08,2.9962277978812382,80,1,3.3380342282678002,3.2980342282678001,0.1857120838725077,7.3357639446934755,46.229265381455782,181.37925462750968,{"$f":"IF(H68>0, rate1(1,$L$52,$L$51,$L$54,L68,$L$53,$L$50,P68),\"\")","v":725.80110962497042},3.4066274154623578E-2,0.1922617244883692,3.2580342282678001,3.2580342282678001,6.3866371595633353E-4,167.44341470503505,45.114688203965315,{"$f":"IF(H68>0, rate1(1,$L$52,$L$51,$L$54,U68,$L$53,$L$50,Y68),\"\")","v":700.39346029507476},3.2589720953260778E-2,6.6017875744059287E-4,0.1922617244883692,0.41609946136127357,-6.3563212751866743E-2,742.54173925611178,738.61074242488769,3.3378327267532351,264.89588117013631,0.6806302839775642,0.35186986744698612,0.17482985129192757]
[null,742.54173925611178,738.61074242488769,3.3378327267532351,{"$f":"IF(AND(C69<$B$6,C69>$H$12),bb($B$6,$H$12,C69,$H$8,$H$9,I69,$H$10,$H$11),E68)","v":26.781864972853562},26.296439541525761,296.3077093154493,0.08,3.1447974649792743,80,1,3.4178327267532351,3.3778327267532351,0.19024906867696068,7.3349369434050482,47.718195111996607,211.37736032737973,{"$f":"IF(H69>0, rate1(1,$L$52,$L$51,$L$54,L69,$L$53,$L$50,P69),\"\")","v":757.09928420729},3.8063546453545254E-2,0.19777716914204976,3.3378327267532351,3.3378327267532351,6.7033222117895974E-4,196.05220911799017,46.594737283245962,{"$f":"IF(H69>0, rate1(1,$L$52,$L$51,$L$54,U69,$L$53,$L$50,Y69),\"\")","v":733.75067854281338},3.6427288032616925E-2,6.9567372846238357E-4,0.19777716914204976,0.40449562680584983,-5.9500910011394632E-2,742.53421115564674,738.41296525574569,3.417649220357871,261.23016263201134,0.75319421804201181,0.42234580403885591,0.19602152178553847]
[null,742.53421115564674,738.41296525574569,3.417649220357871,{"$f":"IF(AND(C70<$B$6,C70>$H$12),bb($B$6,$H$12,C70,$H$8,$H$9,I70,$H$10,$H$11),E69)","v":27.795484572105444},27.288674772479503,329.54361471450409,0.08,3.2969967199208443,80,1,3.4976492203578711,3.457649220357871,0.19478784312990349,7.333986395252996,49.219193284805066,244.35277386987991,{"$f":"IF(H70>0, rate1(1,$L$52,$L$51,$L$54,L70,$L$53,$L$50,P70),\"\")","v":785.95064658687386},4.2391803937444794E-2,0.20341079361143968,3.417649220357871,3.417649220357871,7.0277439456845059E-4,227.51441150846188,48.086990618062643,{"$f":"IF(H70>0, rate1(1,$L$52,$L$51,$L$54,U70,$L$53,$L$50,Y70),\"\")","v":764.42551375126232},4.0582017863861675E-2,7.3250075322095552E-4,0.20341079361143968,0.39329279719943466,-5.5848283829486485E-2,742.52558820516526,738.20955446213429,3.4974832021930591,258.80860903262322,0.82508549832885159,0.4997503151324495,0.21691993479609939]
[null,742.52558820516526,738.20955446213429,3.4974832021930591,{"$f":"IF(AND(C71<$B$6,C71>$H$12),bb($B$6,$H$12,C71,$H$8,$H$9,I71,$H$10,$H$11),E70)","v":28.854145306583295},28.324814939344371,366.02366723065569,0.08,3.4528269944247771,80,1,3.5774832021930592,3.5374832021930591,0.19932837891824562,7.3328976040388678,50.732077951174695,280.57195487770315,{"$f":"IF(H71>0, rate1(1,$L$52,$L$51,$L$54,L71,$L$53,$L$50,P71),\"\")","v":812.62576666960092},4.7084509303792023E-2,0.20917739386586595,3.4974832021930591,3.4974832021930591,7.3599054129758201E-4,262.08541969753099,49.591261178641545,{"$f":"IF(H71>0, rate1(1,$L$52,$L$51,$L$54,U71,$L$53,$L$50,Y71),\"\")","v":792.72291275835312},4.50864279823548E-2,7.7074047627420487E-4,0.20917739386586595,0.38245050538921826,-5.2557451421523196E-2,742.51573919021769,738.00037706826845,3.5773341991411298,257.40925582896722,0.89658806939245361,0.58503903967229298,0.23762462351870925]
[null,742.51573919021769,738.00037706826845,3.5773341991411298,{"$f":"IF(AND(C72<$B$6,C72>$H$12),bb($B$6,$H$12,C72,$H$8,$H$9,I72,$H$10,$H$11),E71)","v":29.960352995138255},29.407249150860775,406.0361566306986,0.08,3.6122896975593903,80,1,3.6573341991411299,3.6173341991411299,0.20387064963075652,7.3316540017514873,52.256674056215182,320.32563389495726,{"$f":"IF(H72>0, rate1(1,$L$52,$L$51,$L$54,L72,$L$53,$L$50,P72),\"\")","v":837.35699186717045},5.2176997217950591E-2,0.2150935871279295,3.5773341991411298,3.5773341991411298,7.6998096172076202E-4,300.0436805392099,51.107369125614049,{"$f":"IF(H72>0, rate1(1,$L$52,$L$51,$L$54,U72,$L$53,$L$50,Y72),\"\")","v":818.90356629188943},4.9974649901392644E-2,8.1048464826843024E-4,0.2150935871279295,0.37193112574025294,-4.9588023316254837E-2,742.50451625272046,737.78528348114048,3.6572017689286924,256.87202616927533,0.96794140999503009,0.67925691946992561,0.25821736398502665]
[null,742.50451625272046,737.78528348114048,3.6572017689286924,{"$f":"IF(AND(C73<$B$6,C73>$H$12),bb($B$6,$H$12,C73,$H$8,$H$9,I73,$H$10,$H$11),E72)","v":31.116879204380567},30.538616099759409,449.89586090784508,0.08,3.7753862172639856,80,1,3.7372017689286925,3.6972017689286925,0.20841463059312382,7.3302369188435046,53.792813032406265,363.93160139509871,{"$f":"IF(H73>0, rate1(1,$L$52,$L$51,$L$54,L73,$L$53,$L$50,P73),\"\")","v":860.34495019160477},5.7707085782085894E-2,0.22117817872599005,3.6572017689286924,3.6572017689286924,8.0474595169022223E-4,341.69328661754258,52.635141380323198,{"$f":"IF(H73>0, rate1(1,$L$52,$L$51,$L$54,U73,$L$53,$L$50,Y73),\"\")","v":843.19163824354212},5.528306885579766E-2,8.5183818047544356E-4,0.22117817872599005,0.36169933426890732,-4.6905586252270162E-2,742.49175270458761,737.56410530241453,3.7370854975099173,257.08081238430253,1.0393527467684474,0.7835562497216384,0.27876712607856868]
[null,742.49175270458761,737.56410530241453,3.7370854975099173,{"$f":"IF(AND(C74<$B$6,C74>$H$12),bb($B$6,$H$12,C74,$H$8,$H$9,I74,$H$10,$H$11),E73)","v":32.326799722472053},31.72183946342631,497.94716636211945,0.08,3.9421179217384634,80,1,3.8170854975099173,3.7770854975099173,0.21296029872051392,7.3286253081659298,55.340332425336854,411.73795454568665,{"$f":"IF(H74>0, rate1(1,$L$52,$L$51,$L$54,L74,$L$53,$L$50,P74),\"\")","v":881.76377064875476},6.3715652328311875E-2,0.22745258878896618,3.7370854975099173,3.7370854975099173,8.4028580284112309E-4,387.36699044753897,54.174411229582169,{"$f":"IF(H74>0, rate1(1,$L$52,$L$51,$L$54,U74,$L$53,$L$50,Y74),\"\")","v":865.78093121757024},6.1050900643807048E-2,8.9492157074039463E-4,0.22745258878896618,0.35172165076663586,-4.4480602868767045E-2,742.47726041451915,737.33665271362554,3.8169849967212022,257.95184193337712,1.1110060361943854,0.89921584313216241,0.2993335910693129]
[null,742.47726041451915,737.33665271362554,3.8169849967212022,{"$f":"IF(AND(C75<$B$6,C75>$H$12),bb($B$6,$H$12,C75,$H$8,$H$9,I75,$H$10,$H$11),E74)","v":33.593540566178639},32.960170144325346,550.56771356200693,0.08,4.112486160714889,80,1,3.8969849967212022,3.8569849967212022,0.21750763238542525,7.3267954150066181,56.899075548455968,464.12690171856013,{"$f":"IF(H75>0, rate1(1,$L$52,$L$51,$L$54,L75,$L$53,$L$50,P75),\"\")","v":901.76530658018714},7.024722194980236E-2,0.23394136325310549,3.8169849967212022,3.8169849967212022,8.7660080287399467E-4,437.42972557542589,55.725017961448962,{"$f":"IF(H75>0, rate1(1,$L$52,$L$51,$L$54,U75,$L$53,$L$50,Y75),\"\")","v":886.83984525377673},6.7320763032561612E-2,9.3987382599426141E-4,0.23394136325310549,0.34196603322964531,-4.2287583067846551E-2,742.46082668365148,737.10271135037249,3.8968999021741224,259.42599648271442,1.1830688129951394,1.0276622318807769,0.31996973842398307]
[null,742.46082668365148,737.10271135037249,3.8968999021741224,{"$f":"IF(AND(C76<$B$6,C76>$H$12),bb($B$6,$H$12,C76,$H$8,$H$9,I76,$H$10,$H$11),E75)","v":34.920933322529926},34.257236944354283,608.17268696607277,0.08,4.286492266623191,80,1,3.9768999021741225,3.9368999021741224,0.22205661129900278,7.3247203825890601,58.468891164034012,521.51925209604553,{"$f":"IF(H76>0, rate1(1,$L$52,$L$51,$L$54,L76,$L$53,$L$50,P76),\"\")","v":920.48257715947318},7.7350606305222031E-2,0.24067279815767312,3.8968999021741224,3.8968999021741224,9.1369123581230838E-4,492.2827480047838,57.286806528988237,{"$f":"IF(H76>0, rate1(1,$L$52,$L$51,$L$54,U76,$L$53,$L$50,Y76),\"\")","v":906.51539648661299},7.4139282921817581E-2,9.8685603456178782E-4,0.24067279815767312,0.3324015036696803,-4.0304442377086622E-2,742.44221049679277,736.86203855221481,3.9768298713584977,261.46371928121425,1.2556976239065878,1.1704938096028101,0.34072381814260022]
[null,742.44221049679277,736.86203855221481,3.9768298713584977,{"$f":"IF(AND(C77<$B$6,C77>$H$12),bb($B$6,$H$12,C77,$H$8,$H$9,I77,$H$10,$H$11),E76)","v":36.313282174074963},35.617107748302445,671.21989902134555,0.08,4.4641375556623641,80,1,4.0568298713584978,4.0168298713584978,0.22660721640412618,7.3223697787283673,60.049633187861396,584.37975411238074,{"$f":"IF(H77>0, rate1(1,$L$52,$L$51,$L$54,L77,$L$53,$L$50,P77),\"\")","v":938.03259076259985},8.5079626911681625E-2,0.24767971407086756,3.9768298713584977,3.9768298713584977,9.5155738220498165E-4,552.36854316874883,58.859627239349422,{"$f":"IF(H77>0, rate1(1,$L$52,$L$51,$L$54,U77,$L$53,$L$50,Y77),\"\")","v":924.93649718930601},8.1557774105360095E-2,1.0360557859565797E-3,0.24767971407086756,0.32299778889889197,-3.8511995066332537E-2,742.42113799912602,736.61435883814397,4.0567745819305125,264.04169376408277,1.3290425388410552,1.3295089023022091,0.36164091568509737]
[null,742.42113799912602,736.61435883814397,4.0567745819305125,{"$f":"IF(AND(C78<$B$6,C78>$H$12),bb($B$6,$H$12,C78,$H$8,$H$9,I78,$H$10,$H$11),E77)","v":37.775445694928194},37.044363934501575,740.21586379108703,0.08,4.645423328785637,80,1,4.1367745819305126,4.0967745819305126,0.23115942977900694,7.3197090246896455,61.641160415474452,653.22349544320525,{"$f":"IF(H78>0, rate1(1,$L$52,$L$51,$L$54,L78,$L$53,$L$50,P78),\"\")","v":954.5186758991473},9.349395890765011E-2,0.25500042945158674,4.0567745819305125,4.0567745819305125,9.9019951935908068E-4,618.1766862345653,60.44333546577878,{"$f":"IF(H78>0, rate1(1,$L$52,$L$51,$L$54,U78,$L$53,$L$50,Y78),\"\")","v":942.21665079244588},8.9633020173975078E-2,1.0876927011877256E-3,0.25500042945158674,0.3137249618443817,-3.6893548209532806E-2,742.39729699945349,736.3593584086924,4.1367337301650506,267.15080164500586,1.4032510948535568,1.5067389413279617,0.38276425118622398]
[null,742.39729699945349,736.3593584086924,4.1367337301650506,{"$f":"IF(AND(C79<$B$6,C79>$H$12),bb($B$6,$H$12,C79,$H$8,$H$9,I79,$H$10,$H$11),E78)","v":39.31293751604592},38.544191605487057,815.72311513519924,0.08,4.8303508726088698,80,1,4.2167337301650507,4.1767337301650507,0.2357132345499835,7.3166987011309939,63.243336267960125,728.62364401096499,{"$f":"IF(H79>0, rate1(1,$L$52,$L$51,$L$54,L79,$L$53,$L$50,P79),\"\")","v":970.03241701613467},0.10266013730947729,0.26267999935190328,4.1367337301650506,4.1367337301650506,1.029617921531667E-3,690.25090122826202,62.03779138046626,{"$f":"IF(H79>0, rate1(1,$L$52,$L$51,$L$54,U79,$L$53,$L$50,Y79),\"\")","v":958.45618002857691},9.842820135299532E-2,1.1420254305611844E-3,0.26267999935190328,0.30455306912357183,-3.5434573959107485E-2,742.37033023465153,736.09667840934048,4.2167070295533842,270.79507317901738,1.4784719485143949,1.7044882027301012,0.40413631531782446]
[null,742.37033023465153,736.09667840934048,4.2167070295533842,{"$f":"IF(AND(C80<$B$6,C80>$H$12),bb($B$6,$H$12,C80,$H$8,$H$9,I80,$H$10,$H$11),E79)","v":40.932051364435182},40.122494440240551,885.98300749008013,0.06,5.0189214602488397,80,1,4.2767070295533838,4.2467070295533844,0.18025719434919019,7.3132936976286675,64.551662541581081,804.95458705656699,{"$f":"IF(H80>0, rate1(1,$L$52,$L$51,$L$54,L80,$L$53,$L$50,P80),\"\")","v":981.96730847076776},0.11208857171685838,0.20301258504773842,4.2167070295533842,4.2167070295533842,1.069812860077235E-3,769.197643728868,63.642859706341483,{"$f":"IF(H80>0, rate1(1,$L$52,$L$51,$L$54,U80,$L$53,$L$50,Y80),\"\")","v":973.74407985577693},0.10801401265067134,1.1993606124422937E-3,0.20301258504773842,0.29554817986230258,-3.8673105662088668E-2,742.347574843953,735.89366582429273,4.2768561290516116,206.74067588247203,1.5358999140373037,1.9253820033869535,0.42579992117214582]
[null,742.347574843953,735.89366582429273,4.2768561290516116,{"$f":"IF(AND(C81<$B$6,C81>$H$12),bb($B$6,$H$12,C81,$H$8,$H$9,I81,$H$10,$H$11),E80)","v":42.208350198824064},41.570200781629623,957.23356879761559,0.06,5.1631272157282186,80,1,4.3368561290516112,4.3068561290516119,0.18283488583186447,7.3104204502964656,65.769849902375029,871.87526448376718,{"$f":"IF(H81>0, rate1(1,$L$52,$L$51,$L$54,L81,$L$53,$L$50,P81),\"\")","v":992.53459270053474},0.12016177886399496,0.20780511853167369,4.2768561290516116,4.2768561290516116,1.1005511716728478E-3,838.02945652769995,64.856783153065464,{"$f":"IF(H81>0, rate1(1,$L$52,$L$51,$L$54,U81,$L$53,$L$50,Y81),\"\")","v":984.66189502526572},0.11642059028313662,1.2455600023833866E-3,0.20780511853167369,0.28873206023005055,-3.3183183552528986E-2,742.32260461125315,735.685860705761,4.3370132751920734,209.36813694953219,1.5940577298566183,2.1085507291758381,0.44233917524274358]
[null,742.32260461125315,735.685860705761,4.3370132751920734,{"$f":"IF(AND(C82<$B$6,C82>$H$12),bb($B$6,$H$12,C82,$H$8,$H$9,I82,$H$10,$H$11),E81)","v":43.538467842037619},42.873409020430842,1028.9015359591735,0.06,5.3093951243937232,80,1,4.397013275192073,4.3670132751920736,0.18541335760169275,7.3072675422475655,66.993877800440686,943.5928633100599,{"$f":"IF(H82>0, rate1(1,$L$52,$L$51,$L$54,L82,$L$53,$L$50,P82),\"\")","v":1002.6605621159013},0.12878809103790109,0.21282234057450075,4.3370132751920734,4.3370132751920734,1.1317290434433858E-3,907.3266115567252,66.076585909382445,{"$f":"IF(H82>0, rate1(1,$L$52,$L$51,$L$54,U82,$L$53,$L$50,Y82),\"\")","v":995.11705933510029},0.12477697962121689,1.2930750415517988E-3,0.21282234057450075,0.28192528960086477,-3.2364842008413039E-2,742.29519562828034,735.47303836518654,4.3971783891845737,212.25761600255285,1.6530181787462164,2.3089649381005466,0.45908862619870616]
[null,742.29519562828034,735.47303836518654,4.3971783891845737,{"$f":"IF(AND(C83<$B$6,C83>$H$12),bb($B$6,$H$12,C83,$H$8,$H$9,I83,$H$10,$H$11),E82)","v":44.926333400301743},44.232400621169681,1105.6932881072416,0.06,5.4577258104750399,80,1,4.4571783891845733,4.427178389184574,0.18799260645544535,7.3038067013308643,68.22369484379611,1020.4811610030299,{"$f":"IF(H83>0, rate1(1,$L$52,$L$51,$L$54,L83,$L$53,$L$50,P83),\"\")","v":1012.371575340678},0.13801165947891603,0.21809182052485906,4.3971783891845737,4.3971783891845737,1.1633466084415289E-3,981.60593094025126,67.302215708792346,{"$f":"IF(H83>0, rate1(1,$L$52,$L$51,$L$54,U83,$L$53,$L$50,Y83),\"\")","v":1005.1376110003449},0.13370953511615463,1.3429059369798252E-3,0.21809182052485906,0.27511348135663316,-3.1615615633763999E-2,742.26509641421092,735.25494654466172,4.457351395431588,215.42665345129623,1.7128589158160208,2.5273571252246056,0.47606923547891039]
[null,742.26509641421092,735.25494654466172,4.457351395431588,{"$f":"IF(AND(C84<$B$6,C84>$H$12),bb($B$6,$H$12,C84,$H$8,$H$9,I84,$H$10,$H$11),E83)","v":46.376373808542098},45.651353604421921,1188.0124161327897,0.06,5.6081198956393568,80,1,4.5173513954315876,4.4873513954315882,0.19057262932452623,7.300006173901032,69.459250813750714,1102.953293679936,{"$f":"IF(H84>0, rate1(1,$L$52,$L$51,$L$54,L84,$L$53,$L$50,P84),\"\")","v":1021.6919532920201},0.14788152536172444,0.22364569598778428,4.457351395431588,4.457351395431588,1.1954039991888266E-3,1061.2606664265973,68.533621489156005,{"$f":"IF(H84>0, rate1(1,$L$52,$L$51,$L$54,U84,$L$53,$L$50,Y84),\"\")","v":1014.7493891764697},0.14326497959172499,1.395301896984624E-3,0.22364569598778428,0.26828148753319736,-3.0932368513192633E-2,742.23202334754762,735.03130084867394,4.5175322213591755,218.89738415494972,1.7736637447479513,2.7655529300251085,0.4933033677550141]
[null,742.23202334754762,735.03130084867394,4.5175322213591755,{"$f":"IF(AND(C85<$B$6,C85>$H$12),bb($B$6,$H$12,C85,$H$8,$H$9,I85,$H$10,$H$11),E84)","v":47.89360336755437},47.13498858804823,1276.3061219964468,0.06,5.7605779990989507,80,1,4.5775322213591751,4.5475322213591749,0.19315342326785867,7.2958301480170134,70.700496622955328,1191.4680137425003,{"$f":"IF(H85>0, rate1(1,$L$52,$L$51,$L$54,L85,$L$53,$L$50,P85),\"\")","v":1030.6441715337371},0.15845243639531101,0.22952169505488715,4.5175322213591755,4.5175322213591755,1.2279013476739209E-3,1146.7265193277365,69.770753349249475,{"$f":"IF(H85>0, rate1(1,$L$52,$L$51,$L$54,U85,$L$53,$L$50,Y85),\"\")","v":1023.9762445231537},0.15349536289763607,1.4505547800388913E-3,0.22952169505488715,0.26141319662897999,-3.0312379222231504E-2,742.19565507576056,734.80177915361901,4.5777207972589888,222.69732017533076,1.835524111463321,3.0256057402601777,0.5108151584874101]
[null,742.19565507576056,734.80177915361901,4.5777207972589888,{"$f":"IF(AND(C86<$B$6,C86>$H$12),bb($B$6,$H$12,C86,$H$8,$H$9,I86,$H$10,$H$11),E85)","v":49.483734657840387},48.688669012697375,1371.0723693269524,0.06,5.9151007377132379,80,1,4.6377207972589884,4.6077207972589882,0.19573498546520085,7.2912380475660337,71.947384275484978,1286.5373509489586,{"$f":"IF(H86>0, rate1(1,$L$52,$L$51,$L$54,L86,$L$53,$L$50,P86),\"\")","v":1039.2490312870759},0.16978585006817934,0.23576445364280424,4.5777207972589888,4.5777207972589888,1.2608387853809688E-3,1238.4885907160822,71.013562507440952,{"$f":"IF(H86>0, rate1(1,$L$52,$L$51,$L$54,U86,$L$53,$L$50,Y86),\"\")","v":1032.8402260746834},0.16445897854402408,1.5090088373924337E-3,0.23576445364280424,0.25449129023878725,-2.9753330975214948E-2,742.15562560758292,734.56601469997622,4.6379170561404202,226.86040260323136,1.8985408899642184,3.3098356933521553,0.52863094410143652]
[null,742.15562560758292,734.56601469997622,4.6379170561404202,{"$f":"IF(AND(C87<$B$6,C87>$H$12),bb($B$6,$H$12,C87,$H$8,$H$9,I87,$H$10,$H$11),E86)","v":51.153317316538278},50.318525987189332,1472.8686873781623,0.06,6.0716887260853589,80,1,4.6979170561404198,4.6679170561404195,0.19831731321091084,7.2861836600508036,73.199866828828689,1388.7360873049122,{"$f":"IF(H87>0, rate1(1,$L$52,$L$51,$L$54,L87,$L$53,$L$50,P87),\"\")","v":1047.5258118088318},0.18195117891705398,0.242427234291928,4.6379170561404202,4.6379170561404202,1.2942164433145109E-3,1337.0899374621952,72.262001262358893,{"$f":"IF(H87>0, rate1(1,$L$52,$L$51,$L$54,U87,$L$53,$L$50,Y87),\"\")","v":1041.3617474671491},0.17622149677511212,1.5710733385830968E-3,0.242427234291928,0.24749694552778137,-2.9253309446736046E-2,742.11151568650189,734.32358746568434,4.6981209335922438,231.42841117519856,1.9628265597351069,3.620877723055834,0.54677977630969499]
[null,742.11151568650189,734.32358746568434,4.6981209335922438,{"$f":"IF(AND(C88<$B$6,C88>$H$12),bb($B$6,$H$12,C88,$H$8,$H$9,I88,$H$10,$H$11),E87)","v":52.909913598431899},52.031615457485088,1582.3231273066476,0.06,6.2303425766540386,80,1,4.7581209335922434,4.7281209335922441,0.20090040390809349,7.2806140473489727,74.457898357674608,1498.71360633413,{"$f":"IF(H88>0, rate1(1,$L$52,$L$51,$L$54,L88,$L$53,$L$50,P88),\"\")","v":1055.4924064606498},0.19502735358678699,0.24957419957468494,4.6981209335922438,4.6981209335922438,1.328034452022564E-3,1443.1422185380345,73.516022955433186,{"$f":"IF(H88>0, rate1(1,$L$52,$L$51,$L$54,U88,$L$53,$L$50,Y88),\"\")","v":1049.5597351322278},0.18885738042579303,1.6372391487944364E-3,0.24957419957468494,0.24040946581116865,-2.8810809191804981E-2,742.06284189083533,734.07401326610966,4.758332367652871,236.45286128734401,2.0285079100927024,3.9617413832454624,0.56529404920371085]
[null,742.06284189083533,734.07401326610966,4.758332367652871,{"$f":"IF(AND(C89<$B$6,C89>$H$12),bb($B$6,$H$12,C89,$H$8,$H$9,I89,$H$10,$H$11),E88)","v":54.762323185879687},53.836118392155797,1700.1480585719335,0.06,6.3910628997805361,80,1,4.8183323676528707,4.7883323676528704,0.20348425506315948,7.2744681694161413,75.721433919380615,1617.2088946413658,{"$f":"IF(H89>0, rate1(1,$L$52,$L$51,$L$54,L89,$L$53,$L$50,P89),\"\")","v":1063.1654444680885},0.20910480901438319,0.25728346484137371,4.758332367652871,4.758332367652871,1.3622929416037266E-3,1557.3390992984168,74.77558193519441,{"$f":"IF(H89>0, rate1(1,$L$52,$L$51,$L$54,U89,$L$53,$L$50,Y89),\"\")","v":1057.4517606971069},0.2024516752310011,1.7081008125724541E-3,0.25728346484137371,0.23320581459439133,-2.8424750072888874E-2,742.00904268105717,733.81672980126825,4.8185512986886119,241.9975801321261,2.0957294601294039,4.3358862141782577,0.58421027810669834]
[null,742.00904268105717,733.81672980126825,4.8185512986886119,{"$f":"IF(AND(C90<$B$6,C90>$H$12),bb($B$6,$H$12,C90,$H$8,$H$9,I90,$H$10,$H$11),E89)","v":56.720874971387545},55.741599078633612,1827.1577696846098,0.06,6.5538503038311324,80,1,4.8785512986886115,4.8485512986886121,0.20606886428065962,7.2676751225281517,76.990429521032851,1745.0697943613422,{"$f":"IF(H90>0, rate1(1,$L$52,$L$51,$L$54,L90,$L$53,$L$50,P90),\"\")","v":1070.5604000931062},0.22428804276819758,0.26565126701931324,4.8185512986886119,4.8185512986886119,1.3969920417338244E-3,1680.4733497327579,76.040633523227697,{"$f":"IF(H90>0, rate1(1,$L$52,$L$51,$L$54,U90,$L$53,$L$50,Y90),\"\")","v":1065.0541595179868},0.21710230342522557,1.7843864502932508E-3,0.26565126701931324,0.2258600181855632,-2.8094505724225224E-2,741.9494602783185,733.55107853424897,4.8787776692794509,248.14225054112748,2.1646578630574949,4.7473179302189976,0.60357008451726846]
[null,741.9494602783185,733.55107853424897,4.8787776692794509,{"$f":"IF(AND(C91<$B$6,C91>$H$12),bb($B$6,$H$12,C91,$H$8,$H$9,I91,$H$10,$H$11),E90)","v":58.797811508882432},57.759343240134989,1964.2912505720919,0.06,6.7187053952556202,80,1,4.9387776692794505,4.9087776692794503,0.20865422925845323,7.2601518511423491,78.264842088001473,1883.2780884396705,{"$f":"IF(H91>0, rate1(1,$L$52,$L$51,$L$54,L91,$L$53,$L$50,P91),\"\")","v":1077.6916907105099},0.24069896054976614,0.27479776586309923,4.8787776692794509,4.8787776692794509,1.4321318816925555E-3,1813.4589735295365,77.311133981687547,{"$f":"IF(H91>0, rate1(1,$L$52,$L$51,$L$54,U91,$L$53,$L$50,Y91),\"\")","v":1072.3821370105345},0.232923045149036,1.8669989661869136E-3,0.27479776586309923,0.21834238648756424,-2.7819946898247478E-2,741.88331674171388,733.27628076838585,4.9390114241119019,254.98736626792416,2.2354876870208069,5.2007129712822433,0.62342146456055869]
[null,741.88331674171388,733.27628076838585,4.9390114241119019,{"$f":"IF(AND(C92<$B$6,C92>$H$12),bb($B$6,$H$12,C92,$H$8,$H$9,I92,$H$10,$H$11),E91)","v":61.007804207272088},59.90280785807726,2112.6421653579173,0.06,6.8856287786624311,80,1,4.9990114241119015,4.9690114241119012,0.21124034778323519,7.2518001272537402,79.544629433912021,2032.9827468127869,{"$f":"IF(H92>0, rate1(1,$L$52,$L$51,$L$54,L92,$L$53,$L$50,P92),\"\")","v":1084.5727650806716},0.25848132587800016,0.28487529060998462,4.9390114241119019,4.9390114241119019,1.4677125903439503E-3,1957.360317639037,78.587040482285673,{"$f":"IF(H92>0, rate1(1,$L$52,$L$51,$L$54,U92,$L$53,$L$50,Y92),\"\")","v":1079.4498642166059},0.25004747753181356,1.9570740098500193E-3,0.28487529060998462,0.21061847755039043,-2.7601503584424474E-2,741.80968179888714,732.99140547777586,4.9992525098778868,262.66129833049541,2.3084491587792777,5.7015824238487482,0.6438204538619926]
[null,741.80968179888714,732.99140547777586,4.9992525098778868,{"$f":"IF(AND(C93<$B$6,C93>$H$12),bb($B$6,$H$12,C93,$H$8,$H$9,I93,$H$10,$H$11),E92)","v":63.368657078715067},62.188230642993574,2246.7760447680798,0.04,7.0546210568890277,80,1,5.0392525098778869,5.0192525098778873,0.14291157659939913,7.2425024884728169,80.508631375938066,2181.997961301679,{"$f":"IF(H93>0, rate1(1,$L$52,$L$51,$L$54,L93,$L$53,$L$50,P93),\"\")","v":1089.5803273299705},0.27650719339230162,0.19753005875688059,4.9992525098778868,4.9992525098778868,1.50373429618611E-3,2113.4310734321912,79.868311076656795,{"$f":"IF(H93>0, rate1(1,$L$52,$L$51,$L$54,U93,$L$53,$L$50,Y93),\"\")","v":1086.2705638557891},0.26863427558367869,2.0560633975377921E-3,0.19753005875688059,0.20250082570588349,-3.3654899785671884E-2,741.75506331672966,732.79387541901895,5.039599375978681,181.29003782670191,2.3588075026200284,6.2564917579094077,0.66483335772843222]
[null,741.75506331672966,732.79387541901895,5.039599375978681,{"$f":"IF(AND(C94<$B$6,C94>$H$12),bb($B$6,$H$12,C94,$H$8,$H$9,I94,$H$10,$H$11),E93)","v":65.047964946354625},64.20831101253485,2375.927492964558,{"$f":"dv(S93)","v":0.04},7.168950318168573,80,1,5.0795993759786811,5.0595993759786815,0.14407491155798269,7.2356059947923992,81.371373873519389,2298.3878419675279,{"$f":"IF(H94>0, rate1(1,$L$52,$L$51,$L$54,L94,$L$53,$L$50,P94),\"\")","v":1093.9398585791209},0.29037214934712585,0.20302882901992983,5.039599375978681,5.039599375978681,1.5281042559429636E-3,2239.9565843961786,80.729342423093428,{"$f":"IF(H94>0, rate1(1,$L$52,$L$51,$L$54,U94,$L$53,$L$50,Y94),\"\")","v":1090.7063808437349},0.28382904570519485,2.1337143691447917E-3,0.20302882901992983,0.19701635572194282,-2.7384088339073839E-2,741.6961093992677,732.59084658999905,5.079950312394625,185.59414160449063,2.4103614308434982,6.663809872053541,0.67933656075456839]
[null,741.6961093992677,732.59084658999905,5.079950312394625,{"$f":"IF(AND(C95<$B$6,C95>$H$12),bb($B$6,$H$12,C95,$H$8,$H$9,I95,$H$10,$H$11),E94)","v":66.813240753122329},65.930602849738477,2498.2630408575492,0.04,7.2842102474149222,80,1,5.1199503123946251,5.0999503123946255,0.14523855979621914,7.228162080147535,82.236500202126194,2421.8481312467475,{"$f":"IF(H95>0, rate1(1,$L$52,$L$51,$L$54,L95,$L$53,$L$50,P95),\"\")","v":1098.2002740795315},0.30509667586892564,0.20900541809586146,5.079950312394625,5.079950312394625,1.5526725930889995E-3,2359.8662027649452,81.592766474822653,{"$f":"IF(H95>0, rate1(1,$L$52,$L$51,$L$54,U95,$L$53,$L$50,Y95),\"\")","v":1095.0405597887154},0.29814620970525024,2.2122450780481515E-3,0.20900541809586146,0.19138259842457186,-2.7346063278995993E-2,741.63234254096801,732.38184117190315,5.1203053095992468,190.31630480245659,2.4632270710664028,7.1047680956248076,0.69418409208292764]
[null,741.63234254096801,732.38184117190315,5.1203053095992468,{"$f":"IF(AND(C96<$B$6,C96>$H$12),bb($B$6,$H$12,C96,$H$8,$H$9,I96,$H$10,$H$11),E95)","v":68.67390461809147},67.743572685606892,2628.1399202285206,0.04,7.4004010952518913,80,1,5.1603053095992468,5.1403053095992473,0.14640252109862928,7.220110451506228,83.103998753339681,2553.049698166305,{"$f":"IF(H96>0, rate1(1,$L$52,$L$51,$L$54,L96,$L$53,$L$50,P96),\"\")","v":1102.3648140720866},0.32076729727967079,0.21554103698524335,5.1203053095992468,5.1203053095992468,1.5774393610534787E-3,2487.179526528726,82.458571507840475,{"$f":"IF(H96>0, rate1(1,$L$52,$L$51,$L$54,U96,$L$53,$L$50,Y96),\"\")","v":1099.2764495053218},0.31336924326585297,2.2973619308233805E-3,0.21554103698524335,0.18557950986724878,-2.7337825992279099E-2,741.5632040250814,732.16630013491795,5.1606643582952252,195.52604930217643,2.5175398625392296,7.5802282859853651,0.7094093964671242]
[null,741.5632040250814,732.16630013491795,5.1606643582952252,{"$f":"IF(AND(C97<$B$6,C97>$H$12),bb($B$6,$H$12,C97,$H$8,$H$9,I97,$H$10,$H$11),E96)","v":70.641122863945327},69.657513741018391,2766.2979222882386,0.04,7.5175231121307666,80,1,5.2006643582952252,5.1806643582952248,0.1475667952561075,7.211380561566946,83.973858072491652,2692.774390132151,{"$f":"IF(H97>0, rate1(1,$L$52,$L$51,$L$54,L97,$L$53,$L$50,P97),\"\")","v":1106.4365807769},0.33748542949011101,0.22273743374811536,5.1606643582952252,5.1606643582952252,1.6024046132230296E-3,2622.6224674094024,83.326745954278024,{"$f":"IF(H97>0, rate1(1,$L$52,$L$51,$L$54,U97,$L$53,$L$50,Y97),\"\")","v":1103.4172550416263},0.3295927055003649,2.3901956711539058E-3,0.22273743374811536,0.17958364396545198,-2.7360987601166373E-2,741.48803338658945,731.94356270116987,5.2010274494074089,201.31061971190172,2.5734594791258689,8.0940981016009843,0.7250514804112983]
[null,741.48803338658945,731.94356270116987,5.2010274494074089,{"$f":"IF(AND(C98<$B$6,C98>$H$12),bb($B$6,$H$12,C98,$H$8,$H$9,I98,$H$10,$H$11),E97)","v":72.728279425794938},71.684701144870132,2913.6044183275158,0.04,7.635576548335667,80,1,5.2410274494074089,5.2210274494074085,0.14873138206583647,7.2018890156133617,84.846066855477318,2841.9434999973018,{"$f":"IF(H98>0, rate1(1,$L$52,$L$51,$L$54,L98,$L$53,$L$50,P98),\"\")","v":1110.4185456242885},0.35537126533010488,0.23072409600543112,5.2010274494074089,5.2010274494074089,1.6275684029416482E-3,2767.0460230340695,84.197278399147308,{"$f":"IF(H98>0, rate1(1,$L$52,$L$51,$L$54,U98,$L$53,$L$50,Y98),\"\")","v":1107.4660452701371},0.3469281486222856,2.4921735633041675E-3,0.23072409600543112,0.17336724118775362,-2.7417553065976451E-2,741.40604067264985,731.71283860516439,5.2413945740759598,207.78119828295527,2.631176478648912,8.6509832506445754,0.74115632998825043]
[null,741.40604067264985,731.71283860516439,5.2413945740759598,{"$f":"IF(AND(C99<$B$6,C99>$H$12),bb($B$6,$H$12,C99,$H$8,$H$9,I99,$H$10,$H$11),E98)","v":74.951620648101965},73.839950036948451,3071.088554545533,0.04,7.7545616539883673,80,1,5.2813945740759598,5.2613945740759593,0.1498962813310456,7.1915360689332548,85.720613945654776,3001.6564199260893,{"$f":"IF(H99>0, rate1(1,$L$52,$L$51,$L$54,L99,$L$53,$L$50,P99),\"\")","v":1114.3135560370915},0.37456906163377235,0.23966879816116846,5.2413945740759598,5.2413945740759598,1.6529307835178031E-3,2921.4597901850234,85.070157577176175,{"$f":"IF(H99>0, rate1(1,$L$52,$L$51,$L$54,U99,$L$53,$L$50,Y99),\"\")","v":1111.4257600041014},0.36550876157084489,2.6051278306223028E-3,0.23966879816116846,0.16689698578578205,-2.7510004858534269E-2,741.31626815581978,731.47316980700327,5.2817657236498379,215.08200888582812,2.6909214811171975,9.2563754680071799,0.75777882585088685]
[null,741.31626815581978,731.47316980700327,5.2817657236498379,{"$f":"IF(AND(C100<$B$6,C100>$H$12),bb($B$6,$H$12,C100,$H$8,$H$9,I100,$H$10,$H$11),E99)","v":77.331157086558093},76.141388867330022,3239.9882825265759,0.04,7.8744786790532091,80,1,5.3217657236498379,5.3017657236498383,0.15106149286078008,7.180200792474845,86.597488330833556,3173.2443090687175,{"$f":"IF(H100>0, rate1(1,$L$52,$L$51,$L$54,L100,$L$53,$L$50,P100),\"\")","v":1118.1243417964647},0.39525449558365161,0.24979349454870683,5.2817657236498379,5.2817657236498379,1.6784918082528577E-3,3087.0780553516729,85.94537236973413,{"$f":"IF(H100>0, rate1(1,$L$52,$L$51,$L$54,U100,$L$53,$L$50,Y100),\"\")","v":1115.2992166734086},0.38549577628952403,2.7314569102842817E-3,0.24979349454870683,0.16013227274900255,-2.7641406243276146E-2,741.21753615413184,731.22337631245455,5.3221408896805249,223.40403943569405,2.7529781587382236,9.9169113637851076,0.77498538656175309]
[null,741.21753615413184,731.22337631245455,5.3221408896805249,{"$f":"IF(AND(C101<$B$6,C101>$H$12),bb($B$6,$H$12,C101,$H$8,$H$9,I101,$H$10,$H$11),E100)","v":79.891957589841141},78.611557338199617,3421.8166408158572,0.04,7.9953278733418305,80,1,5.3621408896805249,5.3421408896805254,0.15222701646978365,7.1677342317283799,87.47667914034605,3358.3465477111104,{"$f":"IF(H101>0, rate1(1,$L$52,$L$51,$L$54,L101,$L$53,$L$50,P101),\"\")","v":1121.8535210206292},0.41764516652196998,0.2613990778794259,5.3221408896805249,5.3221408896805249,1.7042515303735684E-3,3265.3847481218772,86.822911801843887,{"$f":"IF(H101>0, rate1(1,$L$52,$L$51,$L$54,U101,$L$53,$L$50,Y101),\"\")","v":1119.0891165914968},0.40708752494941924,2.8743728662956203E-3,0.2613990778794259,0.1530227280237407,-2.7815524359017789E-2,741.10836409272224,730.9619772345751,5.3625200639159676,233.00642461915416,2.8177021655768777,10.640737833825861,0.79285770971660863]
[null,741.10836409272224,730.9619772345751,5.3625200639159676,{"$f":"IF(AND(C102<$B$6,C102>$H$12),bb($B$6,$H$12,C102,$H$8,$H$9,I102,$H$10,$H$11),E101)","v":82.666062924063709},81.279010256952432,3618.4578614953452,0.04,8.1171094865177107,80,1,5.4025200639159676,5.3825200639159672,0.15339285197833519,7.1539494394410621,88.358175642200351,3559.0229751121446,{"$f":"IF(H102>0, rate1(1,$L$52,$L$51,$L$54,L102,$L$53,$L$50,P102),\"\")","v":1125.5036057837226},0.44201604510012266,0.2749054890043558,5.3625200639159676,5.3625200639159676,1.7302100031066914E-3,3458.2276168341768,87.702765039275803,{"$f":"IF(H102>0, rate1(1,$L$52,$L$51,$L$54,U102,$L$53,$L$50,Y102),\"\")","v":1122.7980508421724},0.43053261616782829,3.0382951723475758E-3,0.2749054890043558,0.14550455192753978,-2.8036964666870449E-2,740.98685145569618,730.68707174557073,5.4029032382946651,244.25109576875204,2.8855496921793087,11.438043095004689,0.811498223686141]
[null,740.98685145569618,730.68707174557073,5.4029032382946651,{"$f":"IF(AND(C103<$B$6,C103>$H$12),bb($B$6,$H$12,C103,$H$8,$H$9,I103,$H$10,$H$11),E102)","v":85.695418046830781},84.180740485447245,3832.3114812962185,0.04,8.2398237681003597,80,1,5.4429032382946652,5.4229032382946656,0.15455899921205329,7.1386064438059051,89.241967240308611,3777.9246296718952,{"$f":"IF(H103>0, rate1(1,$L$52,$L$51,$L$54,L103,$L$53,$L$50,P103),\"\")","v":1129.0770073997155},0.46872302331061233,0.29091981394559202,5.4029032382946651,5.4029032382946651,1.7563672796399032E-3,3667.959436657879,88.584921385720207,{"$f":"IF(H103>0, rate1(1,$L$52,$L$51,$L$54,U103,$L$53,$L$50,Y103),\"\")","v":1126.4285058129037},0.45614976158968046,3.2295053961432191E-3,0.29091981394559202,0.13749493187659204,-2.8311282684564787E-2,740.85049064096268,730.39615193162513,5.443290404940206,257.66162275820807,2.9571223651676997,12.321855392667983,0.83103831134764117]
[null,740.85049064096268,730.39615193162513,5.443290404940206,{"$f":"IF(AND(C104<$B$6,C104>$H$12),bb($B$6,$H$12,C104,$H$8,$H$9,I104,$H$10,$H$11),E103)","v":89.036561964565507},87.365990005698137,4066.5173244388643,0.04,8.3634709674700396,80,1,5.483290404940206,5.4632904049402065,0.15572545800173998,7.1213886182655539,90.128043471796119,4018.564858589396,{"$f":"IF(H104>0, rate1(1,$L$52,$L$51,$L$54,L104,$L$53,$L$50,P104),\"\")","v":1132.5760413944686},0.4982403841299668,0.31035869184433584,5.443290404940206,5.443290404940206,1.7827234131360115E-3,3897.6584483754623,89.469370280042284,{"$f":"IF(H104>0, rate1(1,$L$52,$L$51,$L$54,U104,$L$53,$L$50,Y104),\"\")","v":1129.9828683991177},0.48435884388464057,3.4572946553885625E-3,0.31035869184433584,0.12888313119989075,-2.8644964334414557E-2,740.69585740712012,730.08579323978074,5.4836815561557106,274.02901041612267,3.0332415347277339,13.309294987853679,0.85165124116829782]
[null,740.69585740712012,730.08579323978074,5.4836815561557106,{"$f":"IF(AND(C105<$B$6,C105>$H$12),bb($B$6,$H$12,C105,$H$8,$H$9,I105,$H$10,$H$11),E104)","v":92.768534006751707},90.9025479856586,4325.3245136847327,0.04,8.4880513338714998,80,1,5.5236815561557107,5.5036815561557102,0.15689222818325632,7.1018635952723672,91.016394004376608,4285.7730693942931,{"$f":"IF(H105>0, rate1(1,$L$52,$L$51,$L$54,L105,$L$53,$L$50,P105),\"\")","v":1136.0029321870975},0.53122363906683256,0.33468459858116473,5.4836815561557106,5.4836815561557106,1.8092784567116382E-3,4151.4898968041498,90.356101293605036,{"$f":"IF(H105>0, rate1(1,$L$52,$L$51,$L$54,U105,$L$53,$L$50,Y105),\"\")","v":1133.4634309020055},0.51573207901531448,3.7361104841153723E-3,0.33468459858116473,0.1195155085401982,-2.9044942560407804E-2,740.51806503672219,729.75110864119961,5.5240766844186364,294.61596365496251,3.1150793024096681,14.42363870610968,0.87357356200158764]
[null,740.51806503672219,729.75110864119961,5.5240766844186364,{"$f":"IF(AND(C106<$B$6,C106>$H$12),bb($B$6,$H$12,C106,$H$8,$H$9,I106,$H$10,$H$11),E105)","v":97.007115915433104},94.887824961092406,4565.2877951770588,0.02,8.6135651164180675,80,1,5.544076684418636,5.5340766844186362,7.9877097705338684E-2,7.0794143453034559,91.575757367663385,4561.3004431938089,{"$f":"IF(H106>0, rate1(1,$L$52,$L$51,$L$54,L106,$L$53,$L$50,P106),\"\")","v":1138.1203083924097},0.56611306107342785,0.1840965711089462,5.5240766844186364,5.5240766844186364,1.836032463479853E-3,4435.3368952398187,91.245104127667645,{"$f":"IF(H106>0, rate1(1,$L$52,$L$51,$L$54,U106,$L$53,$L$50,Y106),\"\")","v":1136.8723956406998},0.55108369299547033,4.0899215172892503E-3,0.1840965711089462,0.10863863394915832,-4.1932418624743367E-2,740.41384556331855,729.56701207009064,5.5445296260619177,161.75493025775268,3.1600112274812662,15.69794835582934,0.89714283909398462]
[null,740.41384556331855,729.56701207009064,5.5445296260619177,{"$f":"IF(AND(C107<$B$6,C107>$H$12),bb($B$6,$H$12,C107,$H$8,$H$9,I107,$H$10,$H$11),E106)","v":99.434326028708995},98.220720972071049,4778.136032846749,0.02,8.6774667945823243,80,1,5.5645296260619173,5.5545296260619175,8.0179405146701299E-2,7.0662548997950223,92.027116028270925,4730.3731639298085,{"$f":"IF(H107>0, rate1(1,$L$52,$L$51,$L$54,L107,$L$53,$L$50,P107),\"\")","v":1139.8066380139171},0.58732017656591162,0.19428961774649794,5.5445296260619177,5.5445296260619177,1.8496534849710144E-3,4646.0445796696149,91.696055497439815,{"$f":"IF(H107>0, rate1(1,$L$52,$L$51,$L$54,U107,$L$53,$L$50,Y107),\"\")","v":1138.5716786615762},0.57747567641640507,4.3776260483263446E-3,0.19428961774649794,0.10293910828573082,-3.0125442372342551E-2,740.29973535071872,729.37272245234419,5.564984377783853,170.45840168560736,3.2073607835050462,16.436406164744774,0.91008323351460485]
[null,740.29973535071872,729.37272245234419,5.564984377783853,{"$f":"IF(AND(C108<$B$6,C108>$H$12),bb($B$6,$H$12,C108,$H$8,$H$9,I108,$H$10,$H$11),E107)","v":102.08156108803311},100.75794355837105,4955.8166512830121,0.02,8.7416103186996228,80,1,5.5849843777838526,5.5749843777838528,8.0481789687596006E-2,7.0518465836174169,92.479069660784617,4913.1985788127813,{"$f":"IF(H108>0, rate1(1,$L$52,$L$51,$L$54,L108,$L$53,$L$50,P108),\"\")","v":1141.4756838734852},0.61037227400321137,0.20656073558856369,5.564984377783853,5.564984377783853,1.8633260573643895E-3,4821.9820283341596,92.14760279990189,{"$f":"IF(H108>0, rate1(1,$L$52,$L$51,$L$54,U108,$L$53,$L$50,Y108),\"\")","v":1140.253484835114},0.59968242872090161,4.6546197095737587E-3,0.20656073558856369,9.6823822509215091E-2,-3.05115648552471E-2,740.17365640481773,729.1661617167556,5.5854409392590982,180.95938310978312,3.2576272788133194,17.250879595940241,0.92371990564945339]
[null,740.17365640481773,729.1661617167556,5.5854409392590982,{"$f":"IF(AND(C109<$B$6,C109>$H$12),bb($B$6,$H$12,C109,$H$8,$H$9,I109,$H$10,$H$11),E108)","v":104.99940042829533},103.54048075816422,5148.8424111698359,0.02,8.8059957504497106,80,1,5.6054409392590978,5.595440939259098,8.0784251336627477E-2,7.0359270153816524,92.931617049229672,5112.6653949051397,{"$f":"IF(H109>0, rate1(1,$L$52,$L$51,$L$54,L109,$L$53,$L$50,P109),\"\")","v":1143.1277016510348},0.63566938518473426,0.22173335989782034,5.5854409392590982,5.5854409392590982,1.8770501938014661E-3,5013.1109843961012,92.599744813268799,{"$f":"IF(H109>0, rate1(1,$L$52,$L$51,$L$54,U109,$L$53,$L$50,Y109),\"\")","v":1141.9180736028302},0.62395180716694532,4.9915149961504432E-3,0.22173335989782034,9.0198425754322423E-2,-3.0938538843822548E-2,740.03270729625649,728.94442835685777,5.6058993101674046,193.97076947533319,3.3115080481120232,18.147681119961604,0.93819665629823601]
[null,740.03270729625649,728.94442835685777,5.6058993101674046,{"$f":"IF(AND(C110<$B$6,C110>$H$12),bb($B$6,$H$12,C110,$H$8,$H$9,I110,$H$10,$H$11),E109)","v":108.25965253338293},106.62952648083913,5360.724109775595,0.02,8.8706231515189753,80,1,5.6258993101674042,5.6158993101674044,8.1086790102371964E-2,7.0181298412739865,93.384756985261561,5332.8393490040853,{"$f":"IF(H110>0, rate1(1,$L$52,$L$51,$L$54,L110,$L$53,$L$50,P110),\"\")","v":1144.7629420754824},0.66377599122984954,0.24116894685472784,5.6058993101674046,5.6058993101674046,1.8908259074308376E-3,5222.9060212686045,93.052480323441571,{"$f":"IF(H110>0, rate1(1,$L$52,$L$51,$L$54,U110,$L$53,$L$50,Y110),\"\")","v":1143.5656993647192},0.65077324880218113,5.4143215001298184E-3,0.24116894685472784,8.2929416331727554E-2,-3.1406235469380081E-2,739.87262513950418,728.70325941000306,5.6263594901936678,210.67151808520529,3.3700279142468026,19.146406044363445,0.95371431785626271]
[null,739.87262513950418,728.70325941000306,5.6263594901936678,{"$f":"IF(AND(C111<$B$6,C111>$H$12),bb($B$6,$H$12,C111,$H$8,$H$9,I111,$H$10,$H$11),E110)","v":111.96979956138031},110.11472604738162,5596.5594353276902,0.02,8.9354925836008992,80,1,5.6463594901936673,5.6363594901936676,8.1389405993558483E-2,6.9979168009480617,93.838488268095261,5579.7536272581683,{"$f":"IF(H111>0, rate1(1,$L$52,$L$51,$L$54,L111,$L$53,$L$50,P111),\"\")","v":1146.3816510432605},0.69553185020069364,0.26731665051732745,5.6263594901936678,5.6263594901936678,1.9046532114010972E-3,5456.4120630560092,93.505808123935779,{"$f":"IF(H111>0, rate1(1,$L$52,$L$51,$L$54,U111,$L$53,$L$50,Y111),\"\")","v":1145.1966116003618},0.68086080075109878,5.9680954764683453E-3,0.26731665051732745,7.4817636541886876E-2,-3.1905642290612796E-2,739.6866978949804,728.43594275948578,5.6468214790277242,233.18294590118123,3.4348009547749085,20.275757930605831,0.97056803930307911]
[null,739.6866978949804,728.43594275948578,5.6468214790277242,{"$f":"IF(AND(C112<$B$6,C112>$H$12),bb($B$6,$H$12,C112,$H$8,$H$9,I112,$H$10,$H$11),E111)","v":116.30272848936198},114.13626402537115,5864.2492354416809,0.02,9.0006041083956916,80,1,5.6668214790277238,5.656821479027724,8.1692099018962239E-2,6.9744403875395253,94.292809704429246,5863.029614540038,{"$f":"IF(H112>0, rate1(1,$L$52,$L$51,$L$54,L112,$L$53,$L$50,P112),\"\")","v":1147.9840697334328},0.73227947201507448,0.30513946627044625,5.6468214790277242,5.6468214790277242,1.9185321188892601E-3,5721.4479202990015,93.959727015804773,{"$f":"IF(H112>0, rate1(1,$L$52,$L$51,$L$54,U112,$L$53,$L$50,Y112),\"\")","v":1146.8110549865492},0.7153271547327541,6.7394279109697858E-3,0.30513946627044625,6.5543799510594691E-2,-3.2400167486480946E-2,739.46325052772886,728.13080329321531,5.6672852763644288,265.80461725509923,3.5086355706791026,21.580780146646592,0.98922267497517358]
[null,739.46325052772886,728.13080329321531,5.6672852763644288,{"$f":"IF(AND(C113<$B$6,C113>$H$12),bb($B$6,$H$12,C113,$H$8,$H$9,I113,$H$10,$H$11),E112)","v":121.56701503473283},118.93487176204741,6177.2396685091981,0.02,9.0659577876108415,80,1,5.6872852763644284,5.6772852763644286,8.1994869187418828E-2,6.9462264333012307,94.747720108376967,6199.6939284342861,{"$f":"IF(H113>0, rate1(1,$L$52,$L$51,$L$54,L113,$L$53,$L$50,P113),\"\")","v":1149.5704347195722},0.77640035845415167,0.36670393843456167,5.6672852763644288,5.6672852763644288,1.9324626429977343E-3,6031.3196946268235,94.41423580757062,{"$f":"IF(H113>0, rate1(1,$L$52,$L$51,$L$54,U113,$L$53,$L$50,Y113),\"\")","v":1148.4092695115812},0.75607821272622067,7.9224683641265971E-3,0.36670393843456167,5.4539910548490063E-2,-3.2757302922207597E-2,739.17854145848173,727.7640993547808,5.6877508819034599,318.99214468230122,3.5972444997575197,23.139524670161677,1.0104870443555816]
[null,739.17854145848173,727.7640993547808,5.6877508819034599,{"$f":"IF(AND(C114<$B$6,C114>$H$12),bb($B$6,$H$12,C114,$H$8,$H$9,I114,$H$10,$H$11),E113)","v":128.41182808555746},124.98942156014515,6562.0346821449339,0.02,9.1315536829607478,80,1,5.7077508819034595,5.6977508819034597,8.2297716507856222E-2,6.9102771681576272,95.203218301393235,6625.2653779145976,{"$f":"IF(H114>0, rate1(1,$L$52,$L$51,$L$54,L114,$L$53,$L$50,P114),\"\")","v":1151.1409780784561},0.83287398614710151,0.49242912345347556,5.6877508819034599,5.6877508819034599,1.9464447969355092E-3,6412.2543889507351,94.869333315149618,{"$f":"IF(H114>0, rate1(1,$L$52,$L$51,$L$54,U114,$L$53,$L$50,Y114),\"\")","v":1149.9914905863072},0.80690173562292344,1.0080074014205274E-2,0.49242912345347556,4.0614982029773448E-2,-3.2416232447428077E-2,738.76841005153608,727.27167023132733,5.7082182953493099,427.77481892397202,3.7160708383475121,25.110015600236014,1.0360064159301656]
[null,738.76841005153608,727.27167023132733,5.7082182953493099,{"$f":"IF(AND(C115<$B$6,C115>$H$12),bb($B$6,$H$12,C115,$H$8,$H$9,I115,$H$10,$H$11),E114)","v":138.68829677219458},133.550062428876,7050.1720993532326,0.01,9.1973918561669965,80,1,5.7182182953493097,5.7132182953493098,4.2262916460277467E-2,6.8584912425072888,95.492087598542824,7221.0082722359384,{"$f":"IF(H115>0, rate1(1,$L$52,$L$51,$L$54,L115,$L$53,$L$50,P115),\"\")","v":1152.1278604618506},0.91383665759275123,0.49049764412019797,5.7082182953493099,5.7082182953493099,1.9604785938263092E-3,6932.0723103174842,95.325018361782824,{"$f":"IF(H115>0, rate1(1,$L$52,$L$51,$L$54,U115,$L$53,$L$50,Y115),\"\")","v":1151.5579491520502},0.87770525442800285,1.6030767181833987E-2,0.49049764412019797,2.0387457758205805E-2,-4.1157744277325374E-2,738.32017532387613,726.78117258720715,5.7187005996174305,425.73195298269536,3.8343297141760386,27.917088798163388,1.0702284014440835]
[null,738.32017532387613,726.78117258720715,5.7187005996174305,{"$f":"IF(AND(C116<$B$6,C116>$H$12),bb($B$6,$H$12,C116,$H$8,$H$9,I116,$H$10,$H$11),E115)","v":138.68829677219458},138.68829677219458,7342.5145355205559,5.0000000000000001E-3,9.2312021893351819,80,1,5.7237005996174304,5.7212005996174309,2.2151482120499111E-2,6.8018941375614261,95.642174660706814,7251.6531712488659,{"$f":"IF(H116>0, rate1(1,$L$52,$L$51,$L$54,L116,$L$53,$L$50,P116),\"\")","v":1152.6378458127429},0.92494153285683955,0.29512302826873837,5.7187005996174305,5.7187005996174305,1.9676854667594057E-3,7242.0462061693315,95.558607167698185,{"$f":"IF(H116>0, rate1(1,$L$52,$L$51,$L$54,U116,$L$53,$L$50,Y116),\"\")","v":1152.3541217206091},0.92394360405904596,2.587140032623959E-2,0.29512302826873837,1.6942086930088734E-2,-8.7710798587829816E-3,738.04720377772787,726.48604955893836,5.7241870770586267,256.04141781466711,3.9054523302356685,30.918572334885148,1.104286957682699]
[null,738.04720377772787,726.48604955893836,5.7241870770586267,{"$f":"IF(AND(C117<$B$6,C117>$H$12),bb($B$6,$H$12,C117,$H$8,$H$9,I117,$H$10,$H$11),E116)","v":138.68829677219458},138.68829677219458,7363.649386291554,5.0000000000000001E-3,9.2489233750316089,80,1,5.7291870770586266,5.7266870770586262,2.2174619444065513E-2,6.7674269303344392,95.764519713801235,7272.7659793062885,{"$f":"IF(H117>0, rate1(1,$L$52,$L$51,$L$54,L117,$L$53,$L$50,P117),\"\")","v":1153.0521757560423},0.93202396256017372,0.32621229891040532,5.7241870770586267,5.7241870770586267,1.9714628425333558E-3,7263.1405757196699,95.680925468732909,{"$f":"IF(H117>0, rate1(1,$L$52,$L$51,$L$54,U117,$L$53,$L$50,Y117),\"\")","v":1152.7692128690849},0.93101891711882256,2.8579760713952206E-2,0.32621229891040532,1.5327441720317411E-2,-5.1973391472903896E-3,737.74316609826155,726.15983726002798,5.7296740233154591,282.912001528909,3.984038997327032,32.798560166884634,1.1247702711078724]
[null,737.74316609826155,726.15983726002798,5.7296740233154591,{"$f":"IF(AND(C118<$B$6,C118>$H$12),bb($B$6,$H$12,C118,$H$8,$H$9,I118,$H$10,$H$11),E117)","v":138.68829677219458},138.68829677219458,7384.8265660149682,5.0000000000000001E-3,9.2666630705868567,80,1,5.7346740233154589,5.7321740233154586,2.2197762367422769E-2,6.7290371060071585,95.886914373170569,7293.9210898470683,{"$f":"IF(H118>0, rate1(1,$L$52,$L$51,$L$54,L118,$L$53,$L$50,P118),\"\")","v":1153.4654305251133},0.93973100112599539,0.36831145003467392,5.7296740233154591,5.7296740233154591,1.9752441638019036E-3,7284.2772284981211,95.803293390819121,{"$f":"IF(H118>0, rate1(1,$L$52,$L$51,$L$54,U118,$L$53,$L$50,Y118),\"\")","v":1153.1832259496098},0.93871817448981887,3.2232136483495322E-2,0.36831145003467392,1.3575467174667758E-2,-5.0451105475104278E-3,737.39705241059426,725.79152580999335,5.7351614384259815,319.308615835154,4.072735835059019,34.881824953317498,1.1474032312301852]
[null,737.39705241059426,725.79152580999335,5.7351614384259815,{"$f":"IF(AND(C119<$B$6,C119>$H$12),bb($B$6,$H$12,C119,$H$8,$H$9,I119,$H$10,$H$11),E118)","v":138.68829677219458},138.68829677219458,7406.0461240418726,5.0000000000000001E-3,9.2844212804807285,80,1,5.7401614384259814,5.737661438425981,2.2220910891658008E-2,6.6853344843777016,96.009358624737658,7315.1185522092055,{"$f":"IF(H119>0, rate1(1,$L$52,$L$51,$L$54,L119,$L$53,$L$50,P119),\"\")","v":1153.877614150854},0.94828412457768907,0.42967291397858859,5.7351614384259815,5.7351614384259815,1.9790294315065182E-3,7305.4562138380252,95.925710919856684,{"$f":"IF(H119>0, rate1(1,$L$52,$L$51,$L$54,U119,$L$53,$L$50,Y119),\"\")","v":1153.5961650074364},0.94726261467928119,3.7526119648730892E-2,0.42967291397858859,1.1636758653698053E-2,-4.8590138062842656E-3,736.98960040750728,725.36185289601474,5.7406493224282951,372.37303914140637,4.1761727903760768,37.239863702294414,1.1729479204969975]
[null,736.98960040750728,725.36185289601474,5.7406493224282951,{"$f":"IF(AND(C120<$B$6,C120>$H$12),bb($B$6,$H$12,C120,$H$8,$H$9,I120,$H$10,$H$11),E119)","v":138.68829677219458},138.68829677219458,7427.3081097454233,5.0000000000000001E-3,9.3021980091940346,80,1,5.745649322428295,5.7431493224282946,2.2244065017840597E-2,6.6338868781212526,96.131852454455199,7336.3584157527912,{"$f":"IF(H120>0, rate1(1,$L$52,$L$51,$L$54,L120,$L$53,$L$50,P120),\"\")","v":1154.2887306443249},0.95807172496547999,0.53052659570485106,5.7406493224282951,5.7406493224282951,1.9828186466028797E-3,7326.677581094812,96.048178041775387,{"$f":"IF(H120>0, rate1(1,$L$52,$L$51,$L$54,U120,$L$53,$L$50,Y120),\"\")","v":1154.0080340678892},0.95704021301338538,4.6155225285932744E-2,0.53052659570485106,9.4245982020129682E-3,-4.6077100214608393E-3,736.4813178768203,724.83132630030991,5.7461376753604672,459.61342393831626,4.3038431859144977,39.997675605525316,1.2027377636283101]
[null,736.4813178768203,724.83132630030991,5.7461376753604672,{"$f":"IF(AND(C121<$B$6,C121>$H$12),bb($B$6,$H$12,C121,$H$8,$H$9,I121,$H$10,$H$11),E120)","v":138.68829677219458},138.68829677219458,7448.6125725205802,5.0000000000000001E-3,9.3199932612083103,80,1,5.751137675360467,5.7486376753604667,2.2267224747068326E-2,6.5697077372465094,96.254395848304171,7357.6407298596987,{"$f":"IF(H121>0, rate1(1,$L$52,$L$51,$L$54,L121,$L$53,$L$50,P121),\"\")","v":1154.6987839968656},0.96989298762160026,0.73960260377891007,5.7461376753604672,5.7461376753604672,1.9866118100502206E-3,7347.941379645702,96.170694742533257,{"$f":"IF(H121>0, rate1(1,$L$52,$L$51,$L$54,U121,$L$53,$L$50,Y121),\"\")","v":1154.4188371364837},0.96884929693245692,6.3774220624899319E-2,0.73960260377891007,6.7603872328911565E-3,-4.1951810417470434E-3,735.76398249778845,724.09172369653095,5.7516264972605846,640.51561673846686,4.4817641905640722,43.411366116490235,1.2395068375433753]
[null,735.76398249778845,724.09172369653095,5.7516264972605846,{"$f":"IF(AND(C122<$B$6,C122>$H$12),bb($B$6,$H$12,C122,$H$8,$H$9,I122,$H$10,$H$11),E121)","v":138.68829677219458},138.68829677219458,7469.9595617843179,5.0000000000000001E-3,9.3378070410060001,80,1,5.7566264972605845,5.7541264972605841,2.2290390080438982E-2,6.4791321900540879,96.37698879229464,7378.9655439338139,{"$f":"IF(H122>0, rate1(1,$L$52,$L$51,$L$54,L122,$L$53,$L$50,P122),\"\")","v":1155.1077781802139},0.98595281984413952,1.5868231084898154,5.7516264972605846,5.7516264972605846,1.9904089228113264E-3,7369.247658889909,96.293261008117526,{"$f":"IF(H122>0, rate1(1,$L$52,$L$51,$L$54,U122,$L$53,$L$50,Y122),\"\")","v":1154.8285781990492},0.98489240577282422,0.13174890011481427,1.5439194780578149,3.2385108621660681E-3,-3.0846002311414543E-3,734.24235340981102,722.54780421847317,5.757115788166697,1336.6020965508039,4.8530425507170731,48.182318792224152,1.2907480868824526]
[null,734.24235340981102,722.54780421847317,5.757115788166697,{"$f":"IF(AND(C123<$B$6,C123>$H$12),bb($B$6,$H$12,C123,$H$8,$H$9,I123,$H$10,$H$11),E122)","v":138.68829677219458},138.68829677219458,7452.4169560077426,5.0000000000000001E-3,9.3556393530702735,80,-1,5.7521157881666971,5.7546157881666975,-1.8316319381721513E-2,6.2870011572121376,96.332158738695753,7380.8684814294411,{"$f":"IF(H123>0, rate1(1,$L$52,$L$51,$L$54,L123,$L$53,$L$50,P123),\"\")","v":1154.9583580537703},1.0164771034499296,1.1116225274291025,5.757115788166697,5.757115788166697,1.994209985831219E-3,7390.5964682484337,96.415876824543489,{"$f":"IF(H123>0, rate1(1,$L$52,$L$51,$L$54,U123,$L$53,$L$50,Y123),\"\")","v":1155.2372612218462},1.0175710941330818,-0.1134937853458222,1.1116225274291025,-4.4979297168110804E-3,-5.826637698060892E-3,733.11241456300024,721.43618169104411,5.7526055461954186,962.47844753667709,5.1203976750328168,58.166682403654796,1.3976762546065169]
[null,733.11241456300024,721.43618169104411,5.7526055461954186,{"$f":"IF(AND(C124<$B$6,C124>$H$12),bb($B$6,$H$12,C124,$H$8,$H$9,I124,$H$10,$H$11),E123)","v":138.68829677219458},138.68829677219458,7434.9003412424981,5.0000000000000001E-3,9.3409862975649052,80,-1,5.7476055461954187,5.7501055461954191,-1.8303527628720673E-2,6.1443275454881636,96.231431273501144,7363.3396194722955,{"$f":"IF(H124>0, rate1(1,$L$52,$L$51,$L$54,L124,$L$53,$L$50,P124),\"\")","v":1154.6220335690941},1.0379122357335795,0.48278681735746165,5.7526055461954186,5.7526055461954186,1.9910866001886518E-3,7373.0523667477919,96.315127433504301,{"$f":"IF(H124>0, rate1(1,$L$52,$L$51,$L$54,U124,$L$53,$L$50,Y124),\"\")","v":1154.9015493124969},1.0390297800915453,-5.1014548263364733E-2,0.48278681735746165,-1.0356537958860493E-2,-7.3489386664798767E-3,732.61132421801403,720.95339487368665,5.7480949188341057,418.13407619210398,5.2365460295306239,65.339473105869132,1.4746745304094511]
[null,732.61132421801403,720.95339487368665,5.7480949188341057,{"$f":"IF(AND(C125<$B$6,C125>$H$12),bb($B$6,$H$12,C125,$H$8,$H$9,I125,$H$10,$H$11),E124)","v":138.68829677219458},138.68829677219458,7417.4097028436254,5.0000000000000001E-3,9.3263434754619094,80,-1,5.7430949188341058,5.7455949188341062,-1.8290732334513393E-2,6.0810565379279051,96.130721595759667,7345.8367400968154,{"$f":"IF(H125>0, rate1(1,$L$52,$L$51,$L$54,L125,$L$53,$L$50,P125),\"\")","v":1154.2849408594113},1.0465240205098065,0.39314599499538083,5.7480949188341057,5.7480949188341057,1.9879653958625454E-3,7355.5342584744121,96.214395816583831,{"$f":"IF(H125>0, rate1(1,$L$52,$L$51,$L$54,U125,$L$53,$L$50,Y125),\"\")","v":1154.5650711838966},1.0476513249618076,-4.1718995168673591E-2,0.39314599499538083,-1.2717921748277624E-2,-5.3917007243380211E-3,732.19988749068409,720.56024887869125,5.7435839060484906,340.59700605871882,5.3311563089913792,68.448258291634929,1.5081252565048193]
[null,732.19988749068409,720.56024887869125,5.7435839060484906,{"$f":"IF(AND(C126<$B$6,C126>$H$12),bb($B$6,$H$12,C126,$H$8,$H$9,I126,$H$10,$H$11),E125)","v":138.68829677219458},138.68829677219458,7399.9450261566817,{"$f":"dv(S125)","v":5.0000000000000001E-3},9.31171088959427,80,-1,5.7385839060484907,5.7410839060484911,-1.8277933498339394E-2,6.0291057938237111,96.030029725276052,7328.3598286539955,{"$f":"IF(H126>0, rate1(1,$L$52,$L$51,$L$54,L126,$L$53,$L$50,P126),\"\")","v":1153.9470773719308},1.0533385755494407,0.34267757078359151,{"$f":"L126-K126*H126","v":5.7435839060484906},5.7435839060484906,1.984846373446203E-3,7338.0421287822219,96.113681993568747,{"$f":"IF(H126>0, rate1(1,$L$52,$L$51,$L$54,U126,$L$53,$L$50,Y126),\"\")","v":1154.2278242919604},1.054473710923822,-3.6436775460770107E-2,0.34267757078359151,-1.4590975384139193E-2,-5.0910400888796751E-3,731.83893198640214,720.21757130790763,5.7390725078043161,296.96125368593698,5.4136455461263617,70.974605829134362,1.5353730169895168]
[null,731.83893198640214,720.21757130790763,5.7390725078043161,{"$f":"IF(AND(C127<$B$6,C127>$H$12),bb($B$6,$H$12,C127,$H$8,$H$9,I127,$H$10,$H$11),E126)","v":138.68829677219458},138.68829677219458,7382.5062965176166,5.0000000000000001E-3,9.2970885427956098,80,-1,5.7340725078043162,5.7365725078043166,-1.8265131119491684E-2,5.9835291454830433,95.929355681881816,7310.9088704852429,{"$f":"IF(H127>0, rate1(1,$L$52,$L$51,$L$54,L127,$L$53,$L$50,P127),\"\")","v":1153.6084405426936},1.0591452790162108,0.30881807345072282,5.7390725078043161,5.7390725078043161,1.9817295335506913E-3,7320.5759630155817,96.012985984272447,{"$f":"IF(H127>0, rate1(1,$L$52,$L$51,$L$54,U127,$L$53,$L$50,Y127),\"\")","v":1153.8898060814809},1.0602871646613017,-3.2871500006414513E-2,0.30881807345072282,-1.6190762231401055E-2,-4.9111206235063921E-3,731.51184878183199,719.90875323445687,5.7345607240673093,267.69748087613254,5.4880059574808433,73.172102781308865,1.5591299172843918]
[null,{"$f":"IF(H128>0, AF127,\"\")","v":731.51184878183199},{"$f":"IF(H128>0, AG127,\"\")","v":719.90875323445687},{"$f":"IF(H128>0, AH127,\"\")","v":5.7345607240673093},{"$f":"IF(AND(C128<$B$6,C128>$H$12),bb($B$6,$H$12,C128,$H$8,$H$9,I128,$H$10,$H$11),E127)","v":138.68829677219458},{"$f":"IF(H128>0, (E128+E127)/2,\"\")","v":138.68829677219458},{"$f":"IF(H128>0, F128*$S$53*$C$55*(B128-C128+N128)^1.5,\"\")","v":7365.0934992527145},5.0000000000000001E-3,{"$f":"IF(H128>0, (B128-C128)*B$19,\"\")","v":9.2824764379000957},{"$f":"IF(H128>0, $B$7,\"\")","v":80},{"$f":"IF(H128>0, IF((1-S127-0.015)>0,1,-1),\"\")","v":-1},{"$f":"IF(H128>0, D128+K128*H128,\"\")","v":5.7295607240673094},{"$f":"IF(H128>0, (D128+L128)/2,\"\")","v":5.7320607240673098},{"$f":"IF(H128>0, 2*($P$53*M128/$S$52/$S$51)^2-(B128-C128)*2,\"\")","v":-1.8252325197241959E-2},{"$f":"IF(H128>0, wh(B128,$F$51,$F$52,$F$53),\"\")","v":5.942229439519318},{"$f":"IF(H128>0, $C$54*$L$55*$L$55*M128*M128/(($B$19*(B128-C128))^0.333)*1000,\"\")","v":95.828699485434797},{"$f":"IF(H128>0, M128/$S$54*(B128-C128+N128/2)*E128-J128,\"\")","v":7293.48385092228},{"$f":"IF(H128>0, rate1(1,$L$52,$L$51,$L$54,L128,$L$53,$L$50,P128),\"\")","v":1153.2690277965096},{"$f":"IF(H128>0, Q128/O128/R128,\"\")","v":1.0642777438316429},{"$f":"IF(H128>0, N128/(1-S128),\"\")","v":0.2839602653921503},5.7345607240673093,{"$f":"IF(H128>0, (D128+U128)/2,\"\")","v":5.7345607240673093},{"$f":"IF(H128>0, 2*($P$53*V128/$S$52/$S$51)^2-(B128-C128)*2,\"\")","v":1.9786148767728662E-3},{"$f":"IF(H128>0, V128/$S$54*(B128-C128+W128/2)*F128-J128,\"\")","v":7303.1357465091614},{"$f":"IF(H128>0, $C$54*$L$55*$L$55*V128*V128/(($B$19*(B128-C128))^0.333)*1000,\"\")","v":95.912307808534521},{"$f":"IF(H128>0, rate1(1,$L$52,$L$51,$L$54,U128,$L$53,$L$50,Y128),\"\")","v":1153.551013986068},{"$f":"IF(H128>0, X128/O128/Z128,\"\")","v":1.0654256575057601},{"$f":"IF(H128>0, W128/(1-AA128),\"\")","v":-3.0242185592077045E-2},{"$f":"IF(H128>0, delta_z(N128,S128,H128,AE127,AB128),\"\")","v":0.2839602653921503},{"$f":"IF(H128>0, H128/AC128*K128,\"\")","v":-1.7608097362125576E-2},{"$f":"IF(H128>0, (AD128-AD127)/(AC128+AC127)*2,\"\")","v":-4.7820071613656288E-3},{"$f":"IF(H128>0, B128-(AC128-N128),\"\")","v":731.20963619124257},{"$f":"IF(H128>0, C128-AC128,\"\")","v":719.62479296906474},{"$f":"IF(H128>0, $S$54*$S$53*$C$55*SQRT(AF128-AG128),\"\")","v":5.7300485548031226},{"$f":"IF(H128>0, AC128/R128*1000000,\"\")","v":246.22205101154779},{"$f":"IF(H128>0, AJ127+AI128/3600,\"\")","v":5.5564009716507181},{"$f":"IF(H128>0, AK127+AI127*G127/1000000,\"\")","v":75.148381119438824},{"$f":"IF(H128>0, AL127+AI127*J127/1000000,\"\")","v":1.5805457157544824}]
[null,731.20963619124257,719.62479296906474,5.7300485548031226,{"$f":"IF(AND(C129<$B$6,C129>$H$12),bb($B$6,$H$12,C129,$H$8,$H$9,I129,$H$10,$H$11),E128)","v":138.68829677219458},138.68829677219458,7347.7066196783217,5.0000000000000001E-3,9.2678745777422602,80,-1,5.7250485548031227,5.7275485548031231,-1.8239515730879674E-2,5.9040700630808942,95.728061155817699,7276.0847552869209,{"$f":"IF(H129>0, rate1(1,$L$52,$L$51,$L$54,L129,$L$53,$L$50,P129),\"\")","v":1152.9288365468917},1.0689164114732161,0.26466142593579944,5.7300485548031226,5.7300485548031226,1.9755024037415581E-3,7285.7214645877357,95.811647486219528,{"$f":"IF(H129>0, rate1(1,$L$52,$L$51,$L$54,U129,$L$53,$L$50,Y129),\"\")","v":1153.211445428082},1.0700698246870106,-2.8193340179824541E-2,0.26466142593579944,-1.8892061743870755E-2,-4.6806912742998466E-3,730.92673524957593,719.36013154312889,5.7255359999775317,229.55573453126584,5.6201664534649582,76.961829546716643,1.6002434798354062]
[null,730.92673524957593,719.36013154312889,5.7255359999775317,{"$f":"IF(AND(C130<$B$6,C130>$H$12),bb($B$6,$H$12,C130,$H$8,$H$9,I130,$H$10,$H$11),E129)","v":138.68829677219458},138.68829677219458,7330.3456431016384,5.0000000000000001E-3,9.2532829651576325,80,-1,5.7205359999775318,5.7230359999775313,-1.822670271968363E-2,5.8683491041797868,95.627440712942743,7258.7115688918248,{"$f":"IF(H130>0, rate1(1,$L$52,$L$51,$L$54,L130,$L$53,$L$50,P130),\"\")","v":1152.5878641960096},1.0731725493836399,0.24909208266233776,5.7255359999775317,5.7255359999775317,1.9723921150109902E-3,7268.3331025668986,95.711005037221369,{"$f":"IF(H130>0, rate1(1,$L$52,$L$51,$L$54,U130,$L$53,$L$50,Y130),\"\")","v":1152.8710978185877},1.0743310530621197,-2.6535237074639968E-2,0.24909208266233776,-2.0072898128913476E-2,-4.5968985720986379E-3,730.6594164641939,719.1110394604666,5.7210230595561562,216.1154827324965,5.6801985320017625,78.648537736917149,1.6186079385979075]
[null,730.6594164641939,719.1110394604666,5.7210230595561562,{"$f":"IF(AND(C131<$B$6,C131>$H$12),bb($B$6,$H$12,C131,$H$8,$H$9,I131,$H$10,$H$11),E130)","v":138.68829677219458},138.68829677219458,7313.0105548196761,5.0000000000000001E-3,9.2387016029818376,80,-1,5.7160230595561563,5.7185230595561567,-1.8213886162889992E-2,5.8345956522122151,95.5268381767454,7241.3642770394326,{"$f":"IF(H131>0, rate1(1,$L$52,$L$51,$L$54,L131,$L$53,$L$50,P131),\"\")","v":1152.2461081346066},1.0771207224864798,0.23617369723271331,5.7210230595561562,5.7210230595561562,1.9692840112242038E-3,7250.9706457520415,95.610380481457199,{"$f":"IF(H131>0, rate1(1,$L$52,$L$51,$L$54,U131,$L$53,$L$50,Y131),\"\")","v":1152.5299685572729},1.0782839875384918,-2.5155642592374579E-2,0.23617369723271331,-2.1170858815294995E-2,-4.5251931286767293E-3,730.40502888079834,718.87486576323386,5.7165097335047665,204.9681014892378,5.7371341157487734,80.232738924172111,1.6358971772165072]
[null,730.40502888079834,718.87486576323386,5.7165097335047665,{"$f":"IF(AND(C132<$B$6,C132>$H$12),bb($B$6,$H$12,C132,$H$8,$H$9,I132,$H$10,$H$11),E131)","v":138.68829677219458},138.68829677219458,7295.7013401203267,5.0000000000000001E-3,9.2241304940515878,80,-1,5.7115097335047667,5.714009733504767,-1.8201066059798876E-2,5.8024749800154698,95.426253567191424,7224.042865023107,{"$f":"IF(H132>0, rate1(1,$L$52,$L$51,$L$54,L132,$L$53,$L$50,P132),\"\")","v":1151.9035657419613},1.0808138845085618,0.22522201686605697,5.7165097335047665,5.7165097335047665,1.9661780929851602E-3,7233.6340794394837,95.509773838874452,{"$f":"IF(H132>0, rate1(1,$L$52,$L$51,$L$54,U132,$L$53,$L$50,Y132),\"\")","v":1152.1880550324079},1.0819816386161112,-2.3983151912735288E-2,0.22522201686605697,-2.2200316246051458E-2,-4.4623623466779252E-3,730.16160579787254,718.64964374636781,5.7119960217890018,195.52159014369187,5.7914456685664657,81.731672813764263,1.6522946253356463]
[null,730.16160579787254,718.64964374636781,5.7119960217890018,{"$f":"IF(AND(C133<$B$6,C133>$H$12),bb($B$6,$H$12,C133,$H$8,$H$9,I133,$H$10,$H$11),E132)","v":138.68829677219458},138.68829677219458,7278.4179842813519,5.0000000000000001E-3,9.20956964120378,80,-1,5.7069960217890019,5.7094960217890023,-1.8188242409689082E-2,5.7717387587447053,95.325686904270313,7206.7473181260793,{"$f":"IF(H133>0, rate1(1,$L$52,$L$51,$L$54,L133,$L$53,$L$50,P133),\"\")","v":1151.5602343858013},1.0842912920341776,0.21577842705643055,5.7119960217890018,5.7119960217890018,1.9630743608907153E-3,7216.3233889154089,95.409185129444253,{"$f":"IF(H133>0, rate1(1,$L$52,$L$51,$L$54,U133,$L$53,$L$50,Y133),\"\")","v":1151.8453546207625},1.0854633049457758,-2.2969792265069011E-2,0.21577842705643055,-2.3171917916949111E-2,-4.4063523485632873E-3,729.92763912840644,718.43386531931139,5.7074819243745427,187.37919269287602,5.8434954443144864,83.158139940998055,1.6679363525471416]
[null,729.92763912840644,718.43386531931139,5.7074819243745427,{"$f":"IF(AND(C134<$B$6,C134>$H$12),bb($B$6,$H$12,C134,$H$8,$H$9,I134,$H$10,$H$11),E133)","v":138.68829677219458},138.68829677219458,7261.1604725710504,5.0000000000000001E-3,9.1950190472760376,80,-1,5.7024819243745428,5.7049819243745432,-1.8175415211810986E-2,5.7421965672801196,95.225138207999592,7189.4776216221007,{"$f":"IF(H134>0, rate1(1,$L$52,$L$51,$L$54,L134,$L$53,$L$50,P134),\"\")","v":1151.2161114222563},1.0875830288739061,0.20752211296526699,5.7074819243745427,5.7074819243745427,1.9599728155554885E-3,7199.0385594565123,95.308614373165682,{"$f":"IF(H134>0, rate1(1,$L$52,$L$51,$L$54,U134,$L$53,$L$50,Y134),\"\")","v":1151.501864687556},1.088759102558541,-2.2081935926096023E-2,0.20752211296526699,-2.4093817899959659E-2,-4.355770408246082E-3,729.70194160022936,718.22634320634609,5.7029674412270772,180.26338487296383,5.8935686067791986,84.521964026974004,1.6829266879625717]
[null,729.70194160022936,718.22634320634609,5.7029674412270772,{"$f":"IF(AND(C135<$B$6,C135>$H$12),bb($B$6,$H$12,C135,$H$8,$H$9,I135,$H$10,$H$11),E134)","v":138.68829677219458},138.68829677219458,7243.9287902480783,5.0000000000000001E-3,9.1804787151066201,80,-1,5.6979674412270773,5.7004674412270777,-1.8162584465468257E-2,5.713698492722294,95.124607498423885,7172.2337607752906,{"$f":"IF(H135>0, rate1(1,$L$52,$L$51,$L$54,L135,$L$53,$L$50,P135),\"\")","v":1150.8711941957893},1.0907127667619663,0.20022081911719841,5.7029674412270772,5.7029674412270772,1.9568734575443614E-3,7181.7795763298691,95.208061590064887,{"$f":"IF(H135>0, rate1(1,$L$52,$L$51,$L$54,U135,$L$53,$L$50,Y135),\"\")","v":1151.1575825863924},1.0918927285283337,-2.129519374257114E-2,0.20022081911719841,-2.4972428052415823E-2,-4.3096278724873965E-3,729.48355819664664,718.02612238722884,5.6984525723122514,173.97326488574558,5.9418945136919055,85.830885391865436,1.6973477587524088]
[null,729.48355819664664,718.02612238722884,5.6984525723122514,{"$f":"IF(AND(C136<$B$6,C136>$H$12),bb($B$6,$H$12,C136,$H$8,$H$9,I136,$H$10,$H$11),E135)","v":138.68829677219458},138.68829677219458,7226.72292256126,5.0000000000000001E-3,9.1659486475342415,80,-1,5.6934525723122515,5.695952572312251,-1.8149750169936141E-2,5.686123948296582,95.02409479561382,7155.0157208399633,{"$f":"IF(H136>0, rate1(1,$L$52,$L$51,$L$54,L136,$L$53,$L$50,P136),\"\")","v":1150.5254800391292},1.0936995382478054,0.19370159671369816,5.6984525723122514,5.6984525723122514,1.9537762875145859E-3,7164.5464247927603,95.10752680019408,{"$f":"IF(H136>0, rate1(1,$L$52,$L$51,$L$54,U136,$L$53,$L$50,Y136),\"\")","v":1150.8125056591907},1.0948832357674074,-2.0591374985397704E-2,0.19370159671369816,-2.5812900279754952E-2,-4.2671967553119762E-3,729.27170684976295,717.83242079051513,5.6939373175957204,168.35924112442117,5.9886609695597999,87.091135334104749,1.7112656199432685]
[null,729.27170684976295,717.83242079051513,5.6939373175957204,{"$f":"IF(AND(C137<$B$6,C137>$H$12),bb($B$6,$H$12,C137,$H$8,$H$9,I137,$H$10,$H$11),E136)","v":138.68829677219458},138.68829677219458,7209.5428547498677,5.0000000000000001E-3,9.1514288473982557,80,-1,5.6889373175957205,5.6914373175957209,-1.813691232445791E-2,5.6593741848967341,94.92360011966764,7137.8234870608303,{"$f":"IF(H137>0, rate1(1,$L$52,$L$51,$L$54,L137,$L$53,$L$50,P137),\"\")","v":1150.1789662732124},1.096558923198645,0.18783258681484988,5.6939373175957204,5.6939373175957204,1.9506813060488071E-3,7147.3390900928307,95.007010023632759,{"$f":"IF(H137>0, rate1(1,$L$52,$L$51,$L$54,U137,$L$53,$L$50,Y137),\"\")","v":1150.4666312361271},1.0977462208027764,-1.9956590546704796E-2,0.18783258681484988,-2.6619449184973394E-2,-4.2279247314577408E-3,729.06573735062364,717.64458820370032,5.6894216770431498,163.30726984467591,6.0340241000722097,88.307820921163625,1.7247343592332223]
[null,729.06573735062364,717.64458820370032,5.6894216770431498,{"$f":"IF(AND(C138<$B$6,C138>$H$12),bb($B$6,$H$12,C138,$H$8,$H$9,I138,$H$10,$H$11),E137)","v":138.68829677219458},138.68829677219458,7192.3885720434855,5.0000000000000001E-3,9.1369193175386503,80,-1,5.6844216770431499,5.6869216770431503,-1.8124070928319469E-2,5.6333671028054102,94.823123490710614,7120.6570446729638,{"$f":"IF(H138>0, rate1(1,$L$52,$L$51,$L$54,L138,$L$53,$L$50,P138),\"\")","v":1149.8316502071145},1.0993038703785423,0.18251122397577513,5.6894216770431498,5.6894216770431498,1.947588513754539E-3,7130.1575574681137,94.906511280487805,{"$f":"IF(H138>0, rate1(1,$L$52,$L$51,$L$54,U138,$L$53,$L$50,Y138),\"\")","v":1150.1199566355699},1.1004946462372016,-1.938002258505957E-2,0.18251122397577513,-2.7395575412193032E-2,-4.1913821946300747E-3,728.86510205571949,717.46207697972454,5.6849056506201876,158.72864861816956,6.078115391355035,89.485191681601023,1.7377989408207963]
[null,728.86510205571949,717.46207697972454,5.6849056506201876,{"$f":"IF(AND(C139<$B$6,C139>$H$12),bb($B$6,$H$12,C139,$H$8,$H$9,I139,$H$10,$H$11),E138)","v":138.68829677219458},138.68829677219458,7175.2600596619859,5.0000000000000001E-3,9.1224200607959585,80,-1,5.6799056506201877,5.6824056506201881,-1.8111225980803169E-2,5.6080335529021799,94.722664928895057,7103.5163789017115,{"$f":"IF(H139>0, rate1(1,$L$52,$L$51,$L$54,L139,$L$53,$L$50,P139),\"\")","v":1149.483529137987},1.1019452828607534,0.17765634144682499,5.6849056506201876,5.6849056506201876,1.9444979112321903E-3,7113.0018121469175,94.806030590892789,{"$f":"IF(H139>0, rate1(1,$L$52,$L$51,$L$54,U139,$L$53,$L$50,Y139),\"\")","v":1149.772479164011},1.1031394267898298,-1.8853099845072344E-2,0.17765634144682499,-2.8144224739067754E-2,-4.157227905829332E-3,728.66933448829184,717.28442063827777,5.6803892382924639,154.55318579471239,6.1210468318535662,90.626829799978253,1.7504972327102499]
[null,728.66933448829184,717.28442063827777,5.6803892382924639,{"$f":"IF(AND(C140<$B$6,C140>$H$12),bb($B$6,$H$12,C140,$H$8,$H$9,I140,$H$10,$H$11),E139)","v":138.68829677219458},138.68829677219458,7101.4928256956737,0.02,9.1079310800112587,80,-1,5.6603892382924643,5.6703892382924641,-7.8164808428162758E-2,5.5833146347216491,94.372414023260276,7058.0403832252769,{"$f":"IF(H140>0, rate1(1,$L$52,$L$51,$L$54,L140,$L$53,$L$50,P140),\"\")","v":1148.2629670490435},1.1009071141874163,0.77462138381032386,5.6803892382924639,5.6803892382924639,1.9414094990821695E-3,7095.8718393478139,94.705567975008194,{"$f":"IF(H140>0, rate1(1,$L$52,$L$51,$L$54,U140,$L$53,$L$50,Y140),\"\")","v":1149.4241961160019},1.1056898571955196,-1.8368929153633768E-2,0.77462138381032386,-2.5819065182038997E-2,4.8833643702017307E-3,727.81654829605338,716.50979925446745,5.660855877389646,674.60277483392792,6.3084364915296574,91.735789101104572,1.7628614875738269]
[null,727.81654829605338,716.50979925446745,5.660855877389646,{"$f":"IF(AND(C141<$B$6,C141>$H$12),bb($B$6,$H$12,C141,$H$8,$H$9,I141,$H$10,$H$11),E140)","v":138.68829677219458},138.68829677219458,7028.2264687793268,0.02,9.0453992332687445,80,-1,5.6408558773896464,5.6508558773896462,-7.790243061620572E-2,5.4756361648483391,93.9386073742089,6984.5268255084393,{"$f":"IF(H141>0, rate1(1,$L$52,$L$51,$L$54,L141,$L$53,$L$50,P141),\"\")","v":1146.7363473660812},1.1123432614296578,0.69343216161641597,5.660855877389646,5.660855877389646,1.9280804652872519E-3,7022.0983158123199,94.271377235391427,{"$f":"IF(H141>0, rate1(1,$L$52,$L$51,$L$54,U141,$L$53,$L$50,Y141),\"\")","v":1147.9088852608795},1.1171845086978665,-1.6453373288941867E-2,0.69343216161641597,-2.8842042678521373E-2,-4.1183477345216914E-3,727.04521370382076,715.81636709285101,5.641320789930691,604.70060376925198,6.4764088814655603,96.526475866782107,1.816829709560541]
[null,727.04521370382076,715.81636709285101,5.641320789930691,{"$f":"IF(AND(C142<$B$6,C142>$H$12),bb($B$6,$H$12,C142,$H$8,$H$9,I142,$H$10,$H$11),E141)","v":138.68829677219458},138.68829677219458,6955.4593700183732,0.02,8.983077288775803,80,-1,5.6213207899306914,5.6313207899306912,-7.7639983692595393E-2,5.3782423170024343,93.505263451305382,6911.5133141231299,{"$f":"IF(H142>0, rate1(1,$L$52,$L$51,$L$54,L142,$L$53,$L$50,P142),\"\")","v":1145.1946632617439},1.1221565996459044,0.63557747938016096,5.641320789930691,5.641320789930691,1.914796173387856E-3,6948.8257120326616,93.83764830182335,{"$f":"IF(H142>0, rate1(1,$L$52,$L$51,$L$54,U142,$L$53,$L$50,Y142),\"\")","v":1146.3786714815647},1.1270494103966056,-1.5071271621100057E-2,0.63557747938016096,-3.1467445982360405E-2,-3.9509168674959141E-3,726.33199624074803,715.18078961347089,5.6217839753378209,554.99514603911007,6.6305741998097574,100.77644865588,1.8652057578620811]
[null,726.33199624074803,715.18078961347089,5.6217839753378209,{"$f":"IF(AND(C143<$B$6,C143>$H$12),bb($B$6,$H$12,C143,$H$8,$H$9,I143,$H$10,$H$11),E142)","v":138.68829677219458},138.68829677219458,6883.1899096440311,0.02,8.9209653018217079,80,-1,5.6017839753378214,5.6117839753378211,-7.7377467637358421E-2,5.2881867253317836,93.072383532849258,6838.9982298067307,{"$f":"IF(H143>0, rate1(1,$L$52,$L$51,$L$54,L143,$L$53,$L$50,P143),\"\")","v":1143.6376979498223},1.1308298062093933,0.59143607927933217,5.6217839753378209,5.6217839753378209,1.9015566351789914E-3,6876.0524089762803,93.40438244722435,{"$f":"IF(H143>0, rate1(1,$L$52,$L$51,$L$54,U143,$L$53,$L$50,Y143),\"\")","v":1144.8333410443463},1.1357693056877454,-1.4005791850717458E-2,0.59143607927933217,-3.3815995845857261E-2,-3.8280748357216784E-3,725.66318269383135,714.58935353419156,5.6022454330286893,517.15336101598291,6.7742279112030861,104.63669484471245,1.90960536954521]
[null,725.66318269383135,714.58935353419156,5.6022454330286893,{"$f":"IF(AND(C144<$B$6,C144>$H$12),bb($B$6,$H$12,C144,$H$8,$H$9,I144,$H$10,$H$11),E143)","v":138.68829677219458},138.68829677219458,6811.416467012973,0.02,8.8590633277118283,80,-1,5.5822454330286897,5.5922454330286895,-7.7114882430510789E-2,5.2037378681411042,92.639968904445794,6766.9799524223454,{"$f":"IF(H144>0, rate1(1,$L$52,$L$51,$L$54,L144,$L$53,$L$50,P144),\"\")","v":1142.065230521654},1.1386455902928689,0.55620147938074804,5.6022454330286893,5.6022454330286893,1.8883618624592202E-3,6803.7767867364191,92.971580951769994,{"$f":"IF(H144>0, rate1(1,$L$52,$L$51,$L$54,U144,$L$53,$L$50,Y144),\"\")","v":1143.2726761650958},1.1436281100402199,-1.3147578575882017E-2,0.55620147938074804,-3.5958192743872568E-2,-3.733228983053536E-3,725.02986633202011,714.03315205481078,5.5827051624162456,487.01375763510055,6.9095095105461697,108.19635964099616,1.9509776384264885]
[null,725.02986633202011,714.03315205481078,5.5827051624162456,{"$f":"IF(AND(C145<$B$6,C145>$H$12),bb($B$6,$H$12,C145,$H$8,$H$9,I145,$H$10,$H$11),E144)","v":138.68829677219458},138.68829677219458,6740.1374206068131,0.02,8.7973714217674566,80,-1,5.562705162416246,5.5727051624162458,-7.6852228051954796E-2,5.1237711221897371,92.20802085907313,6695.4568609581975,{"$f":"IF(H145>0, rate1(1,$L$52,$L$51,$L$54,L145,$L$53,$L$50,P145),\"\")","v":1140.4770358483067},1.1457871560386421,0.5271536268365401,5.5827051624162456,5.5827051624162456,1.8752118670271045E-3,6731.9972245314993,92.539245102957295,{"$f":"IF(H145>0, rate1(1,$L$52,$L$51,$L$54,U145,$L$53,$L$50,Y145),\"\")","v":1141.6964549134968},1.1508098066027506,-1.2434283348473595E-2,0.5271536268365401,-3.7939604285795049E-2,-3.6579170219465796E-3,724.42586047713166,713.50599842797419,5.5631631629087019,462.22204416806517,7.0379045228150767,111.51361316941376,1.9899387390372967]
[null,724.42586047713166,713.50599842797419,5.5631631629087019,{"$f":"IF(AND(C146<$B$6,C146>$H$12),bb($B$6,$H$12,C146,$H$8,$H$9,I146,$H$10,$H$11),E145)","v":138.68829677219458},138.68829677219458,6669.3511480318011,0.02,8.7358896393259791,80,-1,5.5431631629087024,5.5531631629087022,-7.6589504481571424E-2,5.0475053162458234,91.776540697151717,6624.4273335273892,{"$f":"IF(H146>0, rate1(1,$L$52,$L$51,$L$54,L146,$L$53,$L$50,P146),\"\")","v":1138.8728844799782},1.1523815660576575,0.5026165989959166,5.5631631629087019,5.5631631629087019,1.8621066606385739E-3,6660.7121007048836,92.107376195673595,{"$f":"IF(H146>0, rate1(1,$L$52,$L$51,$L$54,U146,$L$53,$L$50,Y146),\"\")","v":1140.1044511145542},1.1574419961703828,-1.1827255153849886E-2,0.5026165989959166,-3.9791761831889851E-2,-3.5972248947041255E-3,723.84665437365413,713.00338182897826,5.5436194339094005,441.32809363128951,7.1604956599348792,114.62905326594031,2.0269165025707419]
[null,723.84665437365413,713.00338182897826,5.5436194339094005,{"$f":"IF(AND(C147<$B$6,C147>$H$12),bb($B$6,$H$12,C147,$H$8,$H$9,I147,$H$10,$H$11),E146)","v":138.68829677219458},138.68829677219458,6599.0560260182974,0.02,8.6746180357406963,80,-1,5.5236194339094009,5.5336194339094007,-7.6326711699110206E-2,4.9743708922467276,91.345529726613336,6553.8897473673151,{"$f":"IF(H147>0, rate1(1,$L$52,$L$51,$L$54,L147,$L$53,$L$50,P147),\"\")","v":1137.2525425425106},1.1585213757977484,0.48149160524882562,5.5436194339094005,5.5436194339094005,1.8490462551312703E-3,6589.9197927243049,91.6759755322649,{"$f":"IF(H147>0, rate1(1,$L$52,$L$51,$L$54,U147,$L$53,$L$50,Y147),\"\")","v":1138.4964342472904},1.1636176244910144,-1.1301021273737031E-2,0.48149160524882562,-4.153758815725226E-2,-3.54803733539088E-3,723.28883605670615,712.52189022372943,5.5240739748168917,423.38142781582519,7.2781016121059414,117.57242529385884,2.0622227500612449]
[null,723.28883605670615,712.52189022372943,5.5240739748168917,{"$f":"IF(AND(C148<$B$6,C148>$H$12),bb($B$6,$H$12,C148,$H$8,$H$9,I148,$H$10,$H$11),E147)","v":138.68829677219458},138.68829677219458,6529.2504304208751,0.02,8.6135566663813741,80,-1,5.5040739748168921,5.5140739748168919,-7.6063849684285145E-2,4.9039370327600942,90.914989262974956,6483.8424788398279,{"$f":"IF(H148>0, rate1(1,$L$52,$L$51,$L$54,L148,$L$53,$L$50,P148),\"\")","v":1135.6157716309403},1.1642765619783733,0.46302314078315582,5.5240739748168917,5.5240739748168917,1.8360306623037559E-3,6519.6186771820157,91.245044422608942,{"$f":"IF(H148>0, rate1(1,$L$52,$L$51,$L$54,U148,$L$53,$L$50,Y148),\"\")","v":1136.872169340551},1.1694069618925227,-1.0837988249081486E-2,0.46302314078315582,-4.3194385417048627E-2,-3.5082507007048193E-3,722.74974906623868,712.05886708294622,5.5045267850247601,407.72869869372687,7.3913595839653103,120.36634305639109,2.0960932642865111]
[null,722.74974906623868,712.05886708294622,5.5045267850247601,{"$f":"IF(AND(C149<$B$6,C149>$H$12),bb($B$6,$H$12,C149,$H$8,$H$9,I149,$H$10,$H$11),E148)","v":138.68829677219458},138.68829677219458,6459.9327362176045,0.02,8.5527055866339659,80,-1,5.4845267850247605,5.4945267850247603,-7.5800918416749852E-2,4.8358683154304032,90.484920629408421,6414.2839034304989,{"$f":"IF(H149>0, rate1(1,$L$52,$L$51,$L$54,L149,$L$53,$L$50,P149),\"\")","v":1133.9623286999508},1.1697016030375174,0.44667178777322397,5.5045267850247601,5.5045267850247601,1.8230598939439346E-3,6449.8071297940551,90.81458418418427,{"$f":"IF(H149>0, rate1(1,$L$52,$L$51,$L$54,U149,$L$53,$L$50,Y149),\"\")","v":1135.2314168657865},1.1748647140858532,-1.0425544704512929E-2,0.44667178777322397,-4.4775606043321529E-2,-3.4763755994159182E-3,722.22727636004868,711.61219529517302,5.4849778639215101,393.90355082193776,7.5007772369714045,123.02850583783204,2.1287115601820092]
[null,722.22727636004868,711.61219529517302,5.4849778639215101,{"$f":"IF(AND(C150<$B$6,C150>$H$12),bb($B$6,$H$12,C150,$H$8,$H$9,I150,$H$10,$H$11),E149)","v":138.68829677219458},138.68829677219458,6391.1013175095813,0.02,8.4920648519005226,80,-1,5.4649778639215105,5.4749778639215103,-7.5537917876044247E-2,4.7698974283954785,90.055325156812287,6345.2123957481181,{"$f":"IF(H150>0, rate1(1,$L$52,$L$51,$L$54,L150,$L$53,$L$50,P150),\"\")","v":1132.2919659511472},1.1748399281434307,0.43204043079951604,5.4849778639215101,5.4849778639215101,1.8101339618752377E-3,6380.4835253997462,90.384596142141334,{"$f":"IF(H150>0, rate1(1,$L$52,$L$51,$L$54,U150,$L$53,$L$50,Y150),\"\")","v":1133.5739326267394},1.1800344902313593,-1.0054373245643459E-2,0.43204043079951604,-4.6291963840024958E-2,-3.451318337569933E-3,721.71969801137311,711.18015486437355,5.4654272108906143,381.56274511459043,7.6067668883921238,125.57309628069903,2.1602238442477644]
[null,721.71969801137311,711.18015486437355,5.4654272108906143,{"$f":"IF(AND(C151<$B$6,C151>$H$12),bb($B$6,$H$12,C151,$H$8,$H$9,I151,$H$10,$H$11),E150)","v":138.68829677219458},138.68829677219458,6322.754547520929,0.02,8.431634517599651,80,-1,5.4454272108906148,5.4554272108906146,-7.5274848041672726E-2,4.7058072022360431,89.626204183888333,6276.6263295247491,{"$f":"IF(H151>0, rate1(1,$L$52,$L$51,$L$54,L151,$L$53,$L$50,P151),\"\")","v":1130.6044307170544},1.1797268425708394,0.41882919081496206,5.4654272108906143,5.4654272108906143,1.7972528778997798E-3,6311.6462379617624,89.955081629378256,{"$f":"IF(H151>0, rate1(1,$L$52,$L$51,$L$54,U151,$L$53,$L$50,Y151),\"\")","v":1131.899467645929},1.1849517408304435,-9.7174153096911409E-3,0.41882919081496206,-4.7752163503894746E-2,-3.43225243157498E-3,721.22559397251644,710.76132567355853,5.4458748253103675,370.44715148456595,7.7096688749156144,128.01170244371346,2.1907488638569315]
[null,721.22559397251644,710.76132567355853,5.4458748253103675,{"$f":"IF(AND(C152<$B$6,C152>$H$12),bb($B$6,$H$12,C152,$H$8,$H$9,I152,$H$10,$H$11),E151)","v":138.68829677219458},138.68829677219458,6254.8907985982714,0.02,8.3714146391663231,80,-1,5.4258748253103679,5.4358748253103677,-7.5011708893015339E-2,4.6434183322630744,89.197559057214619,6208.5240776151268,{"$f":"IF(H152>0, rate1(1,$L$52,$L$51,$L$54,L152,$L$53,$L$50,P152),\"\")","v":1128.8994653416926},1.1843915239614837,0.40680670825565723,5.4458748253103675,5.4458748253103675,1.784416653844545E-3,6243.2936405655055,89.526041986613151,{"$f":"IF(H152>0, rate1(1,$L$52,$L$51,$L$54,U152,$L$53,$L$50,Y152),\"\")","v":1130.2077680478108},1.1896457625166144,-9.4092092022789956E-3,0.40680670825565723,-4.9163397736870708E-2,-3.4185389336014197E-3,720.74377555536773,710.35451896530287,5.4263207065537875,360.35689691156506,7.8097680129466047,130.35394885537866,2.2203846359756967]
[null,720.74377555536773,710.35451896530287,5.4263207065537875,{"$f":"IF(AND(C153<$B$6,C153>$H$12),bb($B$6,$H$12,C153,$H$8,$H$9,I153,$H$10,$H$11),E152)","v":138.68829677219458},138.68829677219458,6187.5084422101609,0.02,8.3114052720518892,80,-1,5.4063207065537879,5.4163207065537877,-7.4748500409427265E-2,4.5825807267910976,88.769391131320717,6140.9040119961965,{"$f":"IF(H153>0, rate1(1,$L$52,$L$51,$L$54,L153,$L$53,$L$50,P153),\"\")","v":1127.176807057642},1.1888584273746883,0.39579118310208605,5.4263207065537875,5.4263207065537875,1.7716253015258587E-3,6175.4241054186623,89.097478562458633,{"$f":"IF(H153>0, rate1(1,$L$52,$L$51,$L$54,U153,$L$53,$L$50,Y153),\"\")","v":1128.4985749384991},1.1941411091026137,-9.1254516352302396E-3,0.39579118310208605,-5.0531696646818482E-2,-3.4096748189383908E-3,720.27323587185617,709.95872778220075,5.4067648539886077,351.13496003812463,7.9073055018460838,132.60794189408224,2.2492131877286221]
[null,720.27323587185617,709.95872778220075,5.4067648539886077,{"$f":"IF(AND(C154<$B$6,C154>$H$12),bb($B$6,$H$12,C154,$H$8,$H$9,I154,$H$10,$H$11),E153)","v":138.68829677219458},138.68829677219458,6120.6058489470897,0.02,8.2516064717243349,80,-1,5.3867648539886082,5.3967648539886079,-7.4485222570142895E-2,4.5231672494197053,88.341701768766058,6073.7645037670081,{"$f":"IF(H154>0, rate1(1,$L$52,$L$51,$L$54,L154,$L$53,$L$50,P154),\"\")","v":1125.4361878594696},1.1931483004952048,0.38563747327402498,5.4067648539886077,5.4067648539886077,1.7588788327742577E-3,6108.0360038510944,88.669392713499334,{"$f":"IF(H154>0, rate1(1,$L$52,$L$51,$L$54,U154,$L$53,$L$50,Y154),\"\")","v":1126.771624281954},1.1984586111149598,-8.86269848858009E-3,0.38563747327402498,-5.1862179860794978E-2,-3.4052583127591857E-3,719.81311317601205,709.57309030892668,5.38720726697718,342.65600967344989,8.0024877267553762,134.78059242367326,2.277303984531672]
[null,719.81311317601205,709.57309030892668,5.38720726697718,{"$f":"IF(AND(C155<$B$6,C155>$H$12),bb($B$6,$H$12,C155,$H$8,$H$9,I155,$H$10,$H$11),E154)","v":138.68829677219458},138.68829677219458,6054.1813885209549,0.02,8.1920182936682977,80,-1,5.3672072669771804,5.3772072669771802,-7.4221875354357536E-2,4.4650690903577868,87.91449234021718,6007.1039231482673,{"$f":"IF(H155>0, rate1(1,$L$52,$L$51,$L$54,L155,$L$53,$L$50,P155),\"\")","v":1123.677334373381},1.1972789338704022,0.37622808425716592,5.38720726697718,5.38720726697718,1.7461772593811986E-3,6041.1277063143825,88.241785804368448,{"$f":"IF(H155>0, rate1(1,$L$52,$L$51,$L$54,U155,$L$53,$L$50,Y155),\"\")","v":1125.0266467724875},1.202616129223532,-8.6181552577917677E-3,0.37622808425716592,-5.3159242589474673E-2,-3.4049648677722056E-3,719.36266321640051,709.19686222466953,5.3676479448762864,334.81861095558151,8.0954928964652595,136.87785480065745,2.3047164653055479]
[null,719.36266321640051,709.19686222466953,5.3676479448762864,{"$f":"IF(AND(C156<$B$6,C156>$H$12),bb($B$6,$H$12,C156,$H$8,$H$9,I156,$H$10,$H$11),E155)","v":138.68829677219458},138.68829677219458,5988.2334297643902,0.02,8.1326407933847804,80,-1,5.3476479448762868,5.3576479448762866,-7.3958458741145705E-2,4.4081922754575018,87.487764224524298,5940.9206394816238,{"$f":"IF(H156>0, rate1(1,$L$52,$L$51,$L$54,L156,$L$53,$L$50,P156),\"\")","v":1121.8999677229692},1.2012657262877038,0.3674667321917699,5.3676479448762864,5.3676479448762864,1.7335205932340614E-3,5974.6975823811345,87.814659207823453,{"$f":"IF(H156>0, rate1(1,$L$52,$L$51,$L$54,U156,$L$53,$L$50,Y156),\"\")","v":1123.263367703461},1.2066291220204928,-8.389526976077151E-3,0.3674667321917699,-5.4426695664963214E-2,-3.408530078347178E-3,718.92123802546757,708.82939549247772,5.3480868870372724,327.53965840429407,8.1864761349108974,138.90490740363518,2.3315019541819946]
[null,718.92123802546757,708.82939549247772,5.3480868870372724,{"$f":"IF(AND(C157<$B$6,C157>$H$12),bb($B$6,$H$12,C157,$H$8,$H$9,I157,$H$10,$H$11),E156)","v":138.68829677219458},138.68829677219458,5922.7603406310973,0.02,8.0734740263918869,80,-1,5.3280868870372728,5.3380868870372726,-7.3694972709521522E-2,4.3524549880157046,87.061518808805801,5875.2130212300144,{"$f":"IF(H157>0, rate1(1,$L$52,$L$51,$L$54,L157,$L$53,$L$50,P157),\"\")","v":1120.1038033909504},1.2051221182172531,0.35927365293423991,5.3480868870372724,5.3480868870372724,1.7209088461243027E-3,5908.7440007452969,87.388014304829767,{"$f":"IF(H157>0, rate1(1,$L$52,$L$51,$L$54,U157,$L$53,$L$50,Y157),\"\")","v":1121.4815068320772},1.2105110813002065,-8.1749085867367823E-3,0.35927365293423991,-5.5667872766781271E-2,-3.4157372487366279E-3,718.48826939982382,708.47012183954348,5.3285240928057656,320.75031961019283,8.2755734459137287,140.86629133566538,2.3577051268543383]
[null,718.48826939982382,708.47012183954348,5.3285240928057656,{"$f":"IF(AND(C158<$B$6,C158>$H$12),bb($B$6,$H$12,C158,$H$8,$H$9,I158,$H$10,$H$11),E157)","v":138.68829677219458},138.68829677219458,5857.7604881948246,{"$f":"dv(S157)","v":0.02},8.0145180482242733,80,-1,5.308524092805766,5.3185240928057658,-7.3431417238406738E-2,4.2977854828844197,86.635757488524888,5809.9794359766429,{"$f":"IF(H158>0, rate1(1,$L$52,$L$51,$L$54,L158,$L$53,$L$50,P158),\"\")","v":1118.2885510766898},1.208859929191429,0.35158212263446526,5.3285240928057656,5.3285240928057656,1.7083420298931173E-3,5843.265329221158,86.961852484636694,{"$f":"IF(H158>0, rate1(1,$L$52,$L$51,$L$54,U158,$L$53,$L$50,Y158),\"\")","v":1119.6807782400715},1.2142738708653693,-7.9727034518664568E-3,0.35158212263446526,-5.6885713784695771E-2,-3.4264081682115967E-3,718.06325585995091,708.11853971690903,5.3089595615216902,314.3930270018069,8.36290484230312,142.76601860789737,2.3833651524231536]
[null,718.06325585995091,708.11853971690903,5.3089595615216902,{"$f":"IF(AND(C159<$B$6,C159>$H$12),bb($B$6,$H$12,C159,$H$8,$H$9,I159,$H$10,$H$11),E158)","v":138.68829677219458},138.68829677219458,5793.2322386493024,0.02,7.9557729144335099,80,-1,5.2889595615216907,5.2989595615216905,-7.3167792306652046E-2,4.2441204399164674,86.210481667573731,5745.2182504249267,{"$f":"IF(H159>0, rate1(1,$L$52,$L$51,$L$54,L159,$L$53,$L$50,P159),\"\")","v":1116.4539145494268},1.2124896239905223,0.34433583594611455,5.3089595615216902,5.3089595615216902,1.6958201564101216E-3,5778.2599347433033,86.536175144860636,{"$f":"IF(H159>0, rate1(1,$L$52,$L$51,$L$54,U159,$L$53,$L$50,Y159),\"\")","v":1117.8608901902071},1.2179279938350578,-7.7815618203397477E-3,0.34433583594611455,-5.8082830516454929E-2,-3.4403961472724231E-3,717.64575223169811,707.77420388096289,5.289393292519188,308.41921145046098,8.4485768454838031,144.60765765923253,2.4085165945832983]
[null,717.64575223169811,707.77420388096289,5.289393292519188,{"$f":"IF(AND(C160<$B$6,C160>$H$12),bb($B$6,$H$12,C160,$H$8,$H$9,I160,$H$10,$H$11),E159)","v":138.68829677219458},138.68829677219458,5729.1739573079503,0.02,7.8972386805881802,80,-1,5.2693932925191884,5.2793932925191882,-7.2904097893012221E-2,4.1914036484557471,85.785692758356873,5680.9278303981673,{"$f":"IF(H160>0, rate1(1,$L$52,$L$51,$L$54,L160,$L$53,$L$50,P160),\"\")","v":1114.5995914970133},1.216020525224571,0.33748690230811368,5.289393292519188,5.289393292519188,1.6833432374845358E-3,5713.7261833662551,86.110983691567668,{"$f":"IF(H160>0, rate1(1,$L$52,$L$51,$L$54,U160,$L$53,$L$50,Y160),\"\")","v":1116.0215449784091},1.2214828061198713,-7.6003337097574715E-3,0.33748690230811368,-5.9261559080419371E-2,-3.4575806814026618E-3,717.235361231497,707.43671697865477,5.2698252851264806,302.78757042682628,8.5326845039357,146.39440177802612,2.4331901314993352]
[null,717.235361231497,707.43671697865477,5.2698252851264806,{"$f":"IF(AND(C161<$B$6,C161>$H$12),bb($B$6,$H$12,C161,$H$8,$H$9,I161,$H$10,$H$11),E160)","v":138.68829677219458},138.68829677219458,5665.5840086032713,0.02,7.8389154022737788,80,-1,5.2498252851264811,5.2598252851264808,-7.2640333976156768E-2,4.1395849448303519,85.361392181874535,5617.1065408390077,{"$f":"IF(H161>0, rate1(1,$L$52,$L$51,$L$54,L161,$L$53,$L$50,P161),\"\")","v":1112.7252733700091},1.2194609849784261,0.33099429487796017,5.2698252851264806,5.2698252851264806,1.6709112849895291E-3,5649.6624402639609,85.686279539355951,{"$f":"IF(H161>0, rate1(1,$L$52,$L$51,$L$54,U161,$L$53,$L$50,Y161),\"\")","v":1114.1624387813686},1.2249466887854046,-7.4280323662979132E-3,0.33099429487796017,-6.0424002194279923E-2,-3.4778633079098633E-3,716.8317266026429,707.10572268377678,5.2502555386658161,297.46272759268612,8.6153130393781137,148.12912444111205,2.4574131371334813]
[null,716.8317266026429,707.10572268377678,5.2502555386658161,{"$f":"IF(AND(C162<$B$6,C162>$H$12),bb($B$6,$H$12,C162,$H$8,$H$9,I162,$H$10,$H$11),E161)","v":138.68829677219458},138.68829677219458,5602.4607560866807,0.02,7.7808031350929019,80,-1,5.2302555386658165,5.2402555386658163,-7.2376500534662824E-2,4.0886193456937088,84.93758136780869,5553.7527458091854,{"$f":"IF(H162>0, rate1(1,$L$52,$L$51,$L$54,L162,$L$53,$L$50,P162),\"\")","v":1110.8306452209758},1.2228185247904422,0.3248226358321506,5.2502555386658161,5.2502555386658161,1.6585243107769543E-3,5586.0670697295282,85.262064111441006,{"$f":"IF(H162>0, rate1(1,$L$52,$L$51,$L$54,U162,$L$53,$L$50,Y162),\"\")","v":1112.283261499477},1.2283271886139795,-7.263805597768438E-3,0.3248226358321506,-6.1572063624084482E-2,-3.5011643525623888E-3,716.43452746627611,706.78090004794467,5.2306840524533254,292.41418323270523,8.696539201387198,149.81442451371669,2.4812101553408961]
[null,716.43452746627611,706.78090004794467,5.2306840524533254,{"$f":"IF(AND(C163<$B$6,C163>$H$12),bb($B$6,$H$12,C163,$H$8,$H$9,I163,$H$10,$H$11),E162)","v":138.68829677219458},138.68829677219458,5539.8025624278889,0.02,7.7229019346651517,80,-1,5.2106840524533258,5.2206840524533256,-7.2112597547032919E-2,4.0384663347417948,84.514261754608725,5490.8648084889846,{"$f":"IF(H163>0, rate1(1,$L$52,$L$51,$L$54,L163,$L$53,$L$50,P163),\"\")","v":1108.9153855387883},1.2260999508489563,0.31894123495500887,5.2306840524533254,5.2306840524533254,1.6461823266737952E-3,5522.9384351746785,84.83833883974043,{"$f":"IF(H163>0, rate1(1,$L$52,$L$51,$L$54,U163,$L$53,$L$50,Y163),\"\")","v":1110.3836965949054},1.2316311337781924,-7.1069130467157418E-3,0.31894123495500887,-6.2707476513098978E-2,-3.5274203494090935E-3,716.04347363377406,706.46195881298968,5.2111108257990306,287.61548366473875,8.7764323912940707,151.45266349980105,2.5046032899995123]
[null,716.04347363377406,706.46195881298968,5.2111108257990306,{"$f":"IF(AND(C164<$B$6,C164>$H$12),bb($B$6,$H$12,C164,$H$8,$H$9,I164,$H$10,$H$11),E163)","v":138.68829677219458},138.68829677219458,5477.6077894149239,0.02,7.6652118566275025,80,-1,5.191110825799031,5.2011108257990308,-7.1848624991648791E-2,3.9890892708245356,84.091434789581413,5428.4410911772056,{"$f":"IF(H164>0, rate1(1,$L$52,$L$51,$L$54,L164,$L$53,$L$50,P164),\"\")","v":1106.9791660777967},1.2293114495875146,0.31332332127719786,5.2111108257990306,5.2111108257990306,1.6338853445674317E-3,5460.2748991297258,84.415105164962966,{"$f":"IF(H164>0, rate1(1,$L$52,$L$51,$L$54,U164,$L$53,$L$50,Y164),\"\")","v":1108.4634209246747},1.2348647298293023,-6.9567079984931149E-3,0.31332332127719786,-6.3831826876065687E-2,-3.5565819778573112E-3,715.65830168750517,706.14863549171253,5.1915358580066595,283.04355752904746,8.8550556017188065,153.0459964932009,2.5276125286926914]
[null,715.65830168750517,706.14863549171253,5.1915358580066595,{"$f":"IF(AND(C165<$B$6,C165>$H$12),bb($B$6,$H$12,C165,$H$8,$H$9,I165,$H$10,$H$11),E164)","v":138.68829677219458},138.68829677219458,5415.8747979534055,0.02,7.6077329566341181,80,-1,5.1715358580066599,5.1815358580066597,-7.1584582846842437E-2,3.9404548930756516,83.669101928978009,5366.4799552904842,{"$f":"IF(H165>0, rate1(1,$L$52,$L$51,$L$54,L165,$L$53,$L$50,P165),\"\")","v":1105.0216516816251},1.2324586676250708,0.30794542349481308,5.1915358580066595,5.1915358580066595,1.6216333763097168E-3,5398.0748232428978,83.992364536694637,{"$f":"IF(H165>0, rate1(1,$L$52,$L$51,$L$54,U165,$L$53,$L$50,Y165),\"\")","v":1106.5221045685007},1.2380336399634946,-6.812622688786402E-3,0.30794542349481308,-6.4946573236984231E-2,-3.5886124009912234E-3,715.27877168116356,705.84069006821767,5.1719591483736558,278.67818067291336,8.9324662074612817,154.59639808866572,2.5502560132950154]
[null,715.27877168116356,705.84069006821767,5.1719591483736558,{"$f":"IF(AND(C166<$B$6,C166>$H$12),bb($B$6,$H$12,C166,$H$8,$H$9,I166,$H$10,$H$11),E165)","v":138.68829677219458},138.68829677219458,5354.6019480665618,0.02,7.5504652903567155,80,-1,5.1519591483736562,5.161959148373656,-7.1320471090814408E-2,3.8925329042749173,83.247264638086975,5304.9797613632709,{"$f":"IF(H166>0, rate1(1,$L$52,$L$51,$L$54,L166,$L$53,$L$50,P166),\"\")","v":1103.0425001014444},1.235546779091335,0.30278686622651441,5.1719591483736558,5.1719591483736558,1.6094264337773723E-3,5336.3365682802987,83.570118413490547,{"$f":"IF(H166>0, rate1(1,$L$52,$L$51,$L$54,U166,$L$53,$L$50,Y166),\"\")","v":1104.5594106512674},1.2411430526191038,-6.6741563412134981E-3,0.30278686622651441,-6.605306316370417E-2,-3.623485921220318E-3,714.90466434384621,705.53790320199118,5.1523806961908649,274.50154114521223,9.0087166355571746,156.10568422411166,2.5725502677488485]
[null,714.90466434384621,705.53790320199118,5.1523806961908649,{"$f":"IF(AND(C167<$B$6,C167>$H$12),bb($B$6,$H$12,C167,$H$8,$H$9,I167,$H$10,$H$11),E166)","v":138.68829677219458},138.68829677219458,5293.7875988941405,0.02,7.4934089134840178,80,-1,5.1323806961908653,5.1423806961908651,-7.1056289701683539E-2,3.8452956178163125,82.825924391320783,5243.9388690467722,{"$f":"IF(H167>0, rate1(1,$L$52,$L$51,$L$54,L167,$L$53,$L$50,P167),\"\")","v":1101.0413618084667},1.2385805427026479,0.29782935731789206,5.1523806961908649,5.1523806961908649,1.5972645288293563E-3,5275.0584941248617,83.148368262960773,{"$f":"IF(H167>0, rate1(1,$L$52,$L$51,$L$54,U167,$L$53,$L$50,Y167),\"\")","v":1102.5749951598686},1.2441977387802492,-6.5408653528389827E-3,0.29782935731789206,-6.7152547284493311E-2,-3.6611868866970429E-3,714.53577869682658,705.24007384467325,5.1328005007427233,270.49788286673049,9.0838549363534895,157.57553071107509,2.5945103910404654]
[null,714.53577869682658,705.24007384467325,5.1328005007427233,{"$f":"IF(AND(C168<$B$6,C168>$H$12),bb($B$6,$H$12,C168,$H$8,$H$9,I168,$H$10,$H$11),E167)","v":138.68829677219458},138.68829677219458,5233.4301086929481,0.02,7.4365638817226687,80,-1,5.1128005007427237,5.1228005007427235,-7.0792038657497613E-2,3.7987176567859677,82.405082672315089,5183.3556371094728,{"$f":"IF(H168>0, rate1(1,$L$52,$L$51,$L$54,L168,$L$53,$L$50,P168),\"\")","v":1099.0178798005261},1.2415643504475145,0.29305664733372505,5.1328005007427233,5.1328005007427233,1.5851476733494962E-3,5214.2389597768833,82.727115561868487,{"$f":"IF(H168>0, rate1(1,$L$52,$L$51,$L$54,U168,$L$53,$L$50,Y168),\"\")","v":1100.5685067543059},1.2472021008538581,-6.4123551857943563E-3,0.29305664733372505,-6.8246191246515348E-2,-3.7017088014018634E-3,714.17193001083535,704.94701719733951,5.1132185613069403,266.65321167196606,9.1579252729290364,159.00748904892211,2.616150221669804]
[null,714.17193001083535,704.94701719733951,5.1132185613069403,{"$f":"IF(AND(C169<$B$6,C169>$H$12),bb($B$6,$H$12,C169,$H$8,$H$9,I169,$H$10,$H$11),E168)","v":138.68829677219458},138.68829677219458,5173.5278348358324,0.02,7.3799302507966793,80,-1,5.0932185613069407,5.1032185613069405,-7.0527717936158751E-2,3.7527756960348087,81.984740974018237,5123.2284234361132,{"$f":"IF(H169>0, rate1(1,$L$52,$L$51,$L$54,L169,$L$53,$L$50,P169),\"\")","v":1096.9716894024289},1.2445022693543177,0.28845424675365405,5.1132185613069403,5.1132185613069403,1.5730758792145139E-3,5153.8763233529753,82.306361796218496,{"$f":"IF(H169>0, rate1(1,$L$52,$L$51,$L$54,U169,$L$53,$L$50,Y169),\"\")","v":1098.5395865727176},1.2501602145988469,-6.2882736239136773E-3,0.28845424675365405,-6.9335085980136102E-2,-3.7450535998286376E-3,713.81294804614549,704.65856295058586,5.0936348771544635,262.95505120172095,9.2309683427072926,160.40299999546585,2.6374824786035616]
[null,713.81294804614549,704.65856295058586,5.0936348771544635,{"$f":"IF(AND(C170<$B$6,C170>$H$12),bb($B$6,$H$12,C170,$H$8,$H$9,I170,$H$10,$H$11),E169)","v":138.68829677219458},138.68829677219458,5114.0791338114777,0.02,7.3235080764477063,80,-1,5.0736348771544639,5.0836348771544637,-7.0263327515508678E-2,3.7074482399599691,81.564900798788344,5063.5555850275077,{"$f":"IF(H170>0, rate1(1,$L$52,$L$51,$L$54,L170,$L$53,$L$50,P170),\"\")","v":1094.9024180599188},1.2473980775187943,0.28400918964364602,5.0936348771544635,5.0936348771544635,1.5610491582940256E-3,5093.9689420858995,81.886108461353317,{"$f":"IF(H170>0, rate1(1,$L$52,$L$51,$L$54,U170,$L$53,$L$50,Y170),\"\")","v":1096.4878680302002},1.2530758652900102,-6.1683051305787455E-3,0.28400918964364602,-7.0420256559636463E-2,-3.7912310568852916E-3,713.4586755289863,704.37455376094226,5.0740494475494105,259.39223894206759,9.3030217424134225,161.76340527216863,2.658518882699699]
[null,713.4586755289863,704.37455376094226,5.0740494475494105,{"$f":"IF(AND(C171<$B$6,C171>$H$12),bb($B$6,$H$12,C171,$H$8,$H$9,I171,$H$10,$H$11),E170)","v":138.68829677219458},138.68829677219458,5055.0823612241738,0.02,7.2672974144352338,80,-1,5.0540494475494109,5.0640494475494107,-6.9998867373264773E-2,3.6627154301266689,81.145563658490872,5004.335478000291,{"$f":"IF(H171>0, rate1(1,$L$52,$L$51,$L$54,L171,$L$53,$L$50,P171),\"\")","v":1092.8096851269793},1.2502552953389638,0.27970983502448271,5.0740494475494105,5.0740494475494105,1.5490675224825168E-3,5034.5151723243152,81.466357062049681,{"$f":"IF(H171>0, rate1(1,$L$52,$L$51,$L$54,U171,$L$53,$L$50,Y171),\"\")","v":1094.4129766111496},1.2559525790682848,-6.0521661009293667E-3,0.27970983502448271,-7.1502669894497703E-2,-3.8402583113049129E-3,713.10896682658858,704.09484392591776,5.054462271748962,255.9547548226403,9.3741202854197123,163.08995770881489,2.6792702618150646]
[null,713.10896682658858,704.09484392591776,5.054462271748962,{"$f":"IF(AND(C172<$B$6,C172>$H$12),bb($B$6,$H$12,C172,$H$8,$H$9,I172,$H$10,$H$11),E171)","v":138.68829677219458},138.68829677219458,4996.5358717934214,0.02,7.2112983205366623,80,-1,5.0344622717489624,5.0444622717489622,-6.9734337487066256E-2,3.6185588779705835,80.726731074597012,4945.5664575865412,{"$f":"IF(H172>0, rate1(1,$L$52,$L$51,$L$54,L172,$L$53,$L$50,P172),\"\")","v":1090.6931016462297},1.2530772127261767,0.27554569902157527,5.054462271748962,5.054462271748962,1.5371309836673674E-3,4975.5133695324039,81.047109112615928,{"$f":"IF(H172>0, rate1(1,$L$52,$L$51,$L$54,U172,$L$53,$L$50,Y172),\"\")","v":1092.3145296548878},1.2587936502492758,-5.9396008448691405E-3,0.27554569902157527,-7.258324144059311E-2,-3.8921594827572665E-3,712.76368679007999,703.81929822689619,5.0348733490031341,252.63357639805585,9.4442962788636162,164.38383007519028,2.6997466422008758]
[null,712.76368679007999,703.81929822689619,5.0348733490031341,{"$f":"IF(AND(C173<$B$6,C173>$H$12),bb($B$6,$H$12,C173,$H$8,$H$9,I173,$H$10,$H$11),E172)","v":138.68829677219458},138.68829677219458,4938.4380193532061,0.02,7.1555108505470351,80,-1,5.0148733490031345,5.0248733490031343,-6.9469737834431555E-2,3.5749615186940975,80.308404578280829,4887.246878133049,{"$f":"IF(H173>0, rate1(1,$L$52,$L$51,$L$54,L173,$L$53,$L$50,P173),\"\")","v":1088.5522701221362},1.2558669129198179,0.27150731230419617,5.0348733490031341,5.0348733490031341,1.5252395537501684E-3,4916.9618882891291,80.628366136987935,{"$f":"IF(H173>0, rate1(1,$L$52,$L$51,$L$54,U173,$L$53,$L$50,Y173),\"\")","v":1090.1921361343002},1.2616021652201994,-5.8303781716268384E-3,0.27150731230419617,-7.3662841086180569E-2,-3.946965369849887E-3,712.42270973994141,703.54779091459204,5.0152826785547893,249.42055586704433,9.5135797666044617,165.64612280208263,2.7199573283127201]
[null,712.42270973994141,703.54779091459204,5.0152826785547893,{"$f":"IF(AND(C174<$B$6,C174>$H$12),bb($B$6,$H$12,C174,$H$8,$H$9,I174,$H$10,$H$11),E173)","v":138.68829677219458},138.68829677219458,4880.7871568520222,0.02,7.0999350602794955,80,-1,4.9952826785547897,5.0052826785547895,-6.9205068392765412E-2,3.5319074831632666,79.890585710522842,4829.3750931013228,{"$f":"IF(H174>0, rate1(1,$L$52,$L$51,$L$54,L174,$L$53,$L$50,P174),\"\")","v":1086.3867842868026},1.2586272934214831,0.26758609842458664,5.0152826785547893,5.0152826785547893,1.513393244625405E-3,4858.8590822882416,80.210129668831911,{"$f":"IF(H174>0, rate1(1,$L$52,$L$51,$L$54,U174,$L$53,$L$50,Y174),\"\")","v":1088.0453964272647},1.2643810234431925,-5.7242884716746231E-3,0.26758609842458664,-7.4742298339674648E-2,-4.0047132167124648E-3,712.0859185731241,703.2802048161675,4.9956902596394999,246.30831513681665,9.581998743031356,166.87787075798465,2.7399109727820838]
[null,712.0859185731241,703.2802048161675,4.9956902596394999,{"$f":"IF(AND(C175<$B$6,C175>$H$12),bb($B$6,$H$12,C175,$H$8,$H$9,I175,$H$10,$H$11),E174)","v":138.68829677219458},138.68829677219458,4823.5816363523527,0.02,7.0445710055652855,80,-1,4.9756902596395003,4.9856902596395001,-6.894032913939796E-2,3.4893819851664682,79.47327602221246,4771.9494550671143,{"$f":"IF(H175>0, rate1(1,$L$52,$L$51,$L$54,L175,$L$53,$L$50,P175),\"\")","v":1084.1962288580198},1.2613610844745324,0.26377426952448862,4.9956902596394999,4.9956902596394999,1.5015920681733519E-3,4801.2033043378187,79.79240125164533,{"$f":"IF(H175>0, rate1(1,$L$52,$L$51,$L$54,U175,$L$53,$L$50,Y175),\"\")","v":1085.8739020805517},1.2671329559926507,-5.6211412125977567E-3,0.26377426952448862,-7.582240692412652E-2,-4.0654465391193346E-3,711.75320397446023,703.01643054664305,4.976096091485398,243.29015588102641,9.6495793418871969,168.08004921913027,2.7596156379930292]
[null,711.75320397446023,703.01643054664305,4.976096091485398,{"$f":"IF(AND(C176<$B$6,C176>$H$12),bb($B$6,$H$12,C176,$H$8,$H$9,I176,$H$10,$H$11),E175)","v":138.68829677219458},138.68829677219458,4766.8198090302903,0.02,6.989418742253747,80,-1,4.9560960914853984,4.9660960914853982,-6.8675520051506567E-2,3.4473712218418435,79.056477074250992,4714.968315719977,{"$f":"IF(H176>0, rate1(1,$L$52,$L$51,$L$54,L176,$L$53,$L$50,P176),\"\")","v":1081.9801792892786},1.2640708654433346,0.26006473654793716,4.976096091485398,4.976096091485398,1.4898360363204688E-3,4743.9929063598101,79.375182438859099,{"$f":"IF(H176>0, rate1(1,$L$52,$L$51,$L$54,U176,$L$53,$L$50,Y176),\"\")","v":1083.6772355659184},1.2698605419823386,-5.5207627813108496E-3,0.26006473654793716,-7.6903928865855467E-2,-4.1292150038151829E-3,711.42446371786082,702.75636581009508,4.9565001733131258,240.35998211978907,9.7163460035871392,169.25357914734329,2.7790788504635113]
[null,711.42446371786082,702.75636581009508,4.9565001733131258,{"$f":"IF(AND(C177<$B$6,C177>$H$12),bb($B$6,$H$12,C177,$H$8,$H$9,I177,$H$10,$H$11),E176)","v":138.68829677219458},138.68829677219458,4710.5000251752554,0.02,6.9344783262125933,80,-1,4.9365001733131262,4.946500173313126,-6.8410641106201098E-2,3.4058622854418905,78.640190437658916,4658.4300258630519,{"$f":"IF(H177>0, rate1(1,$L$52,$L$51,$L$54,L177,$L$53,$L$50,P177),\"\")","v":1079.7382015114586},1.2667590793881693,0.25645103163163446,4.9565001733131258,4.9565001733131258,1.4781251609683466E-3,4687.2262393898354,78.958474793943566,{"$f":"IF(H177>0, rate1(1,$L$52,$L$51,$L$54,U177,$L$53,$L$50,Y177),\"\")","v":1081.45497002811},1.2725662231794419,-5.4229946165972077E-3,0.25645103163163446,-7.7987598149840728E-2,-4.1960743533719707E-3,711.09960204512299,702.49991477846345,4.936902504335583,237.51223331048635,9.7823216239511623,170.39933187141006,2.7983076490330943]
[null,711.09960204512299,702.49991477846345,4.936902504335583,{"$f":"IF(AND(C178<$B$6,C178>$H$12),bb($B$6,$H$12,C178,$H$8,$H$9,I178,$H$10,$H$11),E177)","v":138.68829677219458},138.68829677219458,4654.6206341893112,0.02,6.8797498133276349,80,-1,4.9169025043355834,4.9269025043355832,-6.8145692280456416E-2,3.3648430848975277,78.224417693680124,4602.3329354123343,{"$f":"IF(H178>0, rate1(1,$L$52,$L$51,$L$54,L178,$L$53,$L$50,P178),\"\")","v":1077.4698516658211},1.2694280460842553,0.25292724076373979,4.936902504335583,4.936902504335583,1.4664594540292342E-3,4630.9016535764376,78.542279890511537,{"$f":"IF(H178>0, rate1(1,$L$52,$L$51,$L$54,U178,$L$53,$L$50,Y178),\"\")","v":1079.2066690244174},1.2752523170550014,-5.3276915875560228E-3,0.25292724076373979,-7.9074124003440452E-2,-4.2660863742392729E-3,710.77852911207879,702.24698753769974,4.9173030837579379,234.74182630047784,9.8475276868124055,171.51813325239854,2.8173086276979333]
[null,710.77852911207879,702.24698753769974,4.9173030837579379,{"$f":"IF(AND(C179<$B$6,C179>$H$12),bb($B$6,$H$12,C179,$H$8,$H$9,I179,$H$10,$H$11),E178)","v":138.68829677219458},138.68829677219458,4599.1799845871519,0.02,6.8252332595032392,80,-1,4.8973030837579383,4.9073030837579381,-6.7880673551119486E-2,3.3243022758851462,77.809160433893496,4546.6753933966693,{"$f":"IF(H179>0, rate1(1,$L$52,$L$51,$L$54,L179,$L$53,$L$50,P179),\"\")","v":1075.1746758280292},1.2720799736949078,0.24948794514085157,4.9173030837579379,4.9173030837579379,1.4548389274189333E-3,4575.0174981810887,78.126599312428752,{"$f":"IF(H179>0, rate1(1,$L$52,$L$51,$L$54,U179,$L$53,$L$50,Y179),\"\")","v":1076.9318862555151},1.2779210284815579,-5.2347205800423006E-3,0.24948794514085157,-8.0164193859982885E-2,-4.3393189024721777E-3,710.46116049338684,701.99749959255894,4.8977019107774664,232.04410478577563,9.9119843825862315,172.61076740080404,2.8360879738019715]
[null,710.46116049338684,701.99749959255894,4.8977019107774664,{"$f":"IF(AND(C180<$B$6,C180>$H$12),bb($B$6,$H$12,C180,$H$8,$H$9,I180,$H$10,$H$11),E179)","v":138.68829677219458},138.68829677219458,4544.176423995581,0.02,6.7709287206623232,80,-1,4.8777019107774668,4.8877019107774666,-6.7615584894959113E-2,3.2842291982983096,77.394420260322462,4491.4557479572632,{"$f":"IF(H180>0, rate1(1,$L$52,$L$51,$L$54,L180,$L$53,$L$50,P180),\"\")","v":1072.852209722779},1.274716969276473,0.24612816992353795,4.8977019107774664,4.8977019107774664,1.4432635930674564E-3,4519.572121577703,77.711434653922211,{"$f":"IF(H180>0, rate1(1,$L$52,$L$51,$L$54,U180,$L$53,$L$50,Y180),\"\")","v":1074.6301652871844},1.2805744602563236,-5.1439592604007444E-3,0.24612816992353795,-8.1258476046090905E-2,-4.4158458647610872E-3,710.14741673856838,701.75137142263543,4.8780989845833895,229.41479515350633,9.9757107145733173,173.67798000307621,2.8546515021848338]
[null,710.14741673856838,701.75137142263543,4.8780989845833895,{"$f":"IF(AND(C181<$B$6,C181>$H$12),bb($B$6,$H$12,C181,$H$8,$H$9,I181,$H$10,$H$11),E180)","v":138.68829677219458},138.68829677219458,4489.6082991530784,0.02,6.7168362527463614,80,-1,4.85809898458339,4.8680989845833897,-6.73504262886091E-2,3.2446138201898984,76.980198785546264,4436.6723463472154,{"$f":"IF(H181>0, rate1(1,$L$52,$L$51,$L$54,L181,$L$53,$L$50,P181),\"\")","v":1070.5019784286987},1.2773410482666696,0.24284333930926144,4.8780989845833895,4.8780989845833895,1.4317334628799472E-3,4464.5638712521604,77.296787519690142,{"$f":"IF(H181>0, rate1(1,$L$52,$L$51,$L$54,U181,$L$53,$L$50,Y181),\"\")","v":1072.3010392625833},1.2832146226020631,-5.0552949905119686E-3,0.24284333930926144,-8.2357622230395888E-2,-4.4957473535812064E-3,709.83722297297049,701.50852808332615,4.8584943043567481,226.84996777466128,10.038724594510724,174.72048130652854,2.8730046857971141]
[null,709.83722297297049,701.50852808332615,4.8584943043567481,{"$f":"IF(AND(C182<$B$6,C182>$H$12),bb($B$6,$H$12,C182,$H$8,$H$9,I182,$H$10,$H$11),E181)","v":138.68829677219458},138.68829677219458,4435.4739559094241,0.02,6.6629559117154713,80,-1,4.8384943043567485,4.8484943043567483,-6.7085197708557587E-2,3.2054466873870719,76.566497632813622,4382.3235349311481,{"$f":"IF(H182>0, rate1(1,$L$52,$L$51,$L$54,L182,$L$53,$L$50,P182),\"\")","v":1068.1234960731249},1.2799541430859318,0.23962923702102817,4.8584943043567481,4.8584943043567481,1.4202485488077343E-3,4409.9910938019402,76.88265952501439,{"$f":"IF(H182>0, rate1(1,$L$52,$L$51,$L$54,U182,$L$53,$L$50,Y182),\"\")","v":1069.9440306046881},1.2858434417757523,-4.968623873210766E-3,0.23962923702102817,-8.3462269665553965E-2,-4.5791097332829973E-3,709.53050853824095,701.26889884630509,4.8388878692703239,224.34600296876428,10.101042928668713,175.73894880451226,2.891152683219087]
[null,709.53050853824095,701.26889884630509,4.8388878692703239,{"$f":"IF(AND(C183<$B$6,C183>$H$12),bb($B$6,$H$12,C183,$H$8,$H$9,I183,$H$10,$H$11),E182)","v":138.68829677219458},138.68829677219458,4381.771739225439,0.02,6.6092877535486885,80,-1,4.8188878692703243,4.8288878692703241,-6.6819899131225213E-2,3.1667188780952218,76.153318436159182,4328.4076591849662,{"$f":"IF(H183>0, rate1(1,$L$52,$L$51,$L$54,L183,$L$53,$L$50,P183),\"\")","v":1065.7162655163499},1.2825581109631312,0.23648197145522401,4.8388878692703239,4.8388878692703239,1.4088088627595141E-3,4355.8521349358907,76.469052295875699,{"$f":"IF(H183>0, rate1(1,$L$52,$L$51,$L$54,U183,$L$53,$L$50,Y183),\"\")","v":1067.558650708517},1.288462767896748,-4.8838499090592567E-3,0.23648197145522401,-8.4573043251150504E-2,-4.666025776420858E-3,709.22720666765451,701.0324168748499,4.8192796784883782,221.89956098741365,10.162681695609662,176.7340296577926,2.909100363456588]
[null,709.22720666765451,701.0324168748499,4.8192796784883782,{"$f":"IF(AND(C184<$B$6,C184>$H$12),bb($B$6,$H$12,C184,$H$8,$H$9,I184,$H$10,$H$11),E183)","v":138.68829677219458},138.68829677219458,4328.4999931722859,0.02,6.5558318342436905,80,-1,4.7992796784883787,4.8092796784883785,-6.6554530532862088E-2,3.1284219619025073,75.740662840518056,4274.9230636951415,{"$f":"IF(H184>0, rate1(1,$L$52,$L$51,$L$54,L184,$L$53,$L$50,P184),\"\")","v":1063.2797780248923},1.2851547410816468,0.23339794485060264,4.8192796784883782,4.8192796784883782,1.3974144166901681E-3,4302.1453394734981,76.055967469066715,{"$f":"IF(H184>0, rate1(1,$L$52,$L$51,$L$54,U184,$L$53,$L$50,Y184),\"\")","v":1065.1443996226965},1.2910743820907467,-4.8008842504542494E-3,0.23339794485060264,-8.5690557441720161E-2,-4.7565948311028066E-3,708.92725419227099,700.79901892999931,4.7996697311666674,219.50755546593174,10.22365601657242,177.70634288307377,2.9268523283355812]
[null,708.92725419227099,700.79901892999931,4.7996697311666674,{"$f":"IF(AND(C185<$B$6,C185>$H$12),bb($B$6,$H$12,C185,$H$8,$H$9,I185,$H$10,$H$11),E184)","v":138.68829677219458},138.68829677219458,4275.6570609314958,0.02,6.5025882098173504,80,-1,4.7796697311666678,4.7896697311666676,-6.6289091889618845E-2,3.0905479626774151,75.328532501847675,4221.8680921587456,{"$f":"IF(H185>0, rate1(1,$L$52,$L$51,$L$54,L185,$L$53,$L$50,P185),\"\")","v":1060.8135129333928},1.2877457611292007,0.23037382594092981,4.7996697311666674,4.7996697311666674,1.386065222526156E-3,4248.8690513449283,75.643406692312766,{"$f":"IF(H185>0, rate1(1,$L$52,$L$51,$L$54,U185,$L$53,$L$50,Y185),\"\")","v":1062.7007657199922},1.2936800030332023,-4.7196445389897828E-3,0.23037382594092981,-8.6815418020310189E-2,-4.8509230161645975E-3,708.63059127444046,700.56864510405842,4.7800580264522399,217.1671298793068,10.283980219316671,178.65648133540932,2.9444129327728557]
[null,708.63059127444046,700.56864510405842,4.7800580264522399,{"$f":"IF(AND(C186<$B$6,C186>$H$12),bb($B$6,$H$12,C186,$H$8,$H$9,I186,$H$10,$H$11),E185)","v":138.68829677219458},138.68829677219458,4223.2412847944061,0.02,6.4495569363056351,80,-1,4.7600580264522403,4.7700580264522401,-6.6023583177511114E-2,3.0530893249193465,74.916929087247269,4169.2410873828894,{"$f":"IF(H186>0, rate1(1,$L$52,$L$51,$L$54,L186,$L$53,$L$50,P186),\"\")","v":1058.3169372946161},1.2903328433236014,0.22740652563348487,4.7800580264522399,4.7800580264522399,1.3747612922259123E-3,4196.021613590473,75.23137162438978,{"$f":"IF(H186>0, rate1(1,$L$52,$L$51,$L$54,U186,$L$53,$L$50,Y186),\"\")","v":1060.227225356299},1.2962812929645124,-4.6400543161885565E-3,0.22740652563348487,-8.7948223756051547E-2,-4.9491234468468171E-3,708.33716116562948,700.34123857842496,4.7604445634832473,214.87563660731536,10.343667896152036,179.58501350768,2.9617863031632004]
[null,708.33716116562948,700.34123857842496,4.7604445634832473,{"$f":"IF(AND(C187<$B$6,C187>$H$12),bb($B$6,$H$12,C187,$H$8,$H$9,I187,$H$10,$H$11),E186)","v":138.68829677219458},138.68829677219458,4171.2510061616713,0.02,6.3967380697636145,80,-1,4.7404445634832477,4.7504445634832475,-6.5758004372419521E-2,3.0160388831801468,74.505854275079272,4117.0403912842266,{"$f":"IF(H187>0, rate1(1,$L$52,$L$51,$L$54,L187,$L$53,$L$50,P187),\"\")","v":1055.7895055170936},1.2929176099777668,0.22449317532466115,4.7604445634832473,4.7604445634832473,1.3635026377265547E-3,4143.6013683600368,74.8198639352443,{"$f":"IF(H187>0, rate1(1,$L$52,$L$51,$L$54,U187,$L$53,$L$50,Y187),\"\")","v":1057.7232425176408},1.2988798632404956,-4.5620424974211239E-3,0.22449317532466115,-8.908956796159205E-2,-5.0513164895686115E-3,708.04690998593242,700.11674540310025,4.7408293413888609,212.63061827339456,10.402731956783535,180.49248516729651,2.9789763540917855]
[null,708.04690998593242,700.11674540310025,4.7408293413888609,{"$f":"IF(AND(C188<$B$6,C188>$H$12),bb($B$6,$H$12,C188,$H$8,$H$9,I188,$H$10,$H$11),E187)","v":138.68829677219458},138.68829677219458,4119.6845655430325,0.02,6.3441316662657306,80,-1,4.7208293413888613,4.7308293413888611,-6.5492355450107453E-2,2.9793898342237304,74.095309755094988,4065.2643448887356,{"$f":"IF(H188>0, rate1(1,$L$52,$L$51,$L$54,L188,$L$53,$L$50,P188),\"\")","v":1053.2306589899088},1.2955016386594922,0.22163110752009932,4.7408293413888609,4.7408293413888609,1.3522892709847412E-3,4091.6066569129343,74.40888530611781,{"$f":"IF(H188>0, rate1(1,$L$52,$L$51,$L$54,U188,$L$53,$L$50,Y188),\"\")","v":1055.1882684547006},1.3014772794737244,-4.4855429017582119E-3,0.22163110752009932,-9.0240039964544411E-2,-5.1576300470185087E-3,707.75978652296226,699.89511429558013,4.7212123592890496,210.42979107031749,10.46118467652529,181.37942084771018,2.9959868035536572]
[null,707.75978652296226,699.89511429558013,4.7212123592890496,{"$f":"IF(AND(C189<$B$6,C189>$H$12),bb($B$6,$H$12,C189,$H$8,$H$9,I189,$H$10,$H$11),E188)","v":138.68829677219458},138.68829677219458,4068.5403025567239,0.02,6.2917377819057041,80,-1,4.70121235928905,4.7112123592890498,-6.5226636386203296E-2,2.9431357116326988,73.685297228559264,4013.9112883311318,{"$f":"IF(H189>0, rate1(1,$L$52,$L$51,$L$54,L189,$L$53,$L$50,P189),\"\")","v":1050.6398256940577},1.298086466994687,0.21881783847425007,4.7212123592890496,4.7212123592890496,1.3411212039500242E-3,4040.035819617302,73.998437429669977,{"$f":"IF(H189>0, rate1(1,$L$52,$L$51,$L$54,U189,$L$53,$L$50,Y189),\"\")","v":1052.6217413043341},1.3040750663144907,-4.4104938303720208E-3,0.21881783847425007,-9.1400226505544011E-2,-5.2681998744730073E-3,707.47574204810178,699.67629645710588,4.7015936162944527,208.27102982670391,10.519037740366041,182.24632521011301,3.0128211868392825]
[null,707.47574204810178,699.67629645710588,4.7015936162944527,{"$f":"IF(AND(C190<$B$6,C190>$H$12),bb($B$6,$H$12,C190,$H$8,$H$9,I190,$H$10,$H$11),E189)","v":138.68829677219458},138.68829677219458,4017.8165559292202,{"$f":"dv(S189)","v":0.02},6.2395564727967212,80,-1,4.6815936162944531,4.6915936162944529,-6.4960847156173784E-2,2.9072703626069822,73.275818408379322,3962.9795608545724,{"$f":"IF(H190>0, rate1(1,$L$52,$L$51,$L$54,L190,$L$53,$L$50,P190),\"\")","v":1048.0164197998565},1.3006735971574583,0.21605105260424562,{"$f":"L190-K190*H190","v":4.7015936162944527},4.7015936162944527,1.3299984485914962E-3,3988.8871959497883,73.588522010105919,{"$f":"IF(H190>0, rate1(1,$L$52,$L$51,$L$54,U190,$L$53,$L$50,Y190),\"\")","v":1050.0230856975495},1.3066747119148034,-4.3368376880092412E-3,0.21605105260424562,-9.2570713074169864E-2,-5.3831699284029736E-3,707.19473014834136,699.46024540450162,4.6819731115063163,206.1523546029037,10.576302283311293,183.09368428881794,3.029482869225419]
[null,707.19473014834136,699.46024540450162,4.6819731115063163,{"$f":"IF(AND(C191<$B$6,C191>$H$12),bb($B$6,$H$12,C191,$H$8,$H$9,I191,$H$10,$H$11),E190)","v":138.68829677219458},138.68829677219458,3967.5116634950055,0.02,6.1875877950717957,80,-1,4.6619731115063168,4.6719731115063166,-6.4694987735377296E-2,2.8717879267305673,72.86687501923663,3912.4675008104864,{"$f":"IF(H191>0, rate1(1,$L$52,$L$51,$L$54,L191,$L$53,$L$50,P191),\"\")","v":1045.3598412497968},1.303264500085356,0.21332858846705902,4.6819731115063163,4.6819731115063163,1.3189210168871313E-3,3938.1591244954093,73.179140763306563,{"$f":"IF(H191>0, rate1(1,$L$52,$L$51,$L$54,U191,$L$53,$L$50,Y191),\"\")","v":1047.3917123533868},1.3092776721137391,-4.2645206421564382E-3,0.21332858846705902,-9.3752085192689891E-2,-5.5026927479490968E-3,706.91670657213888,699.24691681603451,4.6623508440161903,204.07191863426721,10.632988927376367,183.92196663218527,3.0459750575936511]
[null,{"$f":"IF(H192>0, AF191,\"\")","v":706.91670657213888},{"$f":"IF(H192>0, AG191,\"\")","v":699.24691681603451},{"$f":"IF(H192>0, AH191,\"\")","v":4.6623508440161903},{"$f":"IF(AND(C192<$B$6,C192>$H$12),bb($B$6,$H$12,C192,$H$8,$H$9,I192,$H$10,$H$11),E191)","v":138.68829677219458},{"$f":"IF(H192>0, (E192+E191)/2,\"\")","v":138.68829677219458},{"$f":"IF(H192>0, F192*$S$53*$C$55*(B192-C192+N192)^1.5,\"\")","v":3917.623962195853},0.02,{"$f":"IF(H192>0, (B192-C192)*B$19,\"\")","v":6.1358318048834919},{"$f":"IF(H192>0, $B$7,\"\")","v":80},{"$f":"IF(H192>0, IF((1-S191-0.015)>0,1,-1),\"\")","v":-1},{"$f":"IF(H192>0, D192+K192*H192,\"\")","v":4.6423508440161907},{"$f":"IF(H192>0, (D192+L192)/2,\"\")","v":4.6523508440161905},{"$f":"IF(H192>0, 2*($P$53*M192/$S$52/$S$51)^2-(B192-C192)*2,\"\")","v":-6.4429058099028325E-2},{"$f":"IF(H192>0, wh(B192,$F$51,$F$52,$F$53),\"\")","v":2.8366828165087332},{"$f":"IF(H192>0, $C$54*$L$55*$L$55*M192*M192/(($B$19*(B192-C192))^0.333)*1000,\"\")","v":72.458468797716222},{"$f":"IF(H192>0, M192/$S$54*(B192-C192+N192/2)*E192-J192,\"\")","v":3862.373445657824},{"$f":"IF(H192>0, rate1(1,$L$52,$L$51,$L$54,L192,$L$53,$L$50,P192),\"\")","v":1042.6694753262},{"$f":"IF(H192>0, Q192/O192/R192,\"\")","v":1.3058606194539817},{"$f":"IF(H192>0, N192/(1-S192),\"\")","v":0.21064842611659593},4.6623508440161903,{"$f":"IF(H192>0, (D192+U192)/2,\"\")","v":4.6623508440161903},{"$f":"IF(H192>0, 2*($P$53*V192/$S$52/$S$51)^2-(B192-C192)*2,\"\")","v":1.3078889207776001E-3},{"$f":"IF(H192>0, V192/$S$54*(B192-C192+W192/2)*F192-J192,\"\")","v":3887.8499429467711},{"$f":"IF(H192>0, $C$54*$L$55*$L$55*V192*V192/(($B$19*(B192-C192))^0.333)*1000,\"\")","v":72.770295416956529},{"$f":"IF(H192>0, rate1(1,$L$52,$L$51,$L$54,U192,$L$53,$L$50,Y192),\"\")","v":1044.7270176580607},{"$f":"IF(H192>0, X192/O192/Z192,\"\")","v":1.3118853743782855},{"$f":"IF(H192>0, W192/(1-AA192),\"\")","v":-4.1934923155173762E-3},{"$f":"IF(H192>0, delta_z(N192,S192,H192,AE191,AB192),\"\")","v":0.21064842611659593},{"$f":"IF(H192>0, H192/AC192*K192,\"\")","v":-9.494492965700968E-2},{"$f":"IF(H192>0, (AD192-AD191)/(AC192+AC191)*2,\"\")","v":-5.6269298725600096E-3},{"$f":"IF(H192>0, B192-(AC192-N192),\"\")","v":706.64162908792321},{"$f":"IF(H192>0, C192-AC192,\"\")","v":699.03626838991795},{"$f":"IF(H192>0, $S$54*$S$53*$C$55*SQRT(AF192-AG192),\"\")","v":4.642726812905825},{"$f":"IF(H192>0, AC192/R192*1000000,\"\")","v":202.02799746362038},{"$f":"IF(H192>0, AJ191+AI192/3600,\"\")","v":10.689107815560705},{"$f":"IF(H192>0, AK191+AI191*G191/1000000,\"\")","v":184.73162434955853},{"$f":"IF(H192>0, AL191+AI191*J191/1000000,\"\")","v":3.0623008110843926}]
[null,706.64162908792321,699.03626838991795,4.642726812905825,{"$f":"IF(AND(C193<$B$6,C193>$H$12),bb($B$6,$H$12,C193,$H$8,$H$9,I193,$H$10,$H$11),E192)","v":138.68829677219458},138.68829677219458,3868.1517880805964,0.02,6.0842885584042055,80,-1,4.6227268129058254,4.6327268129058252,-6.4163058222192149E-2,2.8019496995017676,72.050601492442098,3812.6957319628209,{"$f":"IF(H193>0, rate1(1,$L$52,$L$51,$L$54,L193,$L$53,$L$50,P193),\"\")","v":1039.9446922030743},1.3084633754419366,0.20800867568237397,4.642726812905825,4.642726812905825,1.2969021722550877E-3,3837.957988103858,72.361987710677866,{"$f":"IF(H193>0, rate1(1,$L$52,$L$51,$L$54,U193,$L$53,$L$50,Y193),\"\")","v":1042.0283832287976},1.3144992215306102,-4.123705508532906E-3,0.20800867568237397,-9.6149835743099918E-2,-5.7560522963196158E-3,706.36945735401866,698.82825971423563,4.6231010172470635,200.01897912639689,10.744668643095816,185.52309407345646,3.0784630508814823]
[null,706.36945735401866,698.82825971423563,4.6231010172470635,{"$f":"IF(AND(C194<$B$6,C194>$H$12),bb($B$6,$H$12,C194,$H$8,$H$9,I194,$H$10,$H$11),E193)","v":138.68829677219458},138.68829677219458,3819.0934763048817,0.02,6.0329581118264288,80,-1,4.6031010172470639,4.6131010172470637,-6.3896988079774175E-2,2.7675834819007541,71.643274864214703,3763.4326953987566,{"$f":"IF(H194>0, rate1(1,$L$52,$L$51,$L$54,L194,$L$53,$L$50,P194),\"\")","v":1037.1848464814752},1.3110741683138158,0.20540756703177623,4.6231010172470635,4.6231010172470635,1.2859607833011211E-3,3788.481595873774,71.954219396165982,{"$f":"IF(H194>0, rate1(1,$L$52,$L$51,$L$54,U194,$L$53,$L$50,Y194),\"\")","v":1039.2951754616852},1.3171205952893517,-4.055115947697331E-3,0.20540756703177623,-9.7367396386648361E-2,-5.8902409617722987E-3,706.10015279890706,698.62285214720384,4.6034734561015558,198.04335526940707,10.799680686226207,186.29679784521429,3.0944645692115942]
[null,706.10015279890706,698.62285214720384,4.6034734561015558,{"$f":"IF(AND(C195<$B$6,C195>$H$12),bb($B$6,$H$12,C195,$H$8,$H$9,I195,$H$10,$H$11),E194)","v":138.68829677219458},138.68829677219458,3770.4473611304506,0.02,5.9818405213625745,80,-1,4.5834734561015562,4.593473456101556,-6.3630847646562572E-2,2.7335792934086625,71.236490686147121,3714.582670745262,{"$f":"IF(H195>0, rate1(1,$L$52,$L$51,$L$54,L195,$L$53,$L$50,P195),\"\")","v":1034.3892767076286},1.313694381846326,0.2028434403958638,4.6034734561015558,4.6034734561015558,1.2750647658847925E-3,3739.419101270063,71.546992237324176,{"$f":"IF(H195>0, rate1(1,$L$52,$L$51,$L$54,U195,$L$53,$L$50,Y195),\"\")","v":1036.526745062831},1.3197508596498866,-3.9876820574647823E-3,0.2028434403958638,-9.8598209342971796E-2,-6.0296872949742271E-3,705.83367851086462,698.42000870680795,4.5838441285206786,196.0997130997886,10.854152828753927,187.05314393134921,3.1103080376331467]
[null,705.83367851086462,698.42000870680795,4.5838441285206786,{"$f":"IF(AND(C196<$B$6,C196>$H$12),bb($B$6,$H$12,C196,$H$8,$H$9,I196,$H$10,$H$11),E195)","v":138.68829677219458},138.68829677219458,3722.2117759250268,0.02,5.9309358432453338,80,-1,4.563844128520679,4.5738441285206788,-6.3364636897183857E-2,2.6999324733051697,70.830250743807468,3666.1439918881697,{"$f":"IF(H196>0, rate1(1,$L$52,$L$51,$L$54,L196,$L$53,$L$50,P196),\"\")","v":1031.5573048731235},1.316325386620786,0.20031473785297543,4.5838441285206786,4.5838441285206786,1.2642141319929578E-3,3690.7688384125536,71.140308010404397,{"$f":"IF(H196>0, rate1(1,$L$52,$L$51,$L$54,U196,$L$53,$L$50,Y196),\"\")","v":1033.7224265621526},1.3223913641266882,-3.9213647531084828E-3,0.20031473785297543,-9.9842878334191046E-2,-6.1745937866154819E-3,705.56999913611446,698.21969396895497,4.5642130335452764,194.18672807286569,10.908093586551946,187.79252757712476,3.1259960146811299]
[null,705.56999913611446,698.21969396895497,4.5642130335452764,{"$f":"IF(AND(C197<$B$6,C197>$H$12),bb($B$6,$H$12,C197,$H$8,$H$9,I197,$H$10,$H$11),E196)","v":138.68829677219458},138.68829677219458,3674.3850531616945,0.02,5.8802441337275928,80,-1,4.5442130335452768,4.5542130335452766,-6.3098355806104678E-2,2.6666385575867166,70.424556835360207,3618.1149918189144,{"$f":"IF(H197>0, rate1(1,$L$52,$L$51,$L$54,L197,$L$53,$L$50,P197),\"\")","v":1028.6882358963362},1.3189685432029723,0.19781999557853797,4.5642130335452764,4.5642130335452764,1.253408893621355E-3,3642.5291405267594,70.734168504146822,{"$f":"IF(H197>0, rate1(1,$L$52,$L$51,$L$54,U197,$L$53,$L$50,Y197),\"\")","v":1030.8815378089937},1.3250434468785541,-3.8561272520890593E-3,0.19781999557853797,-0.10110201418976199,-6.3251746197498585E-3,705.30908078472987,698.02187397337639,4.5445801702055704,192.30315724002588,10.961511130229731,188.51533170308593,3.1415309529269591]
[null,705.30908078472987,698.02187397337639,4.5445801702055704,{"$f":"IF(AND(C198<$B$6,C198>$H$12),bb($B$6,$H$12,C198,$H$8,$H$9,I198,$H$10,$H$11),E197)","v":138.68829677219458},138.68829677219458,3626.9655244187256,0.02,5.8297654490827888,80,-1,4.5245801702055708,4.5345801702055706,-6.2832004347640691E-2,2.6336932670852224,70.019410771713083,3570.4940026343611,{"$f":"IF(H198>0, rate1(1,$L$52,$L$51,$L$54,L198,$L$53,$L$50,P198),\"\")","v":1025.7813570843116},1.3216252052300801,0.19535783677990268,4.5445801702055704,4.5445801702055704,1.242649062767498E-3,3594.6983399437113,70.32857551992511,{"$f":"IF(H198>0, rate1(1,$L$52,$L$51,$L$54,U198,$L$53,$L$50,Y198),\"\")","v":1028.0033794488229},1.3277084377362687,-3.7919349021081662E-3,0.19535783677990268,-0.10237623598654369,-6.4816563494355791E-3,705.05089094360233,697.82651613659652,4.5249455375208179,190.44783318658588,11.014413306114893,189.22192754972448,3.1569152055061611]
[null,705.05089094360233,697.82651613659652,4.5249455375208179,{"$f":"IF(AND(C199<$B$6,C199>$H$12),bb($B$6,$H$12,C199,$H$8,$H$9,I199,$H$10,$H$11),E198)","v":138.68829677219458},138.68829677219458,3579.951520378816,0.02,5.7794998456046418,80,-1,4.5049455375208183,4.5149455375208181,-6.2565582495954786E-2,2.6010924964788509,69.614814376661428,3523.2793555360299,{"$f":"IF(H199>0, rate1(1,$L$52,$L$51,$L$54,L199,$L$53,$L$50,P199),\"\")","v":1022.835937574173},1.3242967224228328,0.19292696524505398,4.5249455375208179,4.5249455375208179,1.2319346514146901E-3,3547.274768099177,69.923530871888829,{"$f":"IF(H199>0, rate1(1,$L$52,$L$51,$L$54,U199,$L$53,$L$50,Y199),\"\")","v":1025.087234380115},1.3303876611504999,-3.7287550240973221E-3,0.19292696524505398,-0.1036661721942093,-6.6442786374250259E-3,704.7953983958613,697.63358917135145,4.5053091344993588,188.61965849832438,11.06680765569776,189.91267527489248,3.172151032161088]
[null,704.7953983958613,697.63358917135145,4.5053091344993588,{"$f":"IF(AND(C200<$B$6,C200>$H$12),bb($B$6,$H$12,C200,$H$8,$H$9,I200,$H$10,$H$11),E199)","v":138.68829677219458},138.68829677219458,3533.3413708292583,0.02,5.7294473796078824,80,-1,4.4853091344993592,4.495309134499359,-6.2299090225025111E-2,2.568832304117417,69.210769487042768,3476.4693808302727,{"$f":"IF(H200>0, rate1(1,$L$52,$L$51,$L$54,L200,$L$53,$L$50,P200),\"\")","v":1019.851227753246},1.3269844435403311,0.19052615944201942,4.5053091344993588,4.5053091344993588,1.2212656716030779E-3,3500.2567555338496,69.519036387116429,{"$f":"IF(H200>0, rate1(1,$L$52,$L$51,$L$54,U200,$L$53,$L$50,Y200),\"\")","v":1022.1323671906384},1.333082439077248,-3.6665567689080233E-3,0.19052615944201942,-0.10497246183186916,-6.8132950473458178E-3,704.54257314619429,697.44306301190943,4.4856709601382194,186.81760070216575,11.118701433670584,190.58792450810688,3.1872406048409538]
[null,704.54257314619429,697.44306301190943,4.4856709601382194,{"$f":"IF(AND(C201<$B$6,C201>$H$12),bb($B$6,$H$12,C201,$H$8,$H$9,I201,$H$10,$H$11),E200)","v":138.68829677219458},138.68829677219458,3487.1334046610268,0.02,5.6796081074278852,80,-1,4.4656709601382198,4.4756709601382196,-6.2032527508712576E-2,2.5369089025927956,68.807277952884959,3430.0624079273798,{"$f":"IF(H201>0, rate1(1,$L$52,$L$51,$L$54,L201,$L$53,$L$50,P201),\"\")","v":1016.8264586568176},1.3296897192933756,0.18815426711414285,4.4856709601382194,4.4856709601382194,1.2106421352964247E-3,3453.6426318924377,69.115093905761398,{"$f":"IF(H201>0, rate1(1,$L$52,$L$51,$L$54,U201,$L$53,$L$50,Y201),\"\")","v":1019.1380235720991},1.3357940938162838,-3.605310985483797E-3,0.18815426711414285,-0.10629575564112559,-6.9889739023000202E-3,704.29238635157139,697.25490874479533,4.4660310134229464,185.04068763384288,11.170101624679985,191.2480148654669,3.2021860128971271]
[null,704.29238635157139,697.25490874479533,4.4660310134229464,{"$f":"IF(AND(C202<$B$6,C202>$H$12),bb($B$6,$H$12,C202,$H$8,$H$9,I202,$H$10,$H$11),E201)","v":138.68829677219458},138.68829677219458,3441.325949868487,0.02,5.6299820854208527,80,-1,4.4460310134229468,4.4560310134229466,-6.1765894320675585E-2,2.5053186499917453,68.404341637561544,3384.0567653412618,{"$f":"IF(H202>0, rate1(1,$L$52,$L$51,$L$54,L202,$L$53,$L$50,P202),\"\")","v":1013.7608413426217},1.3324139052323491,0.18581020032090037,4.4660310134229464,4.4660310134229464,1.20006405453843E-3,3407.4307259233683,68.711705281205738,{"$f":"IF(H202>0, rate1(1,$L$52,$L$51,$L$54,U202,$L$53,$L$50,Y202),\"\")","v":1016.1034297122737},1.3385239508183437,-3.5449901008109161E-3,0.18581020032090037,-0.10763671728171725,-7.1715992152360667E-3,704.04481025692985,697.0690985444744,4.4463892933275542,183.28800318901045,11.221014958899154,191.89327642853632,3.2169892679078345]
[null,704.04481025692985,697.0690985444744,4.4463892933275542,{"$f":"IF(AND(C203<$B$6,C203>$H$12),bb($B$6,$H$12,C203,$H$8,$H$9,I203,$H$10,$H$11),E202)","v":138.68829677219458},138.68829677219458,3395.9173335493333,0.02,5.5805693699643601,80,-1,4.4263892933275546,4.4363892933275544,-6.1499190634425105E-2,2.4740580417750064,68.001962417951987,3338.450780689403,{"$f":"IF(H203>0, rate1(1,$L$52,$L$51,$L$54,L203,$L$53,$L$50,P203),\"\")","v":1010.65356624098},1.3351583646245186,0.18349293088156485,4.4463892933275542,4.4463892933275542,1.189531441337266E-3,3361.6193654787239,68.308872380218403,{"$f":"IF(H203>0, rate1(1,$L$52,$L$51,$L$54,U203,$L$53,$L$50,Y203),\"\")","v":1013.027791663602},1.3412733414755391,-3.4855680088991831E-3,0.18349293088156485,-0.10899602455480403,-7.3614716921615187E-3,703.79981813541383,696.88560561359282,4.4267457988140526,181.5586834211129,11.27144792651613,192.52403019021025,3.2316523081629551]
[null,703.79981813541383,696.88560561359282,4.4267457988140526,{"$f":"IF(AND(C204<$B$6,C204>$H$12),bb($B$6,$H$12,C204,$H$8,$H$9,I204,$H$10,$H$11),E203)","v":138.68829677219458},138.68829677219458,3350.9058819035822,0.02,5.5313700174568119,80,-1,4.406745798814053,4.4167457988140528,-6.123241642327315E-2,2.4431237032315836,67.600142184596081,3293.242780691839,{"$f":"IF(H204>0, rate1(1,$L$52,$L$51,$L$54,L204,$L$53,$L$50,P204),\"\")","v":1007.5038024794007},1.3379244713351672,0.18120148618221954,4.4267457988140526,4.4267457988140526,1.1790443077064339E-3,3316.2068775132211,67.906597083107556,{"$f":"IF(H204>0, rate1(1,$L$52,$L$51,$L$54,U204,$L$53,$L$50,Y204),\"\")","v":1009.9102946870742},1.3440436059090213,-3.4270199691437365E-3,0.18120148618221954,-0.11037437065989422,-7.5589098192809408E-3,703.55738423280832,696.70440412741061,4.4071005288324674,179.85191295188619,11.321406791224987,193.14058847029642,3.2461770028366441]
[null,703.55738423280832,696.70440412741061,4.4071005288324674,{"$f":"IF(AND(C205<$B$6,C205>$H$12),bb($B$6,$H$12,C205,$H$8,$H$9,I205,$H$10,$H$11),E204)","v":138.68829677219458},138.68829677219458,3306.2899202336744,0.02,5.4823840843181646,80,-1,4.3871005288324678,4.3971005288324676,-6.096557166037897E-2,2.412512382462594,67.198882841861092,3248.4310911712878,{"$f":"IF(H205>0, rate1(1,$L$52,$L$51,$L$54,L205,$L$53,$L$50,P205),\"\")","v":1004.3106971806056},1.3407136127274588,0.17893494531181561,4.4071005288324674,4.4071005288324674,1.168602665684304E-3,3271.1915880843585,67.504881283885965,{"$f":"IF(H205>0, rate1(1,$L$52,$L$51,$L$54,U205,$L$53,$L$50,Y205),\"\")","v":1006.7501025704418},1.3468360957683325,-3.3693225126858379E-3,0.17893494531181561,-0.11177246549100625,-7.7642510384855921E-3,703.31748371583615,696.52546918209885,4.3874534823205282,178.16692166491745,11.370897602798575,193.74325530327852,3.2605651558727948]
[null,703.31748371583615,696.52546918209885,4.3874534823205282,{"$f":"IF(AND(C206<$B$6,C206>$H$12),bb($B$6,$H$12,C206,$H$8,$H$9,I206,$H$10,$H$11),E205)","v":138.68829677219458},138.68829677219458,3262.0677729438758,0.02,5.4336116269898413,80,-1,4.3674534823205287,4.3774534823205284,-6.0698656318724176E-2,2.3822209438529081,66.798186308104889,3204.0140370525269,{"$f":"IF(H206>0, rate1(1,$L$52,$L$51,$L$54,L206,$L$53,$L$50,P206),\"\")","v":1001.0733747326225},1.3435271925948888,0.17669243549608676,4.3874534823205282,4.3874534823205282,1.1582065272968123E-3,3226.5718223517797,67.103726890431744,{"$f":"IF(H206>0, rate1(1,$L$52,$L$51,$L$54,U206,$L$53,$L$50,Y206),\"\")","v":1003.5463569194198},1.3496521770558052,-3.3124533559302284E-3,0.17669243549608676,-0.11319103697816732,-7.9778530209817129E-3,703.08009262402129,696.34877674660277,4.3678046582034273,176.50298165534537,11.419926208813948,194.33232680049829,3.2748185096059883]
[null,703.08009262402129,696.34877674660277,4.3678046582034273,{"$f":"IF(AND(C207<$B$6,C207>$H$12),bb($B$6,$H$12,C207,$H$8,$H$9,I207,$H$10,$H$11),E206)","v":138.68829677219458},138.68829677219458,3218.2377635398243,0.02,5.3850527019348196,80,-1,4.3478046582034278,4.3578046582034276,-6.0431670371093205E-2,2.3522463619930853,66.398054515843342,3159.9899423619472,{"$f":"IF(H207>0, rate1(1,$L$52,$L$51,$L$54,L207,$L$53,$L$50,P207),\"\")","v":997.79093602970761},1.3463666341408411,0.17447312880177776,4.3678046582034273,4.3678046582034273,1.1478559045734471E-3,3182.3459045768263,66.703135824654026,{"$f":"IF(H207>0, rate1(1,$L$52,$L$51,$L$54,U207,$L$53,$L$50,Y207),\"\")","v":1000.2981764207121},1.3524932329899808,-3.2563913208684876E-3,0.17447312880177776,-0.11463083248035508,-8.2000950467141977E-3,702.84518782484838,696.174303617801,4.3481540553936426,174.85940441193094,11.46849826559504,194.90809148878469,3.288938748138416]
[null,702.84518782484838,696.174303617801,4.3481540553936426,{"$f":"IF(AND(C208<$B$6,C208>$H$12),bb($B$6,$H$12,C208,$H$8,$H$9,I208,$H$10,$H$11),E207)","v":138.68829677219458},138.68829677219458,3174.798214628207,0.02,5.3367073656379036,80,-1,4.3281540553936431,4.3381540553936428,-6.0164613790107069E-2,2.3225857160175192,65.998489411921952,3116.3571302272471,{"$f":"IF(H208>0, rate1(1,$L$52,$L$51,$L$54,L208,$L$53,$L$50,P208),\"\")","v":994.46245768272934},1.3492333830196943,0.17227623908655434,4.3481540553936426,4.3481540553936426,1.1375508095614606E-3,3138.512158122247,66.303110022662224,{"$f":"IF(H208>0, rate1(1,$L$52,$L$51,$L$54,U208,$L$53,$L$50,Y208),\"\")","v":997.0046560755261},1.3553606669219158,-3.2011162614443683E-3,0.17227623908655434,-0.11609262023622235,-8.4313794990855465E-3,702.61274697197177,696.0020273787145,4.328501672790682,173.23553821024876,11.516619248431219,195.47083062737326,3.3029275004913705]
[null,{"$f":"IF(H209>0, AF208,\"\")","v":702.61274697197177},{"$f":"IF(H209>0, AG208,\"\")","v":696.0020273787145},{"$f":"IF(H209>0, AH208,\"\")","v":4.328501672790682},{"$f":"IF(AND(C209<$B$6,C209>$H$12),bb($B$6,$H$12,C209,$H$8,$H$9,I209,$H$10,$H$11),E208)","v":138.68829677219458},{"$f":"IF(H209>0, (E209+E208)/2,\"\")","v":138.68829677219458},{"$f":"IF(H209>0, F209*$S$53*$C$55*(B209-C209+N209)^1.5,\"\")","v":3131.7474479163388},{"$f":"dv(S208)","v":0.02},{"$f":"IF(H209>0, (B209-C209)*B$19,\"\")","v":5.2885756746058181},{"$f":"IF(H209>0, $B$7,\"\")","v":80},{"$f":"IF(H209>0, IF((1-S208-0.015)>0,1,-1),\"\")","v":-1},{"$f":"IF(H209>0, D209+K209*H209,\"\")","v":4.3085016727906824},{"$f":"IF(H209>0, (D209+L209)/2,\"\")","v":4.3185016727906822},{"$f":"IF(H209>0, 2*($P$53*M209/$S$52/$S$51)^2-(B209-C209)*2,\"\")","v":-5.989748654817717E-2},{"$f":"IF(H209>0, wh(B209,$F$51,$F$52,$F$53),\"\")","v":2.293236184327633},{"$f":"IF(H209>0, $C$54*$L$55*$L$55*M209*M209/(($B$19*(B209-C209))^0.333)*1000,\"\")","v":65.599492957688867},{"$f":"IF(H209>0, M209/$S$54*(B209-C209+N209/2)*E209-J209,\"\")","v":3073.1139228769771},{"$f":"IF(H209>0, rate1(1,$L$52,$L$51,$L$54,L209,$L$53,$L$50,P209),\"\")","v":991.08699119754601},{"$f":"IF(H209>0, Q209/O209/R209,\"\")","v":1.3521289104542076},{"$f":"IF(H209>0, N209/(1-S209),\"\")","v":0.17010101917197312},{"$f":"L209-K209*H209","v":4.328501672790682},{"$f":"IF(H209>0, (D209+U209)/2,\"\")","v":4.328501672790682},{"$f":"IF(H209>0, 2*($P$53*V209/$S$52/$S$51)^2-(B209-C209)*2,\"\")","v":1.1272912543081048E-3},{"$f":"IF(H209>0, V209/$S$54*(B209-C209+W209/2)*F209-J209,\"\")","v":3095.0689054517293},{"$f":"IF(H209>0, $C$54*$L$55*$L$55*V209*V209/(($B$19*(B209-C209))^0.333)*1000,\"\")","v":65.903651434936933},{"$f":"IF(H209>0, rate1(1,$L$52,$L$51,$L$54,U209,$L$53,$L$50,Y209),\"\")","v":993.66486640218056},{"$f":"IF(H209>0, X209/O209/Z209,\"\")","v":1.3582559053184167},{"$f":"IF(H209>0, W209/(1-AA209),\"\")","v":-3.1466089953386032E-3},{"$f":"IF(H209>0, delta_z(N209,S209,H209,AE208,AB209),\"\")","v":0.17010101917197312},{"$f":"IF(H209>0, H209/AC209*K209,\"\")","v":-0.11757719087961421},{"$f":"IF(H209>0, (AD209-AD208)/(AC209+AC208)*2,\"\")","v":-8.6721334877380533E-3},{"$f":"IF(H209>0, B209-(AC209-N209),\"\")","v":702.38274846625166},{"$f":"IF(H209>0, C209-AC209,\"\")","v":695.83192635954254},{"$f":"IF(H209>0, $S$54*$S$53*$C$55*SQRT(AF209-AG209),\"\")","v":4.3088475092808176},{"$f":"IF(H209>0, AC209/R209*1000000,\"\")","v":171.63076569740602},{"$f":"IF(H209>0, AJ208+AI209/3600,\"\")","v":11.564294461124943},{"$f":"IF(H209>0, AK208+AI208*G208/1000000,\"\")","v":196.02081850479331},{"$f":"IF(H209>0, AL208+AI208*J208/1000000,\"\")","v":3.3167863435481904}]
[null,702.38274846625166,695.83192635954254,4.3088475092808176,{"$f":"IF(AND(C210<$B$6,C210>$H$12),bb($B$6,$H$12,C210,$H$8,$H$9,I210,$H$10,$H$11),E209)","v":138.68829677219458},138.68829677219458,3089.0837842116543,0.02,5.2406576853672959,80,-1,4.288847509280818,4.2988475092808178,-5.9630288617537275E-2,2.2641950396720394,65.201067129170596,3030.2586416400677,{"$f":"IF(H210>0, rate1(1,$L$52,$L$51,$L$54,L210,$L$53,$L$50,P210),\"\")","v":987.66356211986772},1.3550547164443207,0.16794675821997826,4.3088475092808176,4.3088475092808176,1.1170772508588556E-3,3052.0144681294314,65.504762026503414,{"$f":"IF(H210>0, rate1(1,$L$52,$L$51,$L$54,U210,$L$53,$L$50,Y210),\"\")","v":990.2778526063463},1.3611804008266426,-3.0928512408263929E-3,0.16794675821997826,-0.11908535902672091,-8.9228106082652227E-3,702.15517141941416,695.66397960132258,4.2891915637368569,170.04450165145954,11.611529044917015,196.55832271725009,3.3305168048039828]
[null,702.15517141941416,695.66397960132258,4.2891915637368569,{"$f":"IF(AND(C211<$B$6,C211>$H$12),bb($B$6,$H$12,C211,$H$8,$H$9,I211,$H$10,$H$11),E210)","v":138.68829677219458},138.68829677219458,3046.8055434213366,0.02,5.1929534544732636,80,-1,4.2691915637368574,4.2791915637368572,-5.9363019970234632E-2,2.2354596445580248,64.803213917251711,2987.7896069454414,{"$f":"IF(H211>0, rate1(1,$L$52,$L$51,$L$54,L211,$L$53,$L$50,P211),\"\")","v":984.19116914500739},1.3580123330830471,0.1658127792945735,4.2891915637368569,4.2891915637368569,1.1069088112591885E-3,3009.3471668195984,65.106443777109078,{"$f":"IF(H211>0, rate1(1,$L$52,$L$51,$L$54,U211,$L$53,$L$50,Y211),\"\")","v":986.8426337173936},1.3641356354349565,-3.0398255582346303E-3,0.1658127792945735,-0.12061796494267275,-9.1838928551069635E-3,701.92999562014938,695.498166822028,4.2695338350179401,168.47619089959869,11.658327986833569,197.08360442989596,3.3441203649360998]
[null,701.92999562014938,695.498166822028,4.2695338350179401,{"$f":"IF(AND(C212<$B$6,C212>$H$12),bb($B$6,$H$12,C212,$H$8,$H$9,I212,$H$10,$H$11),E211)","v":138.68829677219458},138.68829677219458,3004.9110445520164,0.02,5.1454630384971098,80,-1,4.2495338350179406,4.2595338350179404,-5.909568057808734E-2,2.2070274469708595,64.405935327858117,2945.7051383217085,{"$f":"IF(H212>0, rate1(1,$L$52,$L$51,$L$54,L212,$L$53,$L$50,P212),\"\")","v":980.6687831908265},1.3610033279958733,0.16369843709242168,4.2695338350179401,4.2695338350179401,1.0967859475830011E-3,2967.0653212862562,64.708698681404329,{"$f":"IF(H212>0, rate1(1,$L$52,$L$51,$L$54,U212,$L$53,$L$50,Y212),\"\")","v":983.35820168921362},1.3671231237455688,-2.9875152956671787E-3,0.16369843709242168,-0.12217587629568082,-9.4558927012570633E-3,701.70720150247882,695.33446838493558,4.2498743219691812,166.9253063810107,11.704696127494961,197.59691862226336,3.3575984602080675]
[null,701.70720150247882,695.33446838493558,4.2498743219691812,{"$f":"IF(AND(C213<$B$6,C213>$H$12),bb($B$6,$H$12,C213,$H$8,$H$9,I213,$H$10,$H$11),E212)","v":138.68829677219458},138.68829677219458,2963.3986057091051,0.02,5.0981864940345991,80,-1,4.2298743219691817,4.2398743219691815,-5.8828270412748296E-2,2.1788959763796565,64.009233382140422,2904.0035543965164,{"$f":"IF(H213>0, rate1(1,$L$52,$L$51,$L$54,L213,$L$53,$L$50,P213),\"\")","v":977.0953464320562},1.3640293079206065,0.16160311582818637,4.2498743219691812,4.2498743219691812,1.0867086718917562E-3,2925.1672503925633,64.311528749123667,{"$f":"IF(H213>0, rate1(1,$L$52,$L$51,$L$54,U213,$L$53,$L$50,Y213),\"\")","v":979.8235204637715},1.3701444163749636,-2.9359045383813079E-3,0.16160311582818637,-0.12375999000702223,-9.739355358860077E-3,701.48677011623784,695.17286526910743,4.2302130234215252,165.39134734219479,11.750638168423349,198.09851431902288,3.3709524847185484]
[null,701.48677011623784,695.17286526910743,4.2302130234215252,{"$f":"IF(AND(C214<$B$6,C214>$H$12),bb($B$6,$H$12,C214,$H$8,$H$9,I214,$H$10,$H$11),E213)","v":138.68829677219458},138.68829677219458,2922.2665440966603,0.02,5.0511238777043221,80,-1,4.2102130234215256,4.2202130234215254,-5.8560789445637695E-2,2.1510628400102942,63.613110116665013,2862.6831728963984,{"$f":"IF(H214>0, rate1(1,$L$52,$L$51,$L$54,L214,$L$53,$L$50,P214),\"\")","v":973.46977129417553},1.3670919224460509,0.15952622726054122,4.2302130234215252,4.2302130234215252,1.0766769962415879E-3,2883.6512721006525,63.914936005274228,{"$f":"IF(H214>0, rate1(1,$L$52,$L$51,$L$54,U214,$L$53,$L$50,Y214),\"\")","v":976.2375249956425},1.3732011034994365,-2.8849780618165123E-3,0.15952622726054122,-0.12537123420674662,-1.0034861244549696E-2,701.2686830995317,695.01333904184685,4.2105499381914946,163.87383765235947,11.796158678882337,198.5886348071331,3.3841837925059242]
[null,701.2686830995317,695.01333904184685,4.2105499381914946,{"$f":"IF(AND(C215<$B$6,C215>$H$12),bb($B$6,$H$12,C215,$H$8,$H$9,I215,$H$10,$H$11),E214)","v":138.68829677219458},138.68829677219458,2881.5131760169629,0.02,5.0042752461478814,80,-1,4.190549938191495,4.2005499381914948,-5.8293237647971452E-2,2.123525719367533,63.217567583606204,2821.7423106463661,{"$f":"IF(H215>0, rate1(1,$L$52,$L$51,$L$54,L215,$L$53,$L$50,P215),\"\")","v":969.79093940479652},1.3701928679284623,0.15746720884756835,4.2105499381914946,4.2105499381914946,1.0666909327223806E-3,2842.5157034712365,63.518922490325551,{"$f":"IF(H215>0, rate1(1,$L$52,$L$51,$L$54,U215,$L$53,$L$50,Y215),\"\")","v":972.59912023556581},1.3762948185635582,-2.8347212879366577E-3,0.15746720884756835,-0.1270105703045796,-1.0343028663053406E-2,701.05292265303615,694.85587183299924,4.1908850650806855,162.37232422919203,11.841262102279336,199.06751784035731,3.3972936995181131]
[null,701.05292265303615,694.85587183299924,4.1908850650806855,{"$f":"IF(AND(C216<$B$6,C216>$H$12),bb($B$6,$H$12,C216,$H$8,$H$9,I216,$H$10,$H$11),E215)","v":138.68829677219458},138.68829677219458,2841.1368168696172,0.02,4.9576406560295254,80,-1,4.1708850650806859,4.1808850650806857,-5.8025614990778962E-2,2.0962823669900281,62.822607850936713,2781.1792835690112,{"$f":"IF(H216>0, rate1(1,$L$52,$L$51,$L$54,L216,$L$53,$L$50,P216),\"\")","v":966.05770050042076},1.3733338916061617,0.15542552202035673,4.1908850650806855,4.1908850650806855,1.0567504933973737E-3,2801.7588606627037,63.123490260397503,{"$f":"IF(H216>0, rate1(1,$L$52,$L$51,$L$54,U216,$L$53,$L$50,Y216),\"\")","v":968.9071800709653},1.3794272421706535,-2.7851202442709245E-3,0.15542552202035673,-0.12867899518703574,-1.0664516735995349E-2,700.83947151602501,694.70044631097892,4.1712184028757253,160.88637556519225,11.885952762158556,199.53539583204423,3.4102834854564485]
[null,700.83947151602501,694.70044631097892,4.1712184028757253,{"$f":"IF(AND(C217<$B$6,C217>$H$12),bb($B$6,$H$12,C217,$H$8,$H$9,I217,$H$10,$H$11),E216)","v":138.68829677219458},138.68829677219458,2801.1357811516577,0.02,4.9112201640368767,80,-1,4.1512184028757257,4.1612184028757255,-5.7757921444830274E-2,2.0693306034234222,62.428233002631195,2740.9924066845902,{"$f":"IF(H217>0, rate1(1,$L$52,$L$51,$L$54,L217,$L$53,$L$50,P217),\"\")","v":962.26887128648241},1.3765167959346487,0.15340065056448426,4.1712184028757253,4.1712184028757253,1.0468556903635573E-3,2761.3790589312007,62.728641387461117,{"$f":"IF(H217>0, rate1(1,$L$52,$L$51,$L$54,U217,$L$53,$L$50,Y217),\"\")","v":965.16054622143872},1.3826001061762618,-2.7361615260014498E-3,0.15340065056448426,-0.13037754355280717,-1.1000028602205393E-2,700.62831294401565,694.54704566041448,4.1515499503479099,159.41558034543809,11.930234867810066,199.99249603699522,3.4231543955016641]
[null,700.62831294401565,694.54704566041448,4.1515499503479099,{"$f":"IF(AND(C218<$B$6,C218>$H$12),bb($B$6,$H$12,C218,$H$8,$H$9,I218,$H$10,$H$11),E217)","v":138.68829677219458},138.68829677219458,2761.5083824569247,0.02,4.865013826880932,80,-1,4.1315499503479103,4.1415499503479101,-5.7490156980705365E-2,2.042668314397706,62.03444513886663,2701.1799941104296,{"$f":"IF(H218>0, rate1(1,$L$52,$L$51,$L$54,L218,$L$53,$L$50,P218),\"\")","v":958.42323424817221},1.379743443165272,0.15139209910119367,4.1515499503479099,4.1515499503479099,1.0370065357037106E-3,2721.3746126300439,62.334377959536518,{"$f":"IF(H218>0, rate1(1,$L$52,$L$51,$L$54,U218,$L$53,$L$50,Y218),\"\")","v":961.35802708681376},1.3858151980060933,-2.6878322602712315E-3,0.15139209910119367,-0.13210729039850078,-1.1350314911302405E-2,700.41943068793375,694.39565356131334,4.1318797062529518,157.95954614972584,11.974112519518323,200.43904072317389,3.4359076419292993]
[null,700.41943068793375,694.39565356131334,4.1318797062529518,{"$f":"IF(AND(C219<$B$6,C219>$H$12),bb($B$6,$H$12,C219,$H$8,$H$9,I219,$H$10,$H$11),E218)","v":138.68829677219458},138.68829677219458,2722.2529334757455,0.02,4.8190217012963332,80,-1,4.1118797062529522,4.121879706252952,-5.7222321568742629E-2,2.0162934481964325,61.641246376228843,2661.7403590605891,{"$f":"IF(H219>0, rate1(1,$L$52,$L$51,$L$54,L219,$L$53,$L$50,P219),\"\")","v":954.51953640963984},1.3830157601931024,0.14939939165921856,4.1318797062529518,4.1318797062529518,1.0272030415094946E-3,2681.7438352093795,61.94070208089655,{"$f":"IF(H219>0, rate1(1,$L$52,$L$51,$L$54,U219,$L$53,$L$50,Y219),\"\")","v":957.49839654546633},1.3890743652224296,-2.6401200729897841E-3,0.14939939165921856,-0.13386935366925851,-1.1716177650525735E-2,700.21280897470581,694.24625416965409,4.1122076693305987,156.51789823095103,12.017589713471365,200.87524733395546,3.4485444056212775]
[null,700.21280897470581,694.24625416965409,4.1122076693305987,{"$f":"IF(AND(C220<$B$6,C220>$H$12),bb($B$6,$H$12,C220,$H$8,$H$9,I220,$H$10,$H$11),E219)","v":138.68829677219458},138.68829677219458,2683.3677459943356,0.02,4.7732438440413718,80,-1,4.0922076693305991,4.1022076693305989,-5.6954415179058415E-2,1.9902040132061838,61.248638847920027,2622.6718138452734,{"$f":"IF(H220>0, rate1(1,$L$52,$L$51,$L$54,L220,$L$53,$L$50,P220),\"\")","v":950.55648803889289},1.3863357437013839,0.14742207033031099,4.1122076693305987,4.1122076693305987,1.0174452198707939E-3,2642.4850392155968,61.547615872271606,{"$f":"IF(H220>0, rate1(1,$L$52,$L$51,$L$54,U220,$L$53,$L$50,Y220),\"\")","v":953.58039270033089},1.3923795203644753,-2.5930130576787102E-3,0.14742207033031099,-0.13566489708893922,-1.2098474332991835E-2,700.00843248919648,694.09883209932377,4.0925338383043295,155.09027836363481,12.060670346350152,201.30132864155613,3.4610658374797536]
[null,700.00843248919648,694.09883209932377,4.0925338383043295,{"$f":"IF(AND(C221<$B$6,C221>$H$12),bb($B$6,$H$12,C221,$H$8,$H$9,I221,$H$10,$H$11),E220)","v":138.68829677219458},138.68829677219458,2644.8511308943798,0.02,4.7276803118981663,80,-1,4.0725338383043299,4.0825338383043297,-5.6686437781529264E-2,1.9643980756358725,60.856624703971754,2583.9726698704071,{"$f":"IF(H221>0, rate1(1,$L$52,$L$51,$L$54,L221,$L$53,$L$50,P221),\"\")","v":946.53276129564495},1.3897054656324472,0.14545969400129835,4.0925338383043295,4.0925338383043295,1.007733082905915E-3,2603.5965362909092,61.155121471059864,{"$f":"IF(H221>0, rate1(1,$L$52,$L$51,$L$54,U221,$L$53,$L$50,Y221),\"\")","v":949.60271656997304},1.3957326460904849,-2.5464997463855821E-3,0.14545969400129835,-0.13749513318666465,-1.249812259156686E-2,699.80628635741368,693.95337240532251,4.0728582118810692,153.67634375611931,12.103358219615741,201.71749289223439,3.4734730597488443]
[null,699.80628635741368,693.95337240532251,4.0728582118810692,{"$f":"IF(AND(C222<$B$6,C222>$H$12),bb($B$6,$H$12,C222,$H$8,$H$9,I222,$H$10,$H$11),E221)","v":138.68829677219458},138.68829677219458,2606.7013981526616,0.02,4.6823311616729368,80,-1,4.0528582118810696,4.0628582118810694,-5.6418389345795461E-2,1.9388737573960979,60.465206111462336,2545.6412376372723,{"$f":"IF(H222>0, rate1(1,$L$52,$L$51,$L$54,L222,$L$53,$L$50,P222),\"\")","v":942.44698881914928},1.3931270790175962,0.14351183715652971,4.0728582118810692,4.0728582118810692,9.9806664272428236E-4,2565.0766371729846,60.763221031541654,{"$f":"IF(H222>0, rate1(1,$L$52,$L$51,$L$54,U222,$L$53,$L$50,Y222),\"\")","v":945.5640307218838},1.3991358006518733,-2.5005690822377451E-3,0.14351183715652971,-0.13936132653772534,-1.2916105220354282E-2,699.60635613091131,693.80986056816596,4.0531807887509013,152.27576602090338,12.145657043510436,202.12394394380948,3.485767167249334]
[null,699.60635613091131,693.80986056816596,4.0531807887509013,{"$f":"IF(AND(C223<$B$6,C223>$H$12),bb($B$6,$H$12,C223,$H$8,$H$9,I223,$H$10,$H$11),E222)","v":138.68829677219458},138.68829677219458,2568.9168568407031,0.02,4.6371964501962797,80,-1,4.0331807887509017,4.0431807887509015,-5.6150269841261036E-2,1.9136292341297314,60.074385254738026,2507.6758267421424,{"$f":"IF(H223>0, rate1(1,$L$52,$L$51,$L$54,L223,$L$53,$L$50,P223),\"\")","v":938.29776225288481},1.3966028242013027,0.14157808874492783,4.0531807887509013,4.0531807887509013,9.8844591142110971E-4,2526.9236516945825,60.371916725097719,{"$f":"IF(H223>0, rate1(1,$L$52,$L$51,$L$54,U223,$L$53,$L$50,Y223),\"\")","v":941.46295784499853},1.4025911237321285,-2.4552103937561989E-3,0.14157808874492783,-0.141264797238736,-1.3353475714666949E-2,699.40862777232508,693.66828247942101,4.0335015675866943,150.88823019783618,12.187570440787614,202.52088139600093,3.4979492285310063]
[null,699.40862777232508,693.66828247942101,4.0335015675866943,{"$f":"IF(AND(C224<$B$6,C224>$H$12),bb($B$6,$H$12,C224,$H$8,$H$9,I224,$H$10,$H$11),E223)","v":138.68829677219458},138.68829677219458,2531.4958151242536,0.02,4.5922762343232533,80,-1,4.0135015675866947,4.0235015675866945,-5.5882079237054683E-2,1.8886627333855766,59.684164335636744,2470.0747458757714,{"$f":"IF(H224>0, rate1(1,$L$52,$L$51,$L$54,L224,$L$53,$L$50,P224),\"\")","v":934.08363070276368},1.4001350354983666,0.13965805110630658,4.0335015675866943,4.0335015675866943,9.7887090113601971E-4,2489.1358887830452,59.981210740429987,{"$f":"IF(H224>0, rate1(1,$L$52,$L$51,$L$54,U224,$L$53,$L$50,Y224),\"\")","v":937.29807925824832},1.4061008426863741,-2.4104133708779019E-3,0.13965805110630658,-0.14320692463892512,-1.3811364366019586E-2,699.2130876419817,693.52862442831474,4.0138205470437489,149.51343382522822,12.229101950183511,202.90850071405501,3.5100202869468333]
[null,699.2130876419817,693.52862442831474,4.0138205470437489,{"$f":"IF(AND(C225<$B$6,C225>$H$12),bb($B$6,$H$12,C225,$H$8,$H$9,I225,$H$10,$H$11),E224)","v":138.68829677219458},138.68829677219458,2494.4365802627935,0.02,4.5475705709335674,80,-1,3.9938205470437489,4.0038205470437491,-5.5613817502102592E-2,1.8639725329275529,59.294545573716356,2432.8363028229178,{"$f":"IF(H225>0, rate1(1,$L$52,$L$51,$L$54,L225,$L$53,$L$50,P225),\"\")","v":929.80309912535995},1.4037261483265726,0.13775133895245442,4.0138205470437489,4.0138205470437489,9.6934162398021328E-4,2451.7116564598286,59.591105283786625,{"$f":"IF(H225>0, rate1(1,$L$52,$L$51,$L$54,U225,$L$53,$L$50,Y225),\"\")","v":933.06793335180009},1.4096672792209923,-2.3661680420839965E-3,0.13775133895245442,-0.14518915135121194,-1.4290984972548625E-2,699.01972248552715,693.39087308936234,3.9941377257594843,148.15108605470695,12.270255029643151,203.28699334608842,3.5219813616528515]
[null,699.01972248552715,693.39087308936234,3.9941377257594843,{"$f":"IF(AND(C226<$B$6,C226>$H$12),bb($B$6,$H$12,C226,$H$8,$H$9,I226,$H$10,$H$11),E225)","v":138.68829677219458},138.68829677219458,2457.7374586092237,0.02,4.503079516931848,80,-1,3.9741377257594843,3.9841377257594841,-5.5345484605018314E-2,1.8395569591725589,58.905531206488128,2395.958804461995,{"$f":"IF(H226>0, rate1(1,$L$52,$L$51,$L$54,L226,$L$53,$L$50,P226),\"\")","v":925.45462664243928},1.4073787068614163,0.13585757839779769,3.9941377257594843,3.9941377257594843,9.5985809208620765E-4,2414.649261840138,59.201602579192425,{"$f":"IF(H226>0, rate1(1,$L$52,$L$51,$L$54,U226,$L$53,$L$50,Y226),\"\")","v":928.77101395742307},1.4132928565564102,-2.3224647531627416E-3,0.13585757839779769,-0.14721298757025547,-1.4793642244143543E-2,698.82851942252432,693.25501551096454,3.9744531023530709,146.80090680478918,12.311033059311148,203.65654683454895,3.5338334485372283]
[null,698.82851942252432,693.25501551096454,3.9744531023530709,{"$f":"IF(AND(C227<$B$6,C227>$H$12),bb($B$6,$H$12,C227,$H$8,$H$9,I227,$H$10,$H$11),E226)","v":138.68829677219458},138.68829677219458,2421.3967556093394,0.02,4.4588031292478263,80,-1,3.9544531023530709,3.9644531023530707,-5.507708051418625E-2,1.8154143857507348,58.517123489653457,2359.4405567645904,{"$f":"IF(H227>0, rate1(1,$L$52,$L$51,$L$54,L227,$L$53,$L$50,P227),\"\")","v":921.03662477780517},1.4110953722639719,0.13397640603655409,3.9744531023530709,3.9744531023530709,9.5042031759184908E-4,2377.9470111324631,58.81270486868214,{"$f":"IF(H227>0, rate1(1,$L$52,$L$51,$L$54,U227,$L$53,$L$50,Y227),\"\")","v":924.40576864417176},1.4169801071202996,-2.2792941470410502E-3,0.13397640603655409,-0.14928001572562863,-1.5320739970587706E-2,698.63946593597359,693.12103910492795,3.9547666754250468,145.46262595027113,12.351439344297335,204.01734492216087,3.5455775210816114]
[null,698.63946593597359,693.12103910492795,3.9547666754250468,{"$f":"IF(AND(C228<$B$6,C228>$H$12),bb($B$6,$H$12,C228,$H$8,$H$9,I228,$H$10,$H$11),E227)","v":138.68829677219458},138.68829677219458,2385.4127758013956,0.02,4.4147414648365162,80,-1,3.9347666754250468,3.944766675425047,-5.4808605197715465E-2,1.7915432321822622,58.129324697344707,2323.2798647950044,{"$f":"IF(H228>0, rate1(1,$L$52,$L$51,$L$54,L228,$L$53,$L$50,P228),\"\")","v":916.54745561226559},1.4148789315384294,0.13210746806177276,3.9547666754250468,3.9547666754250468,9.4102831263676023E-4,2341.6032096381109,58.424414412538226,{"$f":"IF(H228>0, rate1(1,$L$52,$L$51,$L$54,U228,$L$53,$L$50,Y228),\"\")","v":919.97059693538188},1.4207316808233847,-2.2366471447910438E-3,0.13210746806177276,-0.15139189550319823,-1.5873790057560521E-2,698.45254986271414,692.98893163686614,3.9350784435569315,144.13598254279509,12.39147711722589,204.36956765269929,3.5572145311576331]
[null,698.45254986271414,692.98893163686614,3.9350784435569315,{"$f":"IF(AND(C229<$B$6,C229>$H$12),bb($B$6,$H$12,C229,$H$8,$H$9,I229,$H$10,$H$11),E228)","v":138.68829677219458},138.68829677219458,2349.783822815637,0.02,4.3708945806783959,80,-1,3.9150784435569315,3.9250784435569317,-5.4540058623430809E-2,1.7679419626653683,57.742137122370877,2287.4750327097818,{"$f":"IF(H229>0, rate1(1,$L$52,$L$51,$L$54,L229,$L$53,$L$50,P229),\"\")","v":911.98542985225993},1.4187323070815414,0.13025041942323787,3.9350784435569315,3.9350784435569315,9.3168208936766916E-4,2305.61616175074,58.036733489532914,{"$f":"IF(H229>0, rate1(1,$L$52,$L$51,$L$54,U229,$L$53,$L$50,Y229),\"\")","v":915.46384844270403},1.4245503539753404,-2.1945149277199406E-3,0.13025041942323787,-0.15355036926991897,-1.6454422524987414E-2,698.26775938466744,692.85868121744295,3.915388405310821,142.82072405952607,12.431149540575758,204.71339146690957,3.5687454097610565]
[null,698.26775938466744,692.85868121744295,3.915388405310821,{"$f":"IF(AND(C230<$B$6,C230>$H$12),bb($B$6,$H$12,C230,$H$8,$H$9,I230,$H$10,$H$11),E229)","v":138.68829677219458},138.68829677219458,2314.5081993737977,0.02,4.3272625337795949,80,-1,3.895388405310821,3.9053884053108208,-5.4271440758897782E-2,1.7446090849706726,57.355563076467384,2252.0243637572321,{"$f":"IF(H230>0, rate1(1,$L$52,$L$51,$L$54,L230,$L$53,$L$50,P230),\"\")","v":907.34880480739002},1.4226585669927765,0.12840492302105713,3.915388405310821,3.915388405310821,9.2238165993130394E-4,2269.98417095588,57.649664397174583,{"$f":"IF(H230>0, rate1(1,$L$52,$L$51,$L$54,U230,$L$53,$L$50,Y230),\"\")","v":910.88382091264475},1.4284390389042143,-2.1528889204177303E-3,0.12840492302105713,-0.15575726794151187,-1.706439658843073E-2,698.08508302088751,692.73027629442186,3.8956965592291821,141.51660567659496,12.470459708819256,205.04898929386746,3.5801710676858187]
[null,698.08508302088751,692.73027629442186,3.8956965592291821,{"$f":"IF(AND(C231<$B$6,C231>$H$12),bb($B$6,$H$12,C231,$H$8,$H$9,I231,$H$10,$H$11),E230)","v":138.68829677219458},138.68829677219458,2279.5842072890196,0.02,4.2838453811725232,80,-1,3.8756965592291821,3.8856965592291823,-5.4002751571376351E-2,1.7215431494373929,56.96960489055482,2216.9261602773272,{"$f":"IF(H231>0, rate1(1,$L$52,$L$51,$L$54,L231,$L$53,$L$50,P231),\"\")","v":902.6357822718636},1.4266609362215241,0.12657064893172668,3.8956965592291821,3.8956965592291821,9.1312703648505078E-4,2234.705539830828,57.263209451962837,{"$f":"IF(H231>0, rate1(1,$L$52,$L$51,$L$54,U231,$L$53,$L$50,Y231),\"\")","v":906.22875818084333},1.4324007943497326,-2.1117607747651343E-3,0.12657064893172668,-0.15801451733717647,-1.770561296030819E-2,697.90450962038437,692.60370564549009,3.8760029038341379,140.22338956379312,12.509410650364753,205.37653063805348,3.5914923961399463]
[null,697.90450962038437,692.60370564549009,3.8760029038341379,{"$f":"IF(AND(C232<$B$6,C232>$H$12),bb($B$6,$H$12,C232,$H$8,$H$9,I232,$H$10,$H$11),E231)","v":138.68829677219458},138.68829677219458,2245.0101474648268,0.02,4.2406431799154234,80,-1,3.8560029038341379,3.8660029038341381,-5.3733991027842265E-2,1.6987427480671971,56.584264914992339,2182.1787237006838,{"$f":"IF(H232>0, rate1(1,$L$52,$L$51,$L$54,L232,$L$53,$L$50,P232),\"\")","v":897.84450630430763},1.4307428086353562,0.12474727366448174,3.8760029038341379,3.8760029038341379,9.0391823119873038E-4,2199.7785700436411,56.877370989638514,{"$f":"IF(H232>0, rate1(1,$L$52,$L$51,$L$54,U232,$L$53,$L$50,Y232),\"\")","v":901.49684802879437},1.4364388367077863,-2.0711223547778376E-3,0.12474727366448174,-0.16032414506942796,-1.8380127516511111E-2,697.72602835569205,692.47895837182557,3.8563074376273163,138.94084419802749,12.54800532930865,205.69618166239565,3.6027102673050497]
[null,697.72602835569205,692.47895837182557,3.8563074376273163,{"$f":"IF(AND(C233<$B$6,C233>$H$12),bb($B$6,$H$12,C233,$H$8,$H$9,I233,$H$10,$H$11),E232)","v":138.68829677219458},138.68829677219458,2210.7843198951414,0.02,4.1976559870931851,80,-1,3.8363074376273163,3.8463074376273161,-5.3465159094988834E-2,1.6762065137120463,56.199545519847625,2147.7803545485922,{"$f":"IF(H233>0, rate1(1,$L$52,$L$51,$L$54,L233,$L$53,$L$50,P233),\"\")","v":892.97306090049665},1.4349077601038727,0.1229344794450651,3.8563074376273163,3.8563074376273163,8.9475525622972896E-4,2165.2015623531556,56.492151365449594,{"$f":"IF(H233>0, rate1(1,$L$52,$L$51,$L$54,U233,$L$53,$L$50,Y233),\"\")","v":896.68621993780937},1.4405565522131065,-2.0309657221870506E-3,0.1229344794450651,-0.16268828802368066,-1.9090166510627504E-2,697.54962871715202,692.35602389238045,3.8366101590892776,137.66874369210518,12.586246647000902,206.00810526751755,3.6138255348408919]
[null,697.54962871715202,692.35602389238045,3.8366101590892776,{"$f":"IF(AND(C234<$B$6,C234>$H$12),bb($B$6,$H$12,C234,$H$8,$H$9,I234,$H$10,$H$11),E233)","v":138.68829677219458},138.68829677219458,2176.9050236635812,0.02,4.1548838598172555,80,-1,3.8166101590892776,3.8266101590892774,-5.3196255739194953E-2,1.6539331193523914,55.815449095163515,2113.7293524322986,{"$f":"IF(H234>0, rate1(1,$L$52,$L$51,$L$54,L234,$L$53,$L$50,P234),\"\")","v":888.01946755267113},1.4391595627018612,0.12113195352484922,3.8366101590892776,3.8366101590892776,8.8563812375852535E-4,2130.9728166082791,56.107552954414146,{"$f":"IF(H234>0, rate1(1,$L$52,$L$51,$L$54,U234,$L$53,$L$50,Y234),\"\")","v":891.79494273418777},1.4447575101553927,-1.9912831229068951E-3,0.12113195352484922,-0.16510920048769101,-1.9838143529624798E-2,697.37530050788803,692.23489193885564,3.8169110666790873,136.40686713623711,12.624137443427633,206.31246116741173,3.6248390343362602]
[null,697.37530050788803,692.23489193885564,3.8169110666790873,{"$f":"IF(AND(C235<$B$6,C235>$H$12),bb($B$6,$H$12,C235,$H$8,$H$9,I235,$H$10,$H$11),E234)","v":138.68829677219458},138.68829677219458,2143.3705569430267,0.02,4.1123268552259109,80,-1,3.7969110666790873,3.8069110666790875,-5.2927280926521547E-2,1.6319212774626584,55.431978051232804,2080.0240160525755,{"$f":"IF(H235>0, rate1(1,$L$52,$L$51,$L$54,L235,$L$53,$L$50,P235),\"\")","v":882.98168268909455},1.4435022001483282,0.119339387513343,3.8169110666790873,3.8169110666790873,8.765668459620457E-4,2097.0906317475515,55.723578151591227,{"$f":"IF(H235>0, rate1(1,$L$52,$L$51,$L$54,U235,$L$53,$L$50,Y235),\"\")","v":886.82102211954304},1.4490454772359191,-1.9520669740573197E-3,0.119339387513343,-0.16758926299805132,-2.0626678419582857E-2,697.20303383944815,692.11555255134226,3.7972101588339662,135.15499794955929,12.661680498413622,206.60940596174282,3.635751583707159]
[null,697.20303383944815,692.11555255134226,3.7972101588339662,{"$f":"IF(AND(C236<$B$6,C236>$H$12),bb($B$6,$H$12,C236,$H$8,$H$9,I236,$H$10,$H$11),E235)","v":138.68829677219458},138.68829677219458,2110.1792169953069,0.02,4.0699850304847134,80,-1,3.7772101588339662,3.7872101588339664,-5.2658234622736444E-2,1.6101697394609835,55.049134818880169,2046.6626431994205,{"$f":"IF(H236>0, rate1(1,$L$52,$L$51,$L$54,L236,$L$53,$L$50,P236),\"\")","v":877.85759498693278},1.4479398846110811,0.11755647673226592,3.7972101588339662,3.7972101588339662,8.6754143502609793E-4,2063.5533057988578,55.340229372358742,{"$f":"IF(H236>0, rate1(1,$L$52,$L$51,$L$54,U236,$L$53,$L$50,Y236),\"\")","v":881.76239807968454},1.4534244331835962,-1.9133098517318356E-3,0.11755647673226592,-0.1701309919788585,-2.1458618443181976E-2,697.03281912809314,691.99799607461,3.7775074339687125,133.91292323900871,12.698878532646679,206.89909320497159,3.6465639835431238]
[null,697.03281912809314,691.99799607461,3.7775074339687125,{"$f":"IF(AND(C237<$B$6,C237>$H$12),bb($B$6,$H$12,C237,$H$8,$H$9,I237,$H$10,$H$11),E236)","v":138.68829677219458},138.68829677219458,2077.3293001705661,0.02,4.0278584427865098,80,-1,3.7575074339687125,3.7675074339687127,-5.2389116793259305E-2,1.588677295240557,54.666921849745151,2013.6435307514084,{"$f":"IF(H237>0, rate1(1,$L$52,$L$51,$L$54,L237,$L$53,$L$50,P237),\"\")","v":872.64502255099717},1.4524770750215008,0.1157829195893955,3.7775074339687125,3.7775074339687125,8.585619031507008E-4,2030.3591358787694,54.957509052692295,{"$f":"IF(H237>0, rate1(1,$L$52,$L$51,$L$54,U237,$L$53,$L$50,Y237),\"\")","v":876.61694216495766},1.4578985877629542,-1.8750044793655548E-3,0.1157829195893955,-0.17273705025686525,-2.2337061971432079E-2,696.86464709171048,691.88221315502062,3.7578028904753173,132.68043316276314,12.735734208525225,207.18167347247763,3.6572770174022446]
[null,696.86464709171048,691.88221315502062,3.7578028904753173,{"$f":"IF(AND(C238<$B$6,C238>$H$12),bb($B$6,$H$12,C238,$H$8,$H$9,I238,$H$10,$H$11),E237)","v":138.68829677219458},138.68829677219458,2044.8191019069193,0.02,3.9859471493518868,80,-1,3.7378028904753173,3.7478028904753176,-5.2119927403216693E-2,1.5674427727799733,54.285341616574613,1980.9649746753662,{"$f":"IF(H238>0, rate1(1,$L$52,$L$51,$L$54,L238,$L$53,$L$50,P238),\"\")","v":867.34170995060026},1.4571184970620121,0.11401841697109484,3.7578028904753173,3.7578028904753173,8.4962826251278045E-4,1997.506418192228,54.575419649453437,{"$f":"IF(H238>0, rate1(1,$L$52,$L$51,$L$54,U238,$L$53,$L$50,Y238),\"\")","v":871.38245463465501},1.4624723993228781,-1.8371437165909808E-3,0.11401841697109484,-0.17541025854682987,-2.3265385049324572E-2,696.69850874733618,691.76819473804949,3.7380965267224493,131.45732029604432,12.772250130829681,207.45729442384595,3.6678914520552657]
[null,696.69850874733618,691.76819473804949,3.7380965267224493,{"$f":"IF(AND(C239<$B$6,C239>$H$12),bb($B$6,$H$12,C239,$H$8,$H$9,I239,$H$10,$H$11),E238)","v":138.68829677219458},138.68829677219458,2012.6469167299576,0.02,3.9442512074293519,80,-1,3.7180965267224493,3.7280965267224495,-5.1850666417371016E-2,1.5464650378303113,53.904396613518664,1948.6252700258642,{"$f":"IF(H239>0, rate1(1,$L$52,$L$51,$L$54,L239,$L$53,$L$50,P239),\"\")","v":861.94532510604267},1.4618691650077478,0.1122626716518329,3.7380965267224493,3.7380965267224493,8.4074052533011923E-4,1964.9934480320339,54.193963640681261,{"$f":"IF(H239>0, rate1(1,$L$52,$L$51,$L$54,U239,$L$53,$L$50,Y239),\"\")","v":866.05666145742725},1.4671505950520103,-1.7997205488660788E-3,0.1122626716518329,-0.17815360801342076,-2.4247271243796869E-2,696.53439540926695,691.65593206639767,3.7183883410548639,130.24337899625078,12.808428847217529,207.72610086347279,3.6784080376789494]
[null,696.53439540926695,691.65593206639767,3.7183883410548639,{"$f":"IF(AND(C240<$B$6,C240>$H$12),bb($B$6,$H$12,C240,$H$8,$H$9,I240,$H$10,$H$11),E239)","v":138.68829677219458},138.68829677219458,1980.8110382521306,0.02,3.9027706742954251,80,-1,3.6983883410548639,3.7083883410548637,-5.1581333800143625E-2,1.5257429936767701,53.524089356430977,1916.6227109445963,{"$f":"IF(H240>0, rate1(1,$L$52,$L$51,$L$54,L240,$L$53,$L$50,P240),\"\")","v":856.45345601577492},1.4667344056264773,0.11051538772014942,3.7183883410548639,3.7183883410548639,8.3189870380984132E-4,1932.8185197782288,53.813143525888314,{"$f":"IF(H240>0, rate1(1,$L$52,$L$51,$L$54,U240,$L$53,$L$50,Y240),\"\")","v":860.63721115916815},1.471938193127253,-1.7627280773724724E-3,0.11051538772014942,-0.18097027402776378,-2.5286745223324809E-2,696.37229868774671,691.5454166786775,3.6986783317931131,129.03840476547023,12.844272848541271,207.9882347986341,3.6888275079986497]
[null,696.37229868774671,691.5454166786775,3.6986783317931131,{"$f":"IF(AND(C241<$B$6,C241>$H$12),bb($B$6,$H$12,C241,$H$8,$H$9,I241,$H$10,$H$11),E240)","v":138.68829677219458},138.68829677219458,1949.309759172608,0.02,3.8615056072553671,80,-1,3.6786783317931131,3.6886783317931133,-5.1311929515625465E-2,1.505275580972814,53.144422383181308,1884.9555906602668,{"$f":"IF(H241>0, rate1(1,$L$52,$L$51,$L$54,L241,$L$53,$L$50,P241),\"\")","v":850.86360731475486},1.4717198843665535,0.10877627001992805,3.6986783317931131,3.6986783317931131,8.2310281016440001E-4,1900.9799268979841,53.432961826368434,{"$f":"IF(H241>0, rate1(1,$L$52,$L$51,$L$54,U241,$L$53,$L$50,Y241),\"\")","v":855.12167150936125},1.47684052696503,-1.7261595095602346E-3,0.10877627001992805,-0.18386363125280869,-2.638821061286661E-2,696.2122104882111,691.43664040865758,3.6789664972327087,127.8421936075227,12.879784568987805,208.24383549515198,3.6991505803798872]
[null,696.2122104882111,691.43664040865758,3.6789664972327087,{"$f":"IF(AND(C242<$B$6,C242>$H$12),bb($B$6,$H$12,C242,$H$8,$H$9,I242,$H$10,$H$11),E241)","v":138.68829677219458},138.68829677219458,1918.1413712763385,0.02,3.8204560636428142,80,-1,3.6589664972327087,3.6689664972327085,-5.1042453527532672E-2,1.4850617776447848,52.765398253963454,1853.6222014876214,{"$f":"IF(H242>0, rate1(1,$L$52,$L$51,$L$54,L242,$L$53,$L$50,P242),\"\")","v":845.17319665351272},1.4768316340908285,0.10704502360640346,3.6789664972327087,3.6789664972327087,8.1435285660802492E-4,1869.4759619446293,53.053421085500304,{"$f":"IF(H242>0, rate1(1,$L$52,$L$51,$L$54,U242,$L$53,$L$50,Y242),\"\")","v":849.50752603591297},1.4818632718103544,-1.6900081501304536E-3,0.10704502360640346,-0.18683727020826774,-2.755649273984561E-2,696.05412301107719,691.32959538505122,3.6592528356439291,126.65454137714171,12.914966386037012,208.49303953078515,3.7093779558684892]
[null,696.05412301107719,691.32959538505122,3.6592528356439291,{"$f":"IF(AND(C243<$B$6,C243>$H$12),bb($B$6,$H$12,C243,$H$8,$H$9,I243,$H$10,$H$11),E242)","v":138.68829677219458},138.68829677219458,1887.3041654341032,0.02,3.7796221008207795,80,-1,3.6392528356439291,3.6492528356439289,-5.0772905799219004E-2,1.4651005988653436,52.38701955162265,1822.6208348275243,{"$f":"IF(H243>0, rate1(1,$L$52,$L$51,$L$54,L243,$L$53,$L$50,P243),\"\")","v":839.37955088729973},1.4820760866488465,0.10532135321659912,3.6592528356439291,3.6592528356439291,8.0564885537626196E-4,1838.3049165577374,52.674523869069795,{"$f":"IF(H243>0, rate1(1,$L$52,$L$51,$L$54,U243,$L$53,$L$50,Y243),\"\")","v":843.79217035837655},1.4870124739298867,-1.6542673925272972E-3,0.10532135321659912,-0.18989501548531101,-2.8796886991124451E-2,695.89802875206135,691.22427403183463,3.639537345270988,125.47524311887865,12.9498206202367,208.73598084646068,3.7195103191786605]
[null,695.89802875206135,691.22427403183463,3.639537345270988,{"$f":"IF(AND(C244<$B$6,C244>$H$12),bb($B$6,$H$12,C244,$H$8,$H$9,I244,$H$10,$H$11),E243)","v":138.68829677219458},138.68829677219458,1856.7964316016087,0.02,3.7390037761813804,80,-1,3.619537345270988,3.6295373452709878,-5.0503286293675842E-2,1.4453910970936097,52.009288881976786,1791.949781166039,{"$f":"IF(H244>0, rate1(1,$L$52,$L$51,$L$54,L244,$L$53,$L$50,P244),\"\")","v":833.47990206320389},1.4874601076163849,0.10360496275403991,3.639537345270988,3.639537345270988,7.9699081870998612E-4,1807.4650814622039,52.296272765586401,{"$f":"IF(H244>0, rate1(1,$L$52,$L$51,$L$54,U244,$L$53,$L$50,Y244),\"\")","v":837.97290832805368},1.4922945827080905,-1.6189307108068816E-3,0.10360496275403991,-0.19304094580372921,-3.0115213622589367E-2,695.74392050301367,691.12066906908058,3.6198200243316339,124.30409239332012,12.9843495347904,208.9727907954578,3.7295483386281707]
[null,695.74392050301367,691.12066906908058,3.6198200243316339,{"$f":"IF(AND(C245<$B$6,C245>$H$12),bb($B$6,$H$12,C245,$H$8,$H$9,I245,$H$10,$H$11),E244)","v":138.68829677219458},138.68829677219458,1826.6164588192712,0.02,3.6986011471464737,80,-1,3.5998200243316338,3.6098200243316336,-5.0233594973496665E-2,1.4259323621805224,51.632208874153115,1761.607330074218,{"$f":"IF(H245>0, rate1(1,$L$52,$L$51,$L$54,L245,$L$53,$L$50,P245),\"\")","v":827.4713831929754},1.4929910345761515,0.10189555478769496,3.6198200243316339,3.6198200243316339,7.8837875883763786E-4,1776.9547464680311,51.918670386614977,{"$f":"IF(H245>0, rate1(1,$L$52,$L$51,$L$54,U245,$L$53,$L$50,Y245),\"\")","v":832.04694796334138},1.4977164859859891,-1.5839916519458652E-3,0.10189555478769496,-0.19627941613028271,-3.1517880006271051E-2,695.59179135325246,691.01877351429289,3.6001008710164095,123.14088058792942,13.018555334953714,209.2035981906472,3.7394926660196361]
[null,695.59179135325246,691.01877351429289,3.6001008710164095,{"$f":"IF(AND(C246<$B$6,C246>$H$12),bb($B$6,$H$12,C246,$H$8,$H$9,I246,$H$10,$H$11),E245)","v":138.68829677219458},138.68829677219458,1796.7625352114887,0.02,3.6584142711676577,80,-1,3.5801008710164095,3.5901008710164097,-4.9963831800903691E-2,1.4067235215373406,51.25578218092528,1731.5917702073798,{"$f":"IF(H246>0, rate1(1,$L$52,$L$51,$L$54,L246,$L$53,$L$50,P246),\"\")","v":821.35102379784917},1.4986767193629429,0.10019283006580344,3.6001008710164095,3.6001008710164095,7.7981268800186854E-4,1746.772200469615,51.54171936710744,{"$f":"IF(H246>0, rate1(1,$L$52,$L$51,$L$54,U246,$L$53,$L$50,Y246),\"\")","v":826.01139716729722},1.5032855490263848,-1.5494438286782336E-3,0.10019283006580344,-0.19961508210582174,-3.3011951458340155E-2,695.44163469138573,690.91858068422709,3.5803798834882152,121.98539621040625,13.052440167234382,209.42852934988261,3.7493439364666705]
[null,695.44163469138573,690.91858068422709,3.5803798834882152,{"$f":"IF(AND(C247<$B$6,C247>$H$12),bb($B$6,$H$12,C247,$H$8,$H$9,I247,$H$10,$H$11),E246)","v":138.68829677219458},138.68829677219458,1767.2329479863999,0.02,3.618443205726908,80,-1,3.5603798834882152,3.570379883488215,-4.9693996737726565E-2,1.3877637403656347,50.880011479063384,1701.9013893048711,{"$f":"IF(H247>0, rate1(1,$L$52,$L$51,$L$54,L247,$L$53,$L$50,P247),\"\")","v":815.11574521110526},1.5045255747550295,9.8496487044993308E-2,3.5803798834882152,3.5803798834882152,7.7129261846486941E-4,1716.9157314455119,51.165422365747766,{"$f":"IF(H247>0, rate1(1,$L$52,$L$51,$L$54,U247,$L$53,$L$50,Y247),\"\")","v":819.86325921391347},1.5090096575418239,-1.5152809127231431E-3,9.8496487044993308E-2,-0.20305292706392641,-3.460523200839833E-2,695.29344420760299,690.82008419718215,3.5606570598815752,120.83742416174759,13.086006118390422,209.64770813963639,3.759102768163503]
[null,695.29344420760299,690.82008419718215,3.5606570598815752,{"$f":"IF(AND(C248<$B$6,C248>$H$12),bb($B$6,$H$12,C248,$H$8,$H$9,I248,$H$10,$H$11),E247)","v":138.68829677219458},138.68829677219458,1738.0259834352544,0.02,3.578688008336667,80,-1,3.5406570598815752,3.5506570598815754,-4.9424089745352617E-2,1.3690522219466672,50.504899469685952,1672.5344741894194,{"$f":"IF(H248>0, rate1(1,$L$52,$L$51,$L$54,L248,$L$53,$L$50,P248),\"\")","v":808.76235562267436},1.5105466261599596,9.6806221435821474E-2,3.5606570598815752,3.5606570598815752,7.628185624817263E-4,1687.3836264577744,50.78978206529824,{"$f":"IF(H248>0, rate1(1,$L$52,$L$51,$L$54,U248,$L$53,$L$50,Y248),\"\")","v":813.59942798819407},1.5148972652810393,-1.4814966283912337E-3,9.6806221435821474E-2,-0.20659829196266249,-3.630635669432463E-2,695.14721389642182,690.72327797574633,3.5409323983021124,119.69674498671415,13.119255214220065,209.86125601696483,3.7687697620964427]
[null,695.14721389642182,690.72327797574633,3.5409323983021124,{"$f":"IF(AND(C249<$B$6,C249>$H$12),bb($B$6,$H$12,C249,$H$8,$H$9,I249,$H$10,$H$11),E248)","v":138.68829677219458},138.68829677219458,1709.1399269320368,0.02,3.5391487365403922,80,-1,3.5209323983021124,3.5309323983021121,-4.9154110784790817E-2,1.3505882079881912,50.130448878622992,1643.4893107667851,{"$f":"IF(H249>0, rate1(1,$L$52,$L$51,$L$54,L249,$L$53,$L$50,P249),\"\")","v":802.28754484927367},1.5167495689210042,9.5121725766364462E-2,3.5409323983021124,3.5409323983021124,7.5439053231995956E-4,1658.1741716516283,50.414801172957262,{"$f":"IF(H249>0, rate1(1,$L$52,$L$51,$L$54,U249,$L$53,$L$50,Y249),\"\")","v":807.21668296440987},1.5209574467393516,-1.4480847467324917E-3,9.5121725766364462E-2,-0.21025690859650178,-3.8124897256209711E-2,695.00293805987064,690.62815624997995,3.5212058968257272,118.5631340995516,13.152189418136606,210.06929206988437,3.7783455016953797]
[null,695.00293805987064,690.62815624997995,3.5212058968257272,{"$f":"IF(AND(C250<$B$6,C250>$H$12),bb($B$6,$H$12,C250,$H$8,$H$9,I250,$H$10,$H$11),E249)","v":138.68829677219458},138.68829677219458,1680.5730629327629,0.02,3.4998254479125537,80,-1,3.5012058968257271,3.5112058968257269,-4.8884059816602488E-2,1.3323709790263298,49.75666245678179,1614.7641840250405,{"$f":"IF(H250>0, rate1(1,$L$52,$L$51,$L$54,L250,$L$53,$L$50,P250),\"\")","v":795.68787881203332},1.5231448319599867,9.3442688965226048E-2,3.5212058968257272,3.5212058968257272,7.460085402559713E-4,1629.2856522547333,50.04048242071908,{"$f":"IF(H250>0, rate1(1,$L$52,$L$51,$L$54,U250,$L$53,$L$50,Y250),\"\")","v":800.71168390541209},1.5271999556382634,-1.4150390801015975E-3,9.3442688965226048E-2,-0.21403493651004457,-4.0071483465430838E-2,694.86061131108886,690.53471356101477,3.5014775534980735,117.43636098206817,13.184810629520515,210.27193305623612,3.787830552423344]
[null,694.86061131108886,690.53471356101477,3.5014775534980735,{"$f":"IF(AND(C251<$B$6,C251>$H$12),bb($B$6,$H$12,C251,$H$8,$H$9,I251,$H$10,$H$11),E250)","v":138.68829677219458},138.68829677219458,1652.3236749751768,0.02,3.4607182000592731,80,-1,3.4814775534980735,3.4914775534980738,-4.8613936800929736E-2,1.3143998548801499,49.383542980525874,1586.3573780342792,{"$f":"IF(H251>0, rate1(1,$L$52,$L$51,$L$54,L251,$L$53,$L$50,P251),\"\")","v":788.95979370253701},1.5297436485775644,9.1768795966624489E-2,3.5014775534980735,3.5014775534980735,7.3767259855372913E-4,1600.7163525769045,49.666828565747132,{"$f":"IF(H251>0, rate1(1,$L$52,$L$51,$L$54,U251,$L$53,$L$50,Y251),\"\")","v":794.08096526497184},1.5336352899133299,-1.3823534771726545E-3,9.1768795966624489E-2,-0.2179390040953989,-4.2157942708475692E-2,694.72022857832133,690.4429447650482,3.4817473663337855,116.31618835220931,13.217120681840573,210.46929344111143,3.7972254613019096]
[null,694.72022857832133,690.4429447650482,3.4817473663337855,{"$f":"IF(AND(C252<$B$6,C252>$H$12),bb($B$6,$H$12,C252,$H$8,$H$9,I252,$H$10,$H$11),E251)","v":138.68829677219458},138.68829677219458,1624.3900456781405,0.02,3.4218270506185036,80,-1,3.4617473663337854,3.4717473663337852,-4.8343741697468801E-2,1.2966741951560359,49.011093252057563,1558.2671759460009,{"$f":"IF(H252>0, rate1(1,$L$52,$L$51,$L$54,L252,$L$53,$L$50,P252),\"\")","v":782.09958981641137},1.5365581353536943,9.0099727340078511E-2,3.4817473663337855,3.4817473663337855,7.2938271951805689E-4,1572.4645560095009,49.293842390750548,{"$f":"IF(H252>0, rate1(1,$L$52,$L$51,$L$54,U252,$L$53,$L$50,Y252),\"\")","v":787.320930273371},1.5402747640574084,-1.3500218186029403E-3,9.0099727340078511E-2,-0.22197625442872482,-4.4397460978087971E-2,694.58178510928383,690.35284503770811,3.4620153333158599,115.2023713006017,13.249121340535185,210.66148543290865,3.8065307563700865]
[null,694.58178510928383,690.35284503770811,3.4620153333158599,{"$f":"IF(AND(C253<$B$6,C253>$H$12),bb($B$6,$H$12,C253,$H$8,$H$9,I253,$H$10,$H$11),E252)","v":138.68829677219458},138.68829677219458,1596.7704567412686,0.02,3.3831520572605771,80,-1,3.4420153333158598,3.4520153333158596,-4.8073474465450516E-2,1.2791933997989013,48.639316099812184,1530.4918599927475,{"$f":"IF(H253>0, rate1(1,$L$52,$L$51,$L$54,L253,$L$53,$L$50,P253),\"\")","v":775.10342503230015},1.5436013802343809,8.8435158948130352E-2,3.4620153333158599,3.4620153333158599,7.2113891542358033E-4,1544.5285450250494,48.921526704371935,{"$f":"IF(H253>0, rate1(1,$L$52,$L$51,$L$54,U253,$L$53,$L$50,Y253),\"\")","v":780.42784468529169},1.5471305897934884,-1.3180380130011931E-3,8.8435158948130352E-2,-0.22615439648534527,-4.6804769011650531E-2,694.44527647587029,690.26440987875992,3.4422814523947873,114.0946563930421,13.280814300644362,210.84861901808787,3.8157469460741344]
[null,694.44527647587029,690.26440987875992,3.4422814523947873,{"$f":"IF(AND(C254<$B$6,C254>$H$12),bb($B$6,$H$12,C254,$H$8,$H$9,I254,$H$10,$H$11),E253)","v":138.68829677219458},138.68829677219458,1569.4631889442176,0.02,3.3446932776882932,80,-1,3.4222814523947873,3.4322814523947871,-4.7803135063643865E-2,1.2619569096865515,48.268214378855703,1503.0297114873963,{"$f":"IF(H254>0, rate1(1,$L$52,$L$51,$L$54,L254,$L$53,$L$50,P254),\"\")","v":767.96730791205584},1.5508875410583034,8.6774761636122397E-2,3.4422814523947873,3.4422814523947873,7.1294119858933414E-4,1516.9066011765576,48.549884341578917,{"$f":"IF(H254>0, rate1(1,$L$52,$L$51,$L$54,U254,$L$53,$L$50,Y254),\"\")","v":773.39783016715671},1.5542159661995443,-1.2863959937463101E-3,8.6774761636122397E-2,-0.23048176247221688,-4.9396358065132762E-2,694.31069857917055,690.17763511712383,3.4225457214878374,112.99278073704076,13.312201184182429,211.03080199468832,3.8248745185855779]
[null,694.31069857917055,690.17763511712383,3.4225457214878374,{"$f":"IF(AND(C255<$B$6,C255>$H$12),bb($B$6,$H$12,C255,$H$8,$H$9,I255,$H$10,$H$11),E254)","v":138.68829677219458},138.68829677219458,1542.4665221462328,0.02,3.3064507696373768,80,-1,3.4025457214878374,3.4125457214878372,-4.7532723450352421E-2,1.2449642072632643,47.897790971294498,1475.8790108227122,{"$f":"IF(H255>0, rate1(1,$L$52,$L$51,$L$54,L255,$L$53,$L$50,P255),\"\")","v":760.68709039640919},1.5584319559745503,8.5118200958611778E-2,3.4225457214878374,3.4225457214878374,7.0478958130237856E-4,1489.5970050970491,48.178918164067284,{"$f":"IF(H255>0, rate1(1,$L$52,$L$51,$L$54,U255,$L$53,$L$50,Y255),\"\")","v":766.22685729959005},1.561545180582244,-1.2550897161500167E-3,8.5118200958611778E-2,-0.23496737213377997,-5.2190730718146304E-2,694.1780476547616,690.09251691616521,3.4028081384784179,111.89647101051102,13.343283537240904,211.20814000467155,3.8339139410445413]
[null,694.1780476547616,690.09251691616521,3.4028081384784179,{"$f":"IF(AND(C256<$B$6,C256>$H$12),bb($B$6,$H$12,C256,$H$8,$H$9,I256,$H$10,$H$11),E255)","v":138.68829677219458},138.68829677219458,1515.7787352858277,0.02,3.2684245908771121,80,-1,3.3828081384784179,3.3928081384784177,-4.7262239583382382E-2,1.2282148172078944,47.528048786695585,1449.0380374710201,{"$f":"IF(H256>0, rate1(1,$L$52,$L$51,$L$54,L256,$L$53,$L$50,P256),\"\")","v":753.25846006814697},1.5662512674353852,8.3465136947839969E-2,3.4028081384784179,3.4028081384784179,6.966840758941828E-4,1462.5980364992554,47.808631060674379,{"$f":"IF(H256>0, rate1(1,$L$52,$L$51,$L$54,U256,$L$53,$L$50,Y256),\"\")","v":758.91073816858818},1.5691337216013979,-1.2241131555759701E-3,8.3465136947839969E-2,-0.23962100502511174,-5.5208693209219943E-2,694.04732027823036,690.00905177921732,3.3830687012151208,110.80544245103985,13.374062826810636,211.38073656515158,3.842865658725382]
[null,694.04732027823036,690.00905177921732,3.3830687012151208,{"$f":"IF(AND(C257<$B$6,C257>$H$12),bb($B$6,$H$12,C257,$H$8,$H$9,I257,$H$10,$H$11),E256)","v":138.68829677219458},138.68829677219458,1489.3981063800384,0.02,3.2306147992104344,80,-1,3.3630687012151208,3.3730687012151206,-4.6991683420054997E-2,1.2117083071312162,47.158990762510271,1422.5050699834715,{"$f":"IF(H257>0, rate1(1,$L$52,$L$51,$L$54,L257,$L$53,$L$50,P257),\"\")","v":745.67693195249149},1.5743635617232443,8.1815223930758033E-2,3.3830687012151208,3.3830687012151208,6.8862469467134702E-4,1435.9079741748699,47.439025947796004,{"$f":"IF(H257>0, rate1(1,$L$52,$L$51,$L$54,U257,$L$53,$L$50,Y257),\"\")","v":751.44511851679226},1.5769984063887028,-1.1934603060366957E-3,8.1815223930758033E-2,-0.24445328190907875,-5.8473697156511163E-2,693.91851337087951,689.92723655528653,3.3633274075109325,109.71939780479978,13.404540437311969,211.54869309857281,3.8517300941214652]
[null,693.91851337087951,689.92723655528653,3.3633274075109325,{"$f":"IF(AND(C258<$B$6,C258>$H$12),bb($B$6,$H$12,C258,$H$8,$H$9,I258,$H$10,$H$11),E257)","v":138.68829677219458},138.68829677219458,1463.3229125239684,0.02,3.1930214524743863,80,-1,3.3433274075109325,3.3533274075109327,-4.672105491715417E-2,1.1954442882963825,46.790619864510518,1396.278385989576,{"$f":"IF(H258>0, rate1(1,$L$52,$L$51,$L$54,L258,$L$53,$L$50,P258),\"\")","v":737.93783982226535},1.5827885262990149,8.0168110401649728E-2,3.3633274075109325,3.3633274075109325,6.80611449973334E-4,1409.5250959940868,47.070105769815683,{"$f":"IF(H258>0, rate1(1,$L$52,$L$51,$L$54,U258,$L$53,$L$50,Y258),\"\")","v":743.82546942427643},1.5851575236919413,-1.1631251798304568E-3,8.0168110401649728E-2,-0.24947575662938956,-6.2012240222245774E-2,693.79162420556065,689.84706844488483,3.3435842551424528,108.63802623396907,13.434717666821404,211.71210896189643,3.8605076459458489]
[null,693.79162420556065,689.84706844488483,3.3435842551424528,{"$f":"IF(AND(C259<$B$6,C259>$H$12),bb($B$6,$H$12,C259,$H$8,$H$9,I259,$H$10,$H$11),E258)","v":138.68829677219458},138.68829677219458,1437.5514298903206,0.02,3.1556446085406606,80,-1,3.3235842551424528,3.333584255142453,-4.645035403098241E-2,1.1794224163554548,46.422939087235484,1370.3562621967576,{"$f":"IF(H259>0, rate1(1,$L$52,$L$51,$L$54,L259,$L$53,$L$50,P259),\"\")","v":730.03632697254602},1.5915476276480298,7.852343895903563E-2,3.3435842551424528,3.3435842551424528,6.7264435412983659E-4,1383.4476789051637,46.701873499543822,{"$f":"IF(H259>0, rate1(1,$L$52,$L$51,$L$54,U259,$L$53,$L$50,Y259),\"\")","v":736.0470784855786},1.5936309954160046,-1.1331018078974482E-3,7.852343895903563E-2,-0.25470102004108186,-6.5854337332304336E-2,693.66665041257068,689.76854500592583,3.3238392418489537,107.56100218282508,13.464595722983301,211.87108147485597,3.8691986880445666]
[null,693.66665041257068,689.76854500592583,3.3238392418489537,{"$f":"IF(AND(C260<$B$6,C260>$H$12),bb($B$6,$H$12,C260,$H$8,$H$9,I260,$H$10,$H$11),E259)","v":138.68829677219458},138.68829677219458,1412.0819337288128,0.02,3.118484325315876,80,-1,3.3038392418489537,3.313839241848954,-4.617958071727557E-2,1.1636423920939203,46.055951454445257,1344.7369743897452,{"$f":"IF(H260>0, rate1(1,$L$52,$L$51,$L$54,L260,$L$53,$L$50,P260),\"\")","v":721.96733642660956},1.6006643127662392,7.688084631598098E-2,3.3238392418489537,3.3238392418489537,6.6472341948120572E-4,1357.6739989338027,46.334332138663974,{"$f":"IF(H260>0, rate1(1,$L$52,$L$51,$L$54,U260,$L$53,$L$50,Y260),\"\")","v":728.10504044696916},1.602440559338469,-1.1033842412787225E-3,7.688084631598098E-2,-0.2601428178586877,-7.0034076704842158E-2,693.54358998553744,689.6916641596099,3.3040923653314933,106.48798420231049,13.494175718595054,212.02570594734433,3.8778035682191927]
[null,693.54358998553744,689.6916641596099,3.3040923653314933,{"$f":"IF(AND(C261<$B$6,C261>$H$12),bb($B$6,$H$12,C261,$H$8,$H$9,I261,$H$10,$H$11),E260)","v":138.68829677219458},138.68829677219458,1386.9126983656297,0.02,3.0815406607420304,80,-1,3.2840923653314933,3.2940923653314931,-4.5908734931239259E-2,1.1481039621738569,45.689660019585915,1319.4187974300517,{"$f":"IF(H261>0, rate1(1,$L$52,$L$51,$L$54,L261,$L$53,$L$50,P261),\"\")","v":713.72560053193672},1.6101642379884327,7.523996339508443E-2,3.3040923653314933,3.3040923653314933,6.5684865838999684E-4,1332.2023311826435,45.967484718190278,{"$f":"IF(H261>0, rate1(1,$L$52,$L$51,$L$54,U261,$L$53,$L$50,Y261),\"\")","v":719.99424726514053},1.6116099762638865,-1.073966553656397E-3,7.523996339508443E-2,-0.26581618461162937,-7.4590278131144883E-2,693.42244128721109,689.61642419621478,3.2843436232520458,105.418613734758,13.523458666854708,212.17607570599563,3.8863226069553773]
[null,693.42244128721109,689.61642419621478,3.2843436232520458,{"$f":"IF(AND(C262<$B$6,C262>$H$12),bb($B$6,$H$12,C262,$H$8,$H$9,I262,$H$10,$H$11),E261)","v":138.68829677219458},138.68829677219458,1362.0419972029804,0.02,3.0448136727970452,80,-1,3.2643436232520457,3.2743436232520455,-4.5637816627515093E-2,1.1328069198651829,45.324067866265949,1294.4000052555164,{"$f":"IF(H262>0, rate1(1,$L$52,$L$51,$L$54,L262,$L$53,$L$50,P262),\"\")","v":705.30562990151941},1.6200755295334079,7.3600415520116494E-2,3.2843436232520458,3.2843436232520458,6.4902008320011362E-4,1307.0309498307961,45.601334298935832,{"$f":"IF(H262>0, rate1(1,$L$52,$L$51,$L$54,U262,$L$53,$L$50,Y262),\"\")","v":711.70937754517672},1.6211652654642752,-1.0448428450277544E-3,7.3600415520116494E-2,-0.27173759629840122,-7.9567275089315187E-2,693.30320305506348,689.54282378069468,3.2645930132324588,104.35251386040005,13.552445476260376,212.32228212002846,3.8947560960541581]
[null,693.30320305506348,689.54282378069468,3.2645930132324588,{"$f":"IF(AND(C263<$B$6,C263>$H$12),bb($B$6,$H$12,C263,$H$8,$H$9,I263,$H$10,$H$11),E262)","v":138.68829677219458},138.68829677219458,1337.4681027184381,0.02,3.0083034194950415,80,-1,3.2445930132324587,3.2545930132324585,-4.536682576016382E-2,1.1177511057526781,44.959178108740261,1269.6788708796487,{"$f":"IF(H263>0, rate1(1,$L$52,$L$51,$L$54,L263,$L$53,$L$50,P263),\"\")","v":696.70170165181275},1.6304290809553461,7.196182271829113E-2,3.2645930132324588,3.2645930132324588,6.4123770628654597E-4,1282.1581281331969,45.235883971988656,{"$f":"IF(H263>0, rate1(1,$L$52,$L$51,$L$54,U263,$L$53,$L$50,Y263),\"\")","v":703.24488531204554},1.6311349729571849,-1.0160072468841724E-3,7.196182271829113E-2,-0.27792514481315989,-8.5015847374158307E-2,693.18587440658507,689.47086195797635,3.2448405328535612,103.28928800902391,13.581136945151771,212.46441462642002,3.9031042971629901]
[null,693.18587440658507,689.47086195797635,3.2448405328535612,{"$f":"IF(AND(C264<$B$6,C264>$H$12),bb($B$6,$H$12,C264,$H$8,$H$9,I264,$H$10,$H$11),E263)","v":138.68829677219458},138.68829677219458,1313.1892864645038,0.02,2.9720099588869746,80,-1,3.2248405328535612,3.2348405328535614,-4.509576228266976E-2,1.1029364084048048,44.594993892408645,1245.2536663912058,{"$f":"IF(H264>0, rate1(1,$L$52,$L$51,$L$54,L264,$L$53,$L$50,P264),\"\")","v":687.90784688476685},1.6412588936792922,7.0323800148685583E-2,3.2448405328535612,3.2448405328535612,6.3350154001540204E-4,1257.5821384201795,44.871136859201663,{"$f":"IF(H264>0, rate1(1,$L$52,$L$51,$L$54,U264,$L$53,$L$50,Y264),\"\")","v":694.59498806619342},1.641550478024409,-9.8745392874806533E-4,7.0323800148685583E-2,-0.28439873780589231,-9.0994337478279272E-2,693.07045484415369,689.40053815782767,3.2250861796539989,102.22851864119774,13.609533755885437,212.60256075448459,3.911367440203712]
[null,693.07045484415369,689.40053815782767,3.2250861796539989,{"$f":"IF(AND(C265<$B$6,C265>$H$12),bb($B$6,$H$12,C265,$H$8,$H$9,I265,$H$10,$H$11),E264)","v":138.68829677219458},138.68829677219458,1289.2038190678788,0.02,2.9359333490608153,80,-1,3.2050861796539989,3.2150861796539987,-4.4824626147911495E-2,1.0883627649884686,44.231518394320688,1221.1226629534533,{"$f":"IF(H265>0, rate1(1,$L$52,$L$51,$L$54,L265,$L$53,$L$50,P265),\"\")","v":678.9178373564605},1.6526024680033535,6.8685958674126801E-2,3.2250861796539989,3.2250861796539989,6.2581159678387621E-4,1233.3012520967468,44.507096113689101,{"$f":"IF(H265>0, rate1(1,$L$52,$L$51,$L$54,U265,$L$53,$L$50,Y265),\"\")","v":685.75365406925334},1.6524463444087805,-9.5917710651128023E-4,6.8685958674126801E-2,-0.29118032835339558,-9.7569992278705636E-2,692.95694425933164,689.33185219915356,3.2053299511294155,101.16976590506603,13.637636468636844,212.73680614993535,3.9195457216950076]
[null,692.95694425933164,689.33185219915356,3.2053299511294155,{"$f":"IF(AND(C266<$B$6,C266>$H$12),bb($B$6,$H$12,C266,$H$8,$H$9,I266,$H$10,$H$11),E265)","v":138.68829677219458},138.68829677219458,1265.5099702291952,0.02,2.9000736481424614,80,-1,3.1853299511294155,3.1953299511294153,-4.4553417308147658E-2,1.0740301618116042,43.868754823699362,1197.284130803904,{"$f":"IF(H266>0, rate1(1,$L$52,$L$51,$L$54,L266,$L$53,$L$50,P266),\"\")","v":669.72517127032711},1.6645012534271102,6.7047905595914378E-2,3.2053299511294155,3.2053299511294155,6.1816788896340569E-4,1209.3137396422983,44.143764920341113,{"$f":"IF(H266>0, rate1(1,$L$52,$L$51,$L$54,U266,$L$53,$L$50,Y266),\"\")","v":676.71458880164403},1.6638607238902863,-9.3117105247751924E-4,6.7047905595914378E-2,-0.2982941796949839,-0.10482058224519977,692.84534293642753,689.26480429355763,3.1855718447312129,100.11256627660966,13.665445514824791,212.86723459851436,3.927639302967413]
[null,692.84534293642753,689.26480429355763,3.1855718447312129,{"$f":"IF(AND(C267<$B$6,C267>$H$12),bb($B$6,$H$12,C267,$H$8,$H$9,I267,$H$10,$H$11),E266)","v":138.68829677219458},138.68829677219458,1242.1060087222488,0.02,2.8644309142959177,80,-1,3.1655718447312129,3.1755718447312127,-4.4282135715008941E-2,1.0599386347729123,43.506706422469186,1173.7363392535526,{"$f":"IF(H267>0, rate1(1,$L$52,$L$51,$L$54,L267,$L$53,$L$50,P267),\"\")","v":660.32305812681784},1.6770011689817179,6.5409245572816369E-2,3.1855718447312129,3.1855718447312129,6.1057042896273117E-4,1185.6178706098824,43.781146496342771,{"$f":"IF(H267>0, rate1(1,$L$52,$L$51,$L$54,U267,$L$53,$L$50,Y267),\"\")","v":667.47122052811699},1.6758358214909104,-9.0343010764921852E-4,6.5409245572816369E-2,-0.30576717136624282,-0.11283636414223404,692.73565155513973,689.19939504798481,3.1658118578655086,99.056431193493538,13.692961190156316,212.99392804928263,3.9356483082695419]
[null,692.73565155513973,689.19939504798481,3.1658118578655086,{"$f":"IF(AND(C268<$B$6,C268>$H$12),bb($B$6,$H$12,C268,$H$8,$H$9,I268,$H$10,$H$11),E267)","v":138.68829677219458},138.68829677219458,1218.990202393526,0.02,2.8290052057239339,80,-1,3.1458118578655085,3.1558118578655083,-4.4010781319477665E-2,1.0460882696956388,43.145376465800744,1150.4775566864059,{"$f":"IF(H268>0, rate1(1,$L$52,$L$51,$L$54,L268,$L$53,$L$50,P268),\"\")","v":650.70440255589801},1.6901532064842912,6.3769581747903398E-2,3.1658118578655086,3.1658118578655086,6.0301922918881701E-4,1162.2119136257177,43.419244091709352,{"$f":"IF(H268>0, rate1(1,$L$52,$L$51,$L$54,U268,$L$53,$L$50,Y268),\"\")","v":658.01668490225563},1.6884184334660959,-8.759486961333892E-4,6.3769581747903398E-2,-0.31362915439942579,-0.12172247103100838,692.62787119207235,689.13562546623689,3.1460499878919008,98.000845694947245,13.720183647293801,213.11696663767066,3.9435728227650215]
[null,692.62787119207235,689.13562546623689,3.1460499878919008,{"$f":"IF(AND(C269<$B$6,C269>$H$12),bb($B$6,$H$12,C269,$H$8,$H$9,I269,$H$10,$H$11),E268)","v":138.68829677219458},138.68829677219458,1196.160818161537,0.02,2.793796580668368,80,-1,3.1260499878919008,3.1360499878919006,-4.3739354071874459E-2,1.0324792025189982,42.784768262665025,1127.5060505588172,{"$f":"IF(H269>0, rate1(1,$L$52,$L$51,$L$54,L269,$L$53,$L$50,P269),\"\")","v":640.86178705164832},1.7040141324318305,6.2128517109150114E-2,3.1460499878919008,3.1460499878919008,5.9551430204951572E-4,1139.094136388532,43.05806098983075,{"$f":"IF(H269>0, rate1(1,$L$52,$L$51,$L$54,U269,$L$53,$L$50,Y269),\"\")","v":648.34380853427137},1.7016605716032738,-8.4872134212812193E-4,6.2128517109150114E-2,-0.32191336491844991,-0.13160183663186412,692.52200332089137,689.07349694912773,3.1262862321224003,96.945267083217516,13.74711288815025,213.23642870839907,3.9514128904206172]
[null,692.52200332089137,689.07349694912773,3.1262862321224003,{"$f":"IF(AND(C270<$B$6,C270>$H$12),bb($B$6,$H$12,C270,$H$8,$H$9,I270,$H$10,$H$11),E269)","v":138.68829677219458},138.68829677219458,1173.616122016381,0.02,2.7588050974109137,80,-1,3.1062862321224003,3.1162862321224001,-4.3467853921828947E-2,1.0191116193178802,42.424885156404201,1104.82008739905,{"$f":"IF(H270>0, rate1(1,$L$52,$L$51,$L$54,L270,$L$53,$L$50,P270),\"\")","v":630.78745352119529},1.7186473077408828,6.0485656111998992E-2,3.1262862321224003,3.1262862321224003,5.8805565997221976E-4,1116.2628056691315,42.697600508032465,{"$f":"IF(H270>0, rate1(1,$L$52,$L$51,$L$54,U270,$L$53,$L$50,Y270),\"\")","v":638.44509143994469},1.7156201902885286,-8.217426897012554E-4,6.0485656111998992E-2,-0.33065690753137833,-0.14261879166543681,692.4180498108575,689.01301129301578,3.106520587820051,95.889123625326818,13.773748755823952,213.35239083839022,3.9591685117872744]
[null,692.4180498108575,689.01301129301578,3.106520587820051,{"$f":"IF(AND(C271<$B$6,C271>$H$12),bb($B$6,$H$12,C271,$H$8,$H$9,I271,$H$10,$H$11),E270)","v":138.68829677219458},138.68829677219458,1151.3543790189874,0.02,2.724030814273374,80,-1,3.086520587820051,3.0965205878200512,-4.3196280818280641E-2,1.0059857561176029,42.065730525310926,1082.417932806527,{"$f":"IF(H271>0, rate1(1,$L$52,$L$51,$L$54,L271,$L$53,$L$50,P271),\"\")","v":620.47328355167281},1.7341236489277154,5.8840606594508321E-2,3.106520587820051,3.106520587820051,5.8064331539053882E-4,1093.7161873096481,42.337865998144537,{"$f":"IF(H271>0, rate1(1,$L$52,$L$51,$L$54,U271,$L$53,$L$50,Y271),\"\")","v":628.3126882805966},1.7303620364833081,-7.950075255640823E-4,5.8840606594508321E-2,-0.3399013225310058,-0.15494351017034472,692.31601292344476,688.95417068642132,3.0867530521979751,94.831813317886557,13.800090926190032,213.46492785980291,3.9668396416773004]
[null,692.31601292344476,688.95417068642132,3.0867530521979751,{"$f":"IF(AND(C272<$B$6,C272>$H$12),bb($B$6,$H$12,C272,$H$8,$H$9,I272,$H$10,$H$11),E271)","v":138.68829677219458},138.68829677219458,1129.3738533008795,0.02,2.6894737896187508,80,-1,3.0667530521979751,3.0767530521979749,-4.2924634709456733E-2,0.99310189846695462,41.707307783229403,1060.2978514515969,{"$f":"IF(H272>0, rate1(1,$L$52,$L$51,$L$54,L272,$L$53,$L$50,P272),\"\")","v":609.91077729049516},1.750522759874092,5.719298201783752E-2,3.0867530521979751,3.0867530521979751,5.7327728074074713E-4,1071.4525462233125,41.978860847092101,{"$f":"IF(H272>0, rate1(1,$L$52,$L$51,$L$54,U272,$L$53,$L$50,Y272),\"\")","v":617.93838829621643},1.7459586473866933,-7.6851080518886884E-4,5.719298201783752E-2,-0.34969325421364356,-0.1687775376033816,692.21589530671747,688.89697770440353,3.0669836224176907,93.772702741727429,13.826138899173845,213.57411288333677,3.9744261867427313]
[null,{"$f":"IF(H273>0, AF272,\"\")","v":692.21589530671747},{"$f":"IF(H273>0, AG272,\"\")","v":688.89697770440353},{"$f":"IF(H273>0, AH272,\"\")","v":3.0669836224176907},{"$f":"IF(AND(C273<$B$6,C273>$H$12),bb($B$6,$H$12,C273,$H$8,$H$9,I273,$H$10,$H$11),E272)","v":138.68829677219458},{"$f":"IF(H273>0, (E273+E272)/2,\"\")","v":138.68829677219458},{"$f":"IF(H273>0, F273*$S$53*$C$55*(B273-C273+N273)^1.5,\"\")","v":1107.6728080631688},{"$f":"dv(S272)","v":0.02},{"$f":"IF(H273>0, (B273-C273)*B$19,\"\")","v":2.6551340818511564},{"$f":"IF(H273>0, $B$7,\"\")","v":80},{"$f":"IF(H273>0, IF((1-S272-0.015)>0,1,-1),\"\")","v":-1},{"$f":"IF(H273>0, D273+K273*H273,\"\")","v":3.0469836224176907},{"$f":"IF(H273>0, (D273+L273)/2,\"\")","v":3.0569836224176905},{"$f":"IF(H273>0, 2*($P$53*M273/$S$52/$S$51)^2-(B273-C273)*2,\"\")","v":-4.2652915542843672E-2},{"$f":"IF(H273>0, wh(B273,$F$51,$F$52,$F$53),\"\")","v":0.98046038072818897},{"$f":"IF(H273>0, $C$54*$L$55*$L$55*M273*M273/(($B$19*(B273-C273))^0.333)*1000,\"\")","v":41.349620380158584},{"$f":"IF(H273>0, M273/$S$54*(B273-C273+N273/2)*E273-J273,\"\")","v":1038.4581070745262},{"$f":"IF(H273>0, rate1(1,$L$52,$L$51,$L$54,L273,$L$53,$L$50,P273),\"\")","v":599.09103082333411},{"$f":"IF(H273>0, Q273/O273/R273,\"\")","v":1.7679342703881638},{"$f":"IF(H273>0, N273/(1-S273),\"\")","v":5.554240406706179E-2},{"$f":"L273-K273*H273","v":3.0669836224176907},{"$f":"IF(H273>0, (D273+U273)/2,\"\")","v":3.0669836224176907},{"$f":"IF(H273>0, 2*($P$53*V273/$S$52/$S$51)^2-(B273-C273)*2,\"\")","v":5.6595756847155343E-4},{"$f":"IF(H273>0, V273/$S$54*(B273-C273+W273/2)*F273-J273,\"\")","v":1049.4701463934437},{"$f":"IF(H273>0, $C$54*$L$55*$L$55*V273*V273/(($B$19*(B273-C273))^0.333)*1000,\"\")","v":41.620588477487551},{"$f":"IF(H273>0, rate1(1,$L$52,$L$51,$L$54,U273,$L$53,$L$50,Y273),\"\")","v":607.31359382371988},{"$f":"IF(H273>0, X273/O273/Z273,\"\")","v":1.7624915264277179},{"$f":"IF(H273>0, W273/(1-AA273),\"\")","v":-7.4224768257172844E-4},{"$f":"IF(H273>0, delta_z(N273,S273,H273,AE272,AB273),\"\")","v":5.554240406706179E-2},{"$f":"IF(H273>0, H273/AC273*K273,\"\")","v":-0.36008524182446333},{"$f":"IF(H273>0, (AD273-AD272)/(AC273+AC272)*2,\"\")","v":-0.18436070468581581},{"$f":"IF(H273>0, B273-(AC273-N273),\"\")","v":692.11769998710759},{"$f":"IF(H273>0, C273-AC273,\"\")","v":688.84143530033646},{"$f":"IF(H273>0, $S$54*$S$53*$C$55*SQRT(AF273-AG273),\"\")","v":3.0472122955880616},{"$f":"IF(H273>0, AC273/R273*1000000,\"\")","v":92.711126038274287},{"$f":"IF(H273>0, AJ272+AI273/3600,\"\")","v":13.851891989740032},{"$f":"IF(H273>0, AK272+AI272*G272/1000000,\"\")","v":213.68001732196663},{"$f":"IF(H273>0, AL272+AI272*J272/1000000,\"\")","v":3.9819280029620696}]
[null,692.11769998710759,688.84143530033646,3.0472122955880616,{"$f":"IF(AND(C274<$B$6,C274>$H$12),bb($B$6,$H$12,C274,$H$8,$H$9,I274,$H$10,$H$11),E273)","v":138.68829677219458},138.68829677219458,1086.2495055762911,0.02,2.621011749416903,80,-1,3.0272122955880616,3.0372122955880618,-4.2381123265165854E-2,0.9680615850387807,40.992671802881659,1016.8969624852386,{"$f":"IF(H274>0, rate1(1,$L$52,$L$51,$L$54,L274,$L$53,$L$50,P274),\"\")","v":588.00471192441205},1.786459426822359,5.3888505649177833E-2,3.0472122955880616,3.0472122955880616,5.5868419104765366E-4,1027.7672508731937,41.263052348248898,{"$f":"IF(H274>0, rate1(1,$L$52,$L$51,$L$54,U274,$L$53,$L$50,Y274),\"\")","v":596.42929728334332},1.7800525357142993,-7.1621354391991404E-4,5.3888505649177833E-2,-0.37113666001805595,-0.20197982859229735,692.02143035819324,688.78754679468727,3.0274390687637123,91.646384044802005,13.877349318641366,213.78271091528416,3.9893448930451316]
[null,692.02143035819324,688.78754679468727,3.0274390687637123,{"$f":"IF(AND(C275<$B$6,C275>$H$12),bb($B$6,$H$12,C275,$H$8,$H$9,I275,$H$10,$H$11),E274)","v":138.68829677219458},138.68829677219458,1065.1022071791831,0.02,2.5871068508047759,80,-1,3.0074390687637123,3.0174390687637125,-4.2109257822397161E-2,0.95590593989452977,40.636465575601875,995.61267956250208,{"$f":"IF(H275>0, rate1(1,$L$52,$L$51,$L$54,L275,$L$53,$L$50,P275),\"\")","v":576.64203404020714},1.8062129916923546,5.2230934326676998E-2,3.0274390687637123,3.0274390687637123,5.5145716092841468E-4,1006.342121784739,40.906255955223983,{"$f":"IF(H275>0, rate1(1,$L$52,$L$51,$L$54,U275,$L$53,$L$50,Y275),\"\")","v":585.27605650358419},1.7987455526687681,-6.9040404555103488E-4,5.2230934326676998E-2,-0.38291484266604403,-0.22197973624187892,691.9270901660442,688.73531586036063,3.0076639389437134,90.577743631909996,13.902509802983564,213.88226175464067,3.9966766037687158]
[null,691.9270901660442,688.73531586036063,3.0076639389437134,{"$f":"IF(AND(C276<$B$6,C276>$H$12),bb($B$6,$H$12,C276,$H$8,$H$9,I276,$H$10,$H$11),E275)","v":138.68829677219458},138.68829677219458,1044.2291732788324,0.02,2.553419444546853,80,-1,2.9876639389437134,2.9976639389437132,-4.1837319159701458E-2,0.94399391829917656,40.2810052605995,974.60351925347049,{"$f":"IF(H276>0, rate1(1,$L$52,$L$51,$L$54,L276,$L$53,$L$50,P276),\"\")","v":564.99272835509601},1.8273255244310478,5.0569356225861645E-2,3.0076639389437134,3.0076639389437134,5.4427649059540784E-4,985.19302031882103,40.550202831835492,{"$f":"IF(H276>0, rate1(1,$L$52,$L$51,$L$54,U276,$L$53,$L$50,Y276),\"\")","v":573.84396824355372},1.8186884509954253,-6.6481515640489861E-4,5.0569356225861645E-2,-0.39549643287275649,-0.24477732775049546,691.83468349065868,688.68474650413475,2.9878869030701005,89.504437292649513,13.927372146675967,213.97873630930431,4.003922823259269]
[null,691.83468349065868,688.68474650413475,2.9878869030701005,{"$f":"IF(AND(C277<$B$6,C277>$H$12),bb($B$6,$H$12,C277,$H$8,$H$9,I277,$H$10,$H$11),E276)","v":138.68829677219458},138.68829677219458,1023.6286633496638,0.02,2.519949589219141,80,-1,2.9678869030701005,2.9778869030701003,-4.1565307221420156E-2,0.93232603542049852,39.926294458902504,953.86774157307696,{"$f":"IF(H277>0, rate1(1,$L$52,$L$51,$L$54,L277,$L$53,$L$50,P277),\"\")","v":553.04601377168342},1.8499461353202902,4.8903460459593547E-2,2.9878869030701005,2.9878869030701005,5.3714219253020445E-4,964.31820673414109,40.194896549739212,{"$f":"IF(H277>0, rate1(1,$L$52,$L$51,$L$54,U277,$L$53,$L$50,Y277),\"\")","v":562.1226397569975},1.8400154822993948,-6.394432053322066E-4,4.8903460459593547E-2,-0.4089690138906425,-0.27087965268919456,691.74421472297763,688.63584304367521,2.9681079580261711,88.425663040367908,13.951934830853848,214.07219945386319,4.0110831782426812]
[null,691.74421472297763,688.63584304367521,2.9681079580261711,{"$f":"IF(AND(C278<$B$6,C278>$H$12),bb($B$6,$H$12,C278,$H$8,$H$9,I278,$H$10,$H$11),E277)","v":138.68829677219458},138.68829677219458,1003.2989359327418,0.02,2.4866973434419379,80,-1,2.9481079580261711,2.9581079580261713,-4.1293221951073988E-2,0.92090284568797176,39.572336810970526,933.40360560324325,{"$f":"IF(H278>0, rate1(1,$L$52,$L$51,$L$54,L278,$L$53,$L$50,P278),\"\")","v":540.79056462193398},1.8742458309591785,4.723296410320784E-2,2.9681079580261711,2.9681079580261711,5.3005427923213944E-4,943.7159403565787,39.840340719495451,{"$f":"IF(H278>0, rate1(1,$L$52,$L$51,$L$54,U278,$L$53,$L$50,Y278),\"\")","v":550.10115822691728},1.8628801559173827,-6.1428493354167483E-4,4.723296410320784E-2,-0.42343309126859763,-0.30090732921955993,691.65568853692332,688.58861007957205,2.9483271006352054,87.340584679446749,13.976196104375916,214.16271449712701,4.0181572312859108]
[null,691.65568853692332,688.58861007957205,2.9483271006352054,{"$f":"IF(AND(C279<$B$6,C279>$H$12),bb($B$6,$H$12,C279,$H$8,$H$9,I279,$H$10,$H$11),E278)","v":138.68829677219458},138.68829677219458,983.23824863547691,0.02,2.4536627658810177,80,-1,2.9283271006352054,2.9383271006352052,-4.1021063291323934E-2,0.9097249392621809,39.219135997404308,913.20936949258612,{"$f":"IF(H279>0, rate1(1,$L$52,$L$51,$L$54,L279,$L$53,$L$50,P279),\"\")","v":528.21447590690343},1.9004216047278772,4.5557617760317068E-2,2.9483271006352054,2.9483271006352054,5.2301276320854129E-4,923.38447957889798,39.486538991265299,{"$f":"IF(H279>0, rate1(1,$L$52,$L$51,$L$54,U279,$L$53,$L$50,Y279),\"\")","v":537.76805788285446},1.8874587426584721,-5.8933755234840985E-4,4.5557617760317068E-2,-0.43900451742718177,-0.33562514310959668,691.56910985587172,688.54305246181173,2.9285443276586385,86.248332520796893,14.000153974520581,214.25034321279963,4.025144478060267]
[null,691.56910985587172,688.54305246181173,2.9285443276586385,{"$f":"IF(AND(C280<$B$6,C280>$H$12),bb($B$6,$H$12,C280,$H$8,$H$9,I280,$H$10,$H$11),E279)","v":138.68829677219458},138.68829677219458,963.44485813080883,0.02,2.420845915247992,80,-1,2.9085443276586385,2.9185443276586387,-4.0748831183934797E-2,0.89879293780139813,38.866695739663861,893.28329045559906,{"$f":"IF(H280>0, rate1(1,$L$52,$L$51,$L$54,L280,$L$53,$L$50,P280),\"\")","v":515.30522584095456},1.9287014729755241,4.3877211751777563E-2,2.9285443276586385,2.9285443276586385,5.160176569631858E-4,903.3220818599259,39.133495055515183,{"$f":"IF(H280>0, rate1(1,$L$52,$L$51,$L$54,U280,$L$53,$L$50,Y280),\"\")","v":525.11128459267854},1.913954565769161,-5.6459880642854322E-4,4.3877211751777563E-2,-0.45581747794604921,-0.37598239098993869,691.48448381293599,688.49917525005992,2.9087596357942691,85.148004622254618,14.023806198026763,214.33514587221512,4.032044344661931]
[null,691.48448381293599,688.49917525005992,2.9087596357942691,{"$f":"IF(AND(C281<$B$6,C281>$H$12),bb($B$6,$H$12,C281,$H$8,$H$9,I281,$H$10,$H$11),E280)","v":138.68829677219458},138.68829677219458,943.91702015646592,0.02,2.3882468503008569,80,-1,2.8887596357942691,2.8987596357942689,-4.047652556978143E-2,0.88810748944671403,38.515019800805966,873.62362477192391,{"$f":"IF(H281>0, rate1(1,$L$52,$L$51,$L$54,L281,$L$53,$L$50,P281),\"\")","v":502.04963545383532},1.9593507219763584,4.2191582955601201E-2,2.9087596357942691,2.9087596357942691,5.0906897303271137E-4,883.52700372383879,38.781212643740545,{"$f":"IF(H281>0, rate1(1,$L$52,$L$51,$L$54,U281,$L$53,$L$50,Y281),\"\")","v":512.11815770008741},1.9426032932182815,-5.400670427265574E-4,4.2191582955601201E-2,-0.47402819707064042,-0.42316658869233564,691.40181570441064,688.45698366710428,2.8889730216747269,84.038668641720022,14.047150272649464,214.41718127944853,4.0388561850317117]
[null,691.40181570441064,688.45698366710428,2.8889730216747269,{"$f":"IF(AND(C282<$B$6,C282>$H$12),bb($B$6,$H$12,C282,$H$8,$H$9,I282,$H$10,$H$11),E281)","v":138.68829677219458},138.68829677219458,924.65298951456862,0.02,2.3558656298450842,80,-1,2.8689730216747269,2.8789730216747271,-4.020414638879366E-2,0.87766926294357939,38.164111986246397,854.22862778594822,{"$f":"IF(H282>0, rate1(1,$L$52,$L$51,$L$54,L282,$L$53,$L$50,P282),\"\")","v":488.43382497767993},1.9926797191773586,4.05006223176506E-2,2.8889730216747269,2.8889730216747269,5.0216672394398643E-4,863.99750075975135,38.429695529213483,{"$f":"IF(H282>0, rate1(1,$L$52,$L$51,$L$54,U282,$L$53,$L$50,Y282),\"\")","v":498.77532885481054},1.9736795146732182,-5.1574128486468285E-4,4.05006223176506E-2,-0.49381957252750136,-0.47867572019542681,691.32111093570416,688.41648304478667,2.86918448186543,82.919364398035626,14.070183429426697,214.49650680913075,4.0455792785230491]
[null,691.32111093570416,688.41648304478667,2.86918448186543,{"$f":"IF(AND(C283<$B$6,C283>$H$12),bb($B$6,$H$12,C283,$H$8,$H$9,I283,$H$10,$H$11),E282)","v":138.68829677219458},138.68829677219458,905.65102007074847,0.02,2.3237023127339853,80,-1,2.8491844818654299,2.8591844818654302,-3.993169357994919E-2,0.86747894081490751,37.813976144532838,835.09655390593298,{"$f":"IF(H283>0, rate1(1,$L$52,$L$51,$L$54,L283,$L$53,$L$50,P283),\"\")","v":474.44316671588035},2.0290537654338827,3.8804283042599509E-2,2.86918448186543,2.86918448186543,4.9531092224430751E-4,844.73182762085457,38.078947527740972,{"$f":"IF(H283>0, rate1(1,$L$52,$L$51,$L$54,U283,$L$53,$L$50,Y283),\"\")","v":485.06873755487339},2.0075049821124558,-4.9162131308351368E-4,3.8804283042599509E-2,-0.51540702293207985,-0.54441652269844931,691.24237495908164,688.37767876174405,2.8493940128630726,81.789107241663373,14.092902625882715,214.57317844731003,4.0522128276748921]
[null,691.24237495908164,688.37767876174405,2.8493940128630726,{"$f":"IF(AND(C284<$B$6,C284>$H$12),bb($B$6,$H$12,C284,$H$8,$H$9,I284,$H$10,$H$11),E283)","v":138.68829677219458},138.68829677219458,886.90936475385593,0.02,2.2917569578700752,80,-1,2.8293940128630726,2.8393940128630728,-3.9659167081247837E-2,0.85753721150003859,37.464616168148481,816.22565660372595,{"$f":"IF(H284>0, rate1(1,$L$52,$L$51,$L$54,L284,$L$53,$L$50,P284),\"\")","v":460.06223405909589},2.068905638598793,3.7102589460783694E-2,2.8493940128630726,2.8493940128630726,4.8850158049429382E-4,825.72823802413166,37.728972498452961,{"$f":"IF(H284>0, rate1(1,$L$52,$L$51,$L$54,U284,$L$53,$L$50,Y284),\"\")","v":470.9835630912653},2.0444590264696498,-4.6770774928861112E-4,3.7102589460783694E-2,-0.53904593427742797,-0.62283981847083802,691.16561320253959,688.34057617228325,2.8296016110932012,80.646892341999532,14.115304540422159,214.64725083571412,4.0587559562542248]
[null,691.16561320253959,688.34057617228325,2.8296016110932012,{"$f":"IF(AND(C285<$B$6,C285>$H$12),bb($B$6,$H$12,C285,$H$8,$H$9,I285,$H$10,$H$11),E284)","v":138.68829677219458},138.68829677219458,868.42627555484614,0.02,2.2600296242050719,80,-1,2.8096016110932012,2.8196016110932014,-3.9386566829669789E-2,0.84784476037399492,37.116035994321052,797.61418841364207,{"$f":"IF(H285>0, rate1(1,$L$52,$L$51,$L$54,L285,$L$53,$L$50,P285),\"\")","v":445.27474627484361},2.1127517271066822,3.5395646549190841E-2,2.8296016110932012,2.8296016110932012,4.8173871125101186E-4,806.98498474923656,37.379774344595504,{"$f":"IF(H285>0, rate1(1,$L$52,$L$51,$L$54,U285,$L$53,$L$50,Y285),\"\")","v":456.50417254974019},2.0849918514888151,-4.4400214673499599E-4,3.5395646549190841E-2,-0.56504123952659391,-0.71712931734199481,691.09083098916074,688.30518052573404,2.8098072729086008,79.491700001650344,14.137385568200395,214.71877731977054,4.0652077076415845]
[null,691.09083098916074,688.30518052573404,2.8098072729086008,{"$f":"IF(AND(C286<$B$6,C286>$H$12),bb($B$6,$H$12,C286,$H$8,$H$9,I286,$H$10,$H$11),E285)","v":138.68829677219458},138.68829677219458,850.20000352649163,0.02,2.2285203707413532,80,-1,2.7898072729086008,2.799807272908601,-3.9113892761158731E-2,0.83840225956469183,36.768239605868345,779.26040093218865,{"$f":"IF(H286>0, rate1(1,$L$52,$L$51,$L$54,L286,$L$53,$L$50,P286),\"\")","v":430.06350865761237},2.1612130124647377,3.3683650063598039E-2,2.8098072729086008,2.8098072729086008,4.7502232709728531E-4,788.5003196382296,37.031357014359969,{"$f":"IF(H286>0, rate1(1,$L$52,$L$51,$L$54,U286,$L$53,$L$50,Y286),\"\")","v":441.61406448847532},2.1296416768052757,-4.2050708366275004E-4,3.3683650063598039E-2,-0.59375987941443509,-0.83146879878694069,691.01803344633595,688.27149687567044,2.7900109945869764,78.322502108437888,14.159141818786072,214.78781000074051,4.0715670436417168]
[null,691.01803344633595,688.27149687567044,2.7900109945869764,{"$f":"IF(AND(C287<$B$6,C287>$H$12),bb($B$6,$H$12,C287,$H$8,$H$9,I287,$H$10,$H$11),E286)","v":138.68829677219458},138.68829677219458,832.22879878249489,0.02,2.1972292565324096,80,-1,2.7700109945869764,2.7800109945869762,-3.8841144810589867E-2,0.82921035649068187,36.421231032054578,761.16254481717613,{"$f":"IF(H287>0, rate1(1,$L$52,$L$51,$L$54,L287,$L$53,$L$50,P287),\"\")","v":414.41034757709093},2.2150426909412375,3.1966897212888402E-2,2.7900109945869764,2.7900109945869764,4.6835244061682602E-4,770.27249359468624,36.683724501722452,{"$f":"IF(H287>0, rate1(1,$L$52,$L$51,$L$54,U287,$L$53,$L$50,Y287),\"\")","v":426.29580786507938},2.1790570968059866,-3.9722625976771779E-4,3.1966897212888402E-2,-0.62564720832325282,-0.97142614133968008,690.94722540431246,688.23952997845754,2.7702127723289451,77.138269832757359,14.180569115961838,214.85439979230929,4.0778328438103921]
[null,690.94722540431246,688.23952997845754,2.7702127723289451,{"$f":"IF(AND(C288<$B$6,C288>$H$12),bb($B$6,$H$12,C288,$H$8,$H$9,I288,$H$10,$H$11),E287)","v":138.68829677219458},138.68829677219458,814.51091049694912,0.02,2.1661563406839379,80,-1,2.7502127723289451,2.7602127723289449,-3.856832291173351E-2,0.82026966105118304,36.075014349476135,743.31886978718558,{"$f":"IF(H288>0, rate1(1,$L$52,$L$51,$L$54,L288,$L$53,$L$50,P288),\"\")","v":398.29603991073401},2.2751630225428667,3.0245797776367822E-2,2.7702127723289451,2.7702127723289451,4.6172906441377393E-4,752.29975658317107,36.336880847311797,{"$f":"IF(H288>0, rate1(1,$L$52,$L$51,$L$54,U288,$L$53,$L$50,Y288),\"\")","v":410.53097573969387},2.2340266061876273,-3.7416459426286506E-4,3.0245797776367822E-2,-0.66124888316309349,-1.1445147922297492,690.87841128362436,688.20928418068115,2.7504126022557007,75.937982670243215,14.201663000036906,214.91859648195236,4.0840039053970125]
[null,690.87841128362436,688.20928418068115,2.7504126022557007,{"$f":"IF(AND(C289<$B$6,C289>$H$12),bb($B$6,$H$12,C289,$H$8,$H$9,I289,$H$10,$H$11),E288)","v":138.68829677219458},138.68829677219458,797.04458690356341,0.02,2.1353016823545659,80,-1,2.7304126022557007,2.7404126022557005,-3.8295426997232873E-2,0.81158073141229869,35.729593682966041,725.7276246207964,{"$f":"IF(H289>0, rate1(1,$L$52,$L$51,$L$54,L289,$L$53,$L$50,P289),\"\")","v":381.70023628549387},2.342715216791504,2.8520885529801338E-2,2.7504126022557007,2.7504126022557007,4.55152211092269E-4,734.58035762846794,35.990830139296229,{"$f":"IF(H289>0, rate1(1,$L$52,$L$51,$L$54,U289,$L$53,$L$50,Y289),\"\")","v":394.30007322494083},2.2955181245529546,-3.513283237541186E-4,2.8520885529801338E-2,-0.70124049897055596,-1.3610302149981726,690.81159497109729,688.18076329515134,2.730610480406698,74.720638916421976,14.222418733069246,214.98044879735841,4.0900789440106315]
[null,690.81159497109729,688.18076329515134,2.730610480406698,{"$f":"IF(AND(C290<$B$6,C290>$H$12),bb($B$6,$H$12,C290,$H$8,$H$9,I290,$H$10,$H$11),E289)","v":138.68829677219458},138.68829677219458,779.82807529497677,0.02,2.1046653407567648,80,-1,2.7106104804066979,2.7206104804066982,-3.8022456998564103E-2,0.80314405835054758,35.384973206524556,708.38705715590345,{"$f":"IF(H290>0, rate1(1,$L$52,$L$51,$L$54,L290,$L$53,$L$50,P290),\"\")","v":364.60137748611623},2.4191280754314994,2.6792829806430975E-2,2.730610480406698,2.730610480406698,4.4862189327776747E-4,717.11254481490164,35.645576514294959,{"$f":"IF(H290>0, rate1(1,$L$52,$L$51,$L$54,U290,$L$53,$L$50,Y290),\"\")","v":377.58245909208603},2.3647327086826699,-3.2872509790639293E-4,2.6792829806430975E-2,-0.74646837025029289,-1.6353221259795283,690.74677968429228,688.15397046534486,2.7108064027373522,73.485267639865754,14.242831307413653,215.04000447813672,4.0960565951239456]
[null,690.74677968429228,688.15397046534486,2.7108064027373522,{"$f":"IF(AND(C291<$B$6,C291>$H$12),bb($B$6,$H$12,C291,$H$8,$H$9,I291,$H$10,$H$11),E290)","v":138.68829677219458},138.68829677219458,762.85962202214137,0.02,2.0742473751579382,80,-1,2.6908064027373522,2.700806402737352,-3.7749412846014962E-2,0.79496004813663457,35.041157144276269,691.29541428910898,{"$f":"IF(H291>0, rate1(1,$L$52,$L$51,$L$54,L291,$L$53,$L$50,P291),\"\")","v":346.97660330967136},2.5062141730367342,2.5062446975855347E-2,2.7108064027373522,2.7108064027373522,4.4213812360105464E-4,699.89456528573578,35.301124158316057,{"$f":"IF(H291>0, rate1(1,$L$52,$L$51,$L$54,U291,$L$53,$L$50,Y291),\"\")","v":360.35626037221397},2.4431787746728739,-3.0636407031504073E-4,2.5062446975855347E-2,-0.79800667585521856,-1.9877747763765121,690.68396782447041,688.12890801836897,2.6910003651163978,72.230942192628163,14.262895458022715,215.09731035296286,4.1019354165351345]
[null,690.68396782447041,688.12890801836897,2.6910003651163978,{"$f":"IF(AND(C292<$B$6,C292>$H$12),bb($B$6,$H$12,C292,$H$8,$H$9,I292,$H$10,$H$11),E291)","v":138.68829677219458},138.68829677219458,746.13747249350092,0.02,2.0440478448811521,80,-1,2.6710003651163978,2.6810003651163976,-3.7476294468615556E-2,0.78702900396979381,34.698149771448804,674.45094197489459,{"$f":"IF(H292>0, rate1(1,$L$52,$L$51,$L$54,L292,$L$53,$L$50,P292),\"\")","v":328.80165305760124},2.606307392070871,2.3330711577128873E-2,2.6910003651163978,2.6910003651163978,4.3570091470623851E-4,682.92466524234078,34.957477307714953,{"$f":"IF(H292>0, rate1(1,$L$52,$L$51,$L$54,U292,$L$53,$L$50,Y292),\"\")","v":342.59827921089266},2.5327765915038176,-2.8425598167490892E-4,2.3330711577128873E-2,-0.85723917737708555,-2.4479700558092357,690.62316081842471,688.10557730679182,2.671192363323426,70.956795259912127,14.282605678928247,215.15241242222223,4.1077138919105449]
[null,690.62316081842471,688.10557730679182,2.671192363323426,{"$f":"IF(AND(C293<$B$6,C293>$H$12),bb($B$6,$H$12,C293,$H$8,$H$9,I293,$H$10,$H$11),E292)","v":138.68829677219458},138.68829677219458,729.65987117436077,0.02,2.0140668093063141,80,-1,2.651192363323426,2.6611923633234262,-3.7203101794147209E-2,0.77935110600642266,34.355955415382716,657.85188522500948,{"$f":"IF(H293>0, rate1(1,$L$52,$L$51,$L$54,L293,$L$53,$L$50,P293),\"\")","v":310.05075675687914},2.7224641641798959,2.15987667945826E-2,2.671192363323426,2.671192363323426,4.2931027925430243E-4,666.20108994359759,34.614640250183676,{"$f":"IF(H293>0, rate1(1,$L$52,$L$51,$L$54,U293,$L$53,$L$50,Y293),\"\")","v":324.28389114457462},2.6360085056053051,-2.624132318281942E-4,2.15987667945826E-2,-0.92597879268812688,-3.0598893110818404,690.56435894983599,688.08397853999725,2.6513823930460743,69.662035405122054,14.301956244318559,215.2053559460937,4.113390435531338]
[null,null,null,null,null,null,null,null,null,null,null,null,null,null,null,null,null,{"$f":"IF(H294>0, rate1(1,$L$52,$L$51,$L$54,L294,$L$53,$L$50,P294),\"\")","v":""},null,null,null,null,null,null,null,{"$f":"IF(H294>0, rate1(1,$L$52,$L$51,$L$54,U294,$L$53,$L$50,Y294),\"\")","v":""}]
[null,null,null,null,null,null,null,null,null,null,null,null,null,null,null,null,null,{"$f":"IF(H295>0, rate1(1,$L$52,$L$51,$L$54,L295,$L$53,$L$50,P295),\"\")","v":""},null,null,null,null,null,null,null,{"$f":"IF(H295>0, rate1(1,$L$52,$L$51,$L$54,U295,$L$53,$L$50,Y295),\"\")","v":""}]
[null,null,null,null,null,null,null,null,null,null,null,null,null,null,null,null,null,{"$f":"IF(H296>0, rate1(1,$L$52,$L$51,$L$54,L296,$L$53,$L$50,P296),\"\")","v":""},null,null,null,null,null,null,null,{"$f":"IF(H296>0, rate1(1,$L$52,$L$51,$L$54,U296,$L$53,$L$50,Y296),\"\")","v":""}]
[null,null,null,null,null,null,null,null,null,null,null,null,null,null,null,null,null,{"$f":"IF(H297>0, rate1(1,$L$52,$L$51,$L$54,L297,$L$53,$L$50,P297),\"\")","v":""},null,null,null,null,null,null,null,{"$f":"IF(H297>0, rate1(1,$L$52,$L$51,$L$54,U297,$L$53,$L$50,Y297),\"\")","v":""}]
[null,null,null,null,null,null,null,null,null,null,null,null,null,null,null,null,null,{"$f":"IF(H298>0, rate1(1,$L$52,$L$51,$L$54,L298,$L$53,$L$50,P298),\"\")","v":""},null,null,null,null,null,null,null,{"$f":"IF(H298>0, rate1(1,$L$52,$L$51,$L$54,U298,$L$53,$L$50,Y298),\"\")","v":""}]
[null,null,null,null,null,null,null,null,null,null,null,null,null,null,null,null,null,{"$f":"IF(H299>0, rate1(1,$L$52,$L$51,$L$54,L299,$L$53,$L$50,P299),\"\")","v":""},null,null,null,null,null,null,null,{"$f":"IF(H299>0, rate1(1,$L$52,$L$51,$L$54,U299,$L$53,$L$50,Y299),\"\")","v":""}]
[null,null,null,null,null,null,null,null,null,null,null,null,null,null,null,null,null,{"$f":"IF(H300>0, rate1(1,$L$52,$L$51,$L$54,L300,$L$53,$L$50,P300),\"\")","v":""},null,null,null,null,null,null,null,{"$f":"IF(H300>0, rate1(1,$L$52,$L$51,$L$54,U300,$L$53,$L$50,Y300),\"\")","v":""}]
[null,null,null,null,null,null,null,null,null,null,null,null,null,null,null,null,null,{"$f":"IF(H301>0, rate1(1,$L$52,$L$51,$L$54,L301,$L$53,$L$50,P301),\"\")","v":""},null,null,null,null,null,null,null,{"$f":"IF(H301>0, rate1(1,$L$52,$L$51,$L$54,U301,$L$53,$L$50,Y301),\"\")","v":""}]
[null,null,null,null,null,null,null,null,null,null,null,null,null,null,null,null,null,{"$f":"IF(H302>0, rate1(1,$L$52,$L$51,$L$54,L302,$L$53,$L$50,P302),\"\")","v":""},null,null,null,null,null,null,null,{"$f":"IF(H302>0, rate1(1,$L$52,$L$51,$L$54,U302,$L$53,$L$50,Y302),\"\")","v":""}]
[null,null,null,null,null,null,null,null,null,null,null,null,null,null,null,null,null,{"$f":"IF(H303>0, rate1(1,$L$52,$L$51,$L$54,L303,$L$53,$L$50,P303),\"\")","v":""},null,null,null,null,null,null,null,{"$f":"IF(H303>0, rate1(1,$L$52,$L$51,$L$54,U303,$L$53,$L$50,Y303),\"\")","v":""}]
[null,null,null,null,null,null,null,null,null,null,null,null,null,null,null,null,null,{"$f":"IF(H304>0, rate1(1,$L$52,$L$51,$L$54,L304,$L$53,$L$50,P304),\"\")","v":""},null,null,null,null,null,null,null,{"$f":"IF(H304>0, rate1(1,$L$52,$L$51,$L$54,U304,$L$53,$L$50,Y304),\"\")","v":""}]
[null,null,null,null,null,null,null,null,null,null,null,null,null,null,null,null,null,{"$f":"IF(H305>0, rate1(1,$L$52,$L$51,$L$54,L305,$L$53,$L$50,P305),\"\")","v":""},null,null,null,null,null,null,null,{"$f":"IF(H305>0, rate1(1,$L$52,$L$51,$L$54,U305,$L$53,$L$50,Y305),\"\")","v":""}]
[null,null,null,null,null,null,null,null,null,null,null,null,null,null,null,null,null,{"$f":"IF(H306>0, rate1(1,$L$52,$L$51,$L$54,L306,$L$53,$L$50,P306),\"\")","v":""},null,null,null,null,null,null,null,{"$f":"IF(H306>0, rate1(1,$L$52,$L$51,$L$54,U306,$L$53,$L$50,Y306),\"\")","v":""}]
[null,{"$f":"IF(H307>0, AF306,\"\")","v":""},{"$f":"IF(H307>0, AG306,\"\")","v":""},{"$f":"IF(H307>0, AH306,\"\")","v":""},null,{"$f":"IF(H307>0, (E307+E306)/2,\"\")","v":""},{"$f":"IF(H307>0, F307*$S$53*$C$55*(B307-C307+N307)^1.5,\"\")","v":""},null,{"$f":"IF(H307>0, (B307-C307)*B$19,\"\")","v":""},{"$f":"IF(H307>0, $B$7,\"\")","v":""},{"$f":"IF(H307>0, IF((1-S306-0.015)>0,1,-1),\"\")","v":""},{"$f":"IF(H307>0, D307+K307*H307,\"\")","v":""},{"$f":"IF(H307>0, (D307+L307)/2,\"\")","v":""},{"$f":"IF(H307>0, 2*($P$53*M307/$S$52/$S$51)^2-(B307-C307)*2,\"\")","v":""},{"$f":"IF(H307>0, wh(B307,$F$51,$F$52,$F$53),\"\")","v":""},null,null,{"$f":"IF(H307>0, rate1(1,$L$52,$L$51,$L$54,L307,$L$53,$L$50,P307),\"\")","v":""},null,null,null,null,null,null,null,{"$f":"IF(H307>0, rate1(1,$L$52,$L$51,$L$54,U307,$L$53,$L$50,Y307),\"\")","v":""},{"$f":"IF(H307>0, X307/O307/Z307,\"\")","v":""},{"$f":"IF(H307>0, W307/(1-AA307),\"\")","v":""},{"$f":"IF(H307>0, delta_z(N307,S307,H307,AE306,AB307),\"\")","v":""},{"$f":"IF(H307>0, H307/AC307*K307,\"\")","v":""},{"$f":"IF(H307>0, (AD307-AD306)/(AC307+AC306)*2,\"\")","v":""},{"$f":"IF(H307>0, B307-(AC307-N307),\"\")","v":""},{"$f":"IF(H307>0, C307-AC307,\"\")","v":""},{"$f":"IF(H307>0, $S$54*$S$53*$C$55*SQRT(AF307-AG307),\"\")","v":""},{"$f":"IF(H307>0, AC307/R307*1000000,\"\")","v":""},{"$f":"IF(H307>0, AJ306+AI307/3600,\"\")","v":""},{"$f":"IF(H307>0, AK306+AI306*G306/1000000,\"\")","v":""},{"$f":"IF(H307>0, AL306+AI306*J306/1000000,\"\")","v":""}]
[null,"","","",null,"","",null,"","","","","","","",null,null,{"$f":"IF(H308>0, rate1(1,$L$52,$L$51,$L$54,L308,$L$53,$L$50,P308),\"\")","v":""},null,null,null,null,null,null,null,{"$f":"IF(H308>0, rate1(1,$L$52,$L$51,$L$54,U308,$L$53,$L$50,Y308),\"\")","v":""},"","","","","","","","","","","",""]
[null,"","","",null,"","",null,"","","","","","","",null,null,{"$f":"IF(H309>0, rate1(1,$L$52,$L$51,$L$54,L309,$L$53,$L$50,P309),\"\")","v":""},null,null,null,null,null,null,null,{"$f":"IF(H309>0, rate1(1,$L$52,$L$51,$L$54,U309,$L$53,$L$50,Y309),\"\")","v":""},"","","","","","","","","","","",""]
[null,"","","",null,"","",null,"","","","","","","",null,null,{"$f":"IF(H310>0, rate1(1,$L$52,$L$51,$L$54,L310,$L$53,$L$50,P310),\"\")","v":""},null,null,null,null,null,null,null,{"$f":"IF(H310>0, rate1(1,$L$52,$L$51,$L$54,U310,$L$53,$L$50,Y310),\"\")","v":""},"","","","","","","","","","","",""]
[null,"","","",null,"","",null,"","","","","","","",null,null,{"$f":"IF(H311>0, rate1(1,$L$52,$L$51,$L$54,L311,$L$53,$L$50,P311),\"\")","v":""},null,null,null,null,null,null,null,{"$f":"IF(H311>0, rate1(1,$L$52,$L$51,$L$54,U311,$L$53,$L$50,Y311),\"\")","v":""},"","","","","","","","","","","",""]
[null,"","","",null,"","",null,"","","","","","","",null,null,{"$f":"IF(H312>0, rate1(1,$L$52,$L$51,$L$54,L312,$L$53,$L$50,P312),\"\")","v":""},null,null,null,null,null,null,null,{"$f":"IF(H312>0, rate1(1,$L$52,$L$51,$L$54,U312,$L$53,$L$50,Y312),\"\")","v":""},"","","","","","","","","","","",""]
[null,"","","",null,"","",null,"","","","","","","",null,null,{"$f":"IF(H313>0, rate1(1,$L$52,$L$51,$L$54,L313,$L$53,$L$50,P313),\"\")","v":""},null,null,null,null,null,null,null,{"$f":"IF(H313>0, rate1(1,$L$52,$L$51,$L$54,U313,$L$53,$L$50,Y313),\"\")","v":""},"","","","","","","","","","","",""]
[null,"","","",null,"","",null,"","","","","","","",null,null,{"$f":"IF(H314>0, rate1(1,$L$52,$L$51,$L$54,L314,$L$53,$L$50,P314),\"\")","v":""},null,null,null,null,null,null,null,{"$f":"IF(H314>0, rate1(1,$L$52,$L$51,$L$54,U314,$L$53,$L$50,Y314),\"\")","v":""},"","","","","","","","","","","",""]
[null,"","","",null,"","",null,"","","","","","","",null,null,{"$f":"IF(H315>0, rate1(1,$L$52,$L$51,$L$54,L315,$L$53,$L$50,P315),\"\")","v":""},null,null,null,null,null,null,null,{"$f":"IF(H315>0, rate1(1,$L$52,$L$51,$L$54,U315,$L$53,$L$50,Y315),\"\")","v":""},"","","","","","","","","","","",""]
[null,"","","",null,"","",null,"","","","","","","",null,null,{"$f":"IF(H316>0, rate1(1,$L$52,$L$51,$L$54,L316,$L$53,$L$50,P316),\"\")","v":""},null,null,null,null,null,null,null,{"$f":"IF(H316>0, rate1(1,$L$52,$L$51,$L$54,U316,$L$53,$L$50,Y316),\"\")","v":""},"","","","","","","","","","","",""]
[null,"","","",null,"","",null,"","","","","","","",null,null,{"$f":"IF(H317>0, rate1(1,$L$52,$L$51,$L$54,L317,$L$53,$L$50,P317),\"\")","v":""},null,null,null,null,null,null,null,{"$f":"IF(H317>0, rate1(1,$L$52,$L$51,$L$54,U317,$L$53,$L$50,Y317),\"\")","v":""},"","","","","","","","","","","",""]
[null,"","","",null,"","",null,"","","","","","","",null,null,{"$f":"IF(H318>0, rate1(1,$L$52,$L$51,$L$54,L318,$L$53,$L$50,P318),\"\")","v":""},null,null,null,null,null,null,null,{"$f":"IF(H318>0, rate1(1,$L$52,$L$51,$L$54,U318,$L$53,$L$50,Y318),\"\")","v":""},"","","","","","","","","","","",""]
[null,"","","",null,"","",null,"","","","","","","",null,null,{"$f":"IF(H319>0, rate1(1,$L$52,$L$51,$L$54,L319,$L$53,$L$50,P319),\"\")","v":""},null,null,null,null,null,null,null,{"$f":"IF(H319>0, rate1(1,$L$52,$L$51,$L$54,U319,$L$53,$L$50,Y319),\"\")","v":""},"","","","","","","","","","","",""]
[null,{"$f":"IF(H320>0, AF319,\"\")","v":""},{"$f":"IF(H320>0, AG319,\"\")","v":""},{"$f":"IF(H320>0, AH319,\"\")","v":""},null,{"$f":"IF(H320>0, (E320+E319)/2,\"\")","v":""},{"$f":"IF(H320>0, F320*$S$53*$C$55*(B320-C320+N320)^1.5,\"\")","v":""},null,{"$f":"IF(H320>0, (B320-C320)*B$19,\"\")","v":""},{"$f":"IF(H320>0, $B$7,\"\")","v":""},{"$f":"IF(H320>0, IF((1-S319-0.015)>0,1,-1),\"\")","v":""},{"$f":"IF(H320>0, D320+K320*H320,\"\")","v":""},{"$f":"IF(H320>0, (D320+L320)/2,\"\")","v":""},{"$f":"IF(H320>0, 2*($P$53*M320/$S$52/$S$51)^2-(B320-C320)*2,\"\")","v":""},{"$f":"IF(H320>0, wh(B320,$F$51,$F$52,$F$53),\"\")","v":""},null,null,{"$f":"IF(H320>0, rate1(1,$L$52,$L$51,$L$54,L320,$L$53,$L$50,P320),\"\")","v":""},null,null,null,null,null,null,null,{"$f":"IF(H320>0, rate1(1,$L$52,$L$51,$L$54,U320,$L$53,$L$50,Y320),\"\")","v":""},{"$f":"IF(H320>0, X320/O320/Z320,\"\")","v":""},{"$f":"IF(H320>0, W320/(1-AA320),\"\")","v":""},{"$f":"IF(H320>0, delta_z(N320,S320,H320,AE319,AB320),\"\")","v":""},{"$f":"IF(H320>0, H320/AC320*K320,\"\")","v":""},{"$f":"IF(H320>0, (AD320-AD319)/(AC320+AC319)*2,\"\")","v":""},{"$f":"IF(H320>0, B320-(AC320-N320),\"\")","v":""},{"$f":"IF(H320>0, C320-AC320,\"\")","v":""},{"$f":"IF(H320>0, $S$54*$S$53*$C$55*SQRT(AF320-AG320),\"\")","v":""},{"$f":"IF(H320>0, AC320/R320*1000000,\"\")","v":""},{"$f":"IF(H320>0, AJ319+AI320/3600,\"\")","v":""},{"$f":"IF(H320>0, AK319+AI319*G319/1000000,\"\")","v":""},{"$f":"IF(H320>0, AL319+AI319*J319/1000000,\"\")","v":""}]
[null,"","","",null,"","",null,"","","","","","","",null,null,{"$f":"IF(H321>0, rate1(1,$L$52,$L$51,$L$54,L321,$L$53,$L$50,P321),\"\")","v":""},null,null,null,null,null,null,null,{"$f":"IF(H321>0, rate1(1,$L$52,$L$51,$L$54,U321,$L$53,$L$50,Y321),\"\")","v":""},"","","","","","","","","","","",""]
[null,"","","",null,"","",null,"","","","","","","",null,null,{"$f":"IF(H322>0, rate1(1,$L$52,$L$51,$L$54,L322,$L$53,$L$50,P322),\"\")","v":""},null,null,null,null,null,null,null,{"$f":"IF(H322>0, rate1(1,$L$52,$L$51,$L$54,U322,$L$53,$L$50,Y322),\"\")","v":""},"","","","","","","","","","","",""]
[null,"","","",null,"","",null,"","","","","","","",null,null,{"$f":"IF(H323>0, rate1(1,$L$52,$L$51,$L$54,L323,$L$53,$L$50,P323),\"\")","v":""},null,null,null,null,null,null,null,{"$f":"IF(H323>0, rate1(1,$L$52,$L$51,$L$54,U323,$L$53,$L$50,Y323),\"\")","v":""},"","","","","","","","","","","",""]
[null,"","","",null,"","",null,"","","","","","","",null,null,{"$f":"IF(H324>0, rate1(1,$L$52,$L$51,$L$54,L324,$L$53,$L$50,P324),\"\")","v":""},null,null,null,null,null,null,null,{"$f":"IF(H324>0, rate1(1,$L$52,$L$51,$L$54,U324,$L$53,$L$50,Y324),\"\")","v":""},"","","","","","","","","","","",""]
[null,"","","",null,"","",null,"","","","","","","",null,null,{"$f":"IF(H325>0, rate1(1,$L$52,$L$51,$L$54,L325,$L$53,$L$50,P325),\"\")","v":""},null,null,null,null,null,null,null,{"$f":"IF(H325>0, rate1(1,$L$52,$L$51,$L$54,U325,$L$53,$L$50,Y325),\"\")","v":""},"","","","","","","","","","","",""]
[null,"","","",null,"","",null,"","","","","","","",null,null,{"$f":"IF(H326>0, rate1(1,$L$52,$L$51,$L$54,L326,$L$53,$L$50,P326),\"\")","v":""},null,null,null,null,null,null,null,{"$f":"IF(H326>0, rate1(1,$L$52,$L$51,$L$54,U326,$L$53,$L$50,Y326),\"\")","v":""},"","","","","","","","","","","",""]
[null,"","","",null,"","",null,"","","","","","","",null,null,{"$f":"IF(H327>0, rate1(1,$L$52,$L$51,$L$54,L327,$L$53,$L$50,P327),\"\")","v":""},null,null,null,null,null,null,null,{"$f":"IF(H327>0, rate1(1,$L$52,$L$51,$L$54,U327,$L$53,$L$50,Y327),\"\")","v":""},"","","","","","","","","","","",""]
[null,"","","",null,"","",null,"","","","","","","",null,null,{"$f":"IF(H328>0, rate1(1,$L$52,$L$51,$L$54,L328,$L$53,$L$50,P328),\"\")","v":""},null,null,null,null,null,null,null,{"$f":"IF(H328>0, rate1(1,$L$52,$L$51,$L$54,U328,$L$53,$L$50,Y328),\"\")","v":""},"","","","","","","","","","","",""]
[null,"","","",null,"","",null,"","","","","","","",null,null,{"$f":"IF(H329>0, rate1(1,$L$52,$L$51,$L$54,L329,$L$53,$L$50,P329),\"\")","v":""},null,null,null,null,null,null,null,{"$f":"IF(H329>0, rate1(1,$L$52,$L$51,$L$54,U329,$L$53,$L$50,Y329),\"\")","v":""},"","","","","","","","","","","",""]
[null,"","","",null,"","",null,"","","","","","","",null,null,{"$f":"IF(H330>0, rate1(1,$L$52,$L$51,$L$54,L330,$L$53,$L$50,P330),\"\")","v":""},null,null,null,null,null,null,null,{"$f":"IF(H330>0, rate1(1,$L$52,$L$51,$L$54,U330,$L$53,$L$50,Y330),\"\")","v":""},"","","","","","","","","","","",""]
[null,"","","",null,"","",null,"","","","","","","",null,null,{"$f":"IF(H331>0, rate1(1,$L$52,$L$51,$L$54,L331,$L$53,$L$50,P331),\"\")","v":""},null,null,null,null,null,null,null,{"$f":"IF(H331>0, rate1(1,$L$52,$L$51,$L$54,U331,$L$53,$L$50,Y331),\"\")","v":""},"","","","","","","","","","","",""]
[null,"","","",null,"","",null,"","","","","","","",null,null,{"$f":"IF(H332>0, rate1(1,$L$52,$L$51,$L$54,L332,$L$53,$L$50,P332),\"\")","v":""},null,null,null,null,null,null,null,{"$f":"IF(H332>0, rate1(1,$L$52,$L$51,$L$54,U332,$L$53,$L$50,Y332),\"\")","v":""},"","","","","","","","","","","",""]
[null,"","","",null,"","",null,"","","","","","","",null,null,{"$f":"IF(H333>0, rate1(1,$L$52,$L$51,$L$54,L333,$L$53,$L$50,P333),\"\")","v":""},null,null,null,null,null,null,null,{"$f":"IF(H333>0, rate1(1,$L$52,$L$51,$L$54,U333,$L$53,$L$50,Y333),\"\")","v":""},"","","","","","","","","","","",""]
[null,"","","",null,"","",null,"","","","","","","",null,null,{"$f":"IF(H334>0, rate1(1,$L$52,$L$51,$L$54,L334,$L$53,$L$50,P334),\"\")","v":""},null,null,null,null,null,null,null,{"$f":"IF(H334>0, rate1(1,$L$52,$L$51,$L$54,U334,$L$53,$L$50,Y334),\"\")","v":""},"","","","","","","","","","","",""]
[null,"","","",null,"","",null,"","","","","","","",null,null,{"$f":"IF(H335>0, rate1(1,$L$52,$L$51,$L$54,L335,$L$53,$L$50,P335),\"\")","v":""},null,null,null,null,null,null,null,{"$f":"IF(H335>0, rate1(1,$L$52,$L$51,$L$54,U335,$L$53,$L$50,Y335),\"\")","v":""},"","","","","","","","","","","",""]
[null,"","","",null,"","",null,"","","","","","","",null,null,{"$f":"IF(H336>0, rate1(1,$L$52,$L$51,$L$54,L336,$L$53,$L$50,P336),\"\")","v":""},null,null,null,null,null,null,null,{"$f":"IF(H336>0, rate1(1,$L$52,$L$51,$L$54,U336,$L$53,$L$50,Y336),\"\")","v":""},"","","","","","","","","","","",""]
[null,"","","",null,"","",null,"","","","","","","",null,null,{"$f":"IF(H337>0, rate1(1,$L$52,$L$51,$L$54,L337,$L$53,$L$50,P337),\"\")","v":""},null,null,null,null,null,null,null,{"$f":"IF(H337>0, rate1(1,$L$52,$L$51,$L$54,U337,$L$53,$L$50,Y337),\"\")","v":""},"","","","","","","","","","","",""]
[null,"","","",null,"","",null,"","","","","","","",null,null,{"$f":"IF(H338>0, rate1(1,$L$52,$L$51,$L$54,L338,$L$53,$L$50,P338),\"\")","v":""},null,null,null,null,null,null,null,{"$f":"IF(H338>0, rate1(1,$L$52,$L$51,$L$54,U338,$L$53,$L$50,Y338),\"\")","v":""},"","","","","","","","","","","",""]
[null,"","","",null,"","",null,"","","","","","","",null,null,{"$f":"IF(H339>0, rate1(1,$L$52,$L$51,$L$54,L339,$L$53,$L$50,P339),\"\")","v":""},null,null,null,null,null,null,null,{"$f":"IF(H339>0, rate1(1,$L$52,$L$51,$L$54,U339,$L$53,$L$50,Y339),\"\")","v":""},"","","","","","","","","","","",""]
[null,"","","",null,"","",null,"","","","","","","",null,null,{"$f":"IF(H340>0, rate1(1,$L$52,$L$51,$L$54,L340,$L$53,$L$50,P340),\"\")","v":""},null,null,null,null,null,null,null,{"$f":"IF(H340>0, rate1(1,$L$52,$L$51,$L$54,U340,$L$53,$L$50,Y340),\"\")","v":""},"","","","","","","","","","","",""]
[null,"","","",null,"","",null,"","","","","","","",null,null,{"$f":"IF(H341>0, rate1(1,$L$52,$L$51,$L$54,L341,$L$53,$L$50,P341),\"\")","v":""},null,null,null,null,null,null,null,{"$f":"IF(H341>0, rate1(1,$L$52,$L$51,$L$54,U341,$L$53,$L$50,Y341),\"\")","v":""},"","","","","","","","","","","",""]
[null,"","","",null,"","",null,"","","","","","","",null,null,{"$f":"IF(H342>0, rate1(1,$L$52,$L$51,$L$54,L342,$L$53,$L$50,P342),\"\")","v":""},null,null,null,null,null,null,null,{"$f":"IF(H342>0, rate1(1,$L$52,$L$51,$L$54,U342,$L$53,$L$50,Y342),\"\")","v":""},"","","","","","","","","","","",""]
[null,"","","",null,"","",null,"","","","","","","",null,null,{"$f":"IF(H343>0, rate1(1,$L$52,$L$51,$L$54,L343,$L$53,$L$50,P343),\"\")","v":""},null,null,null,null,null,null,null,{"$f":"IF(H343>0, rate1(1,$L$52,$L$51,$L$54,U343,$L$53,$L$50,Y343),\"\")","v":""},"","","","","","","","","","","",""]
[null,"","","",null,"","",null,"","","","","","","",null,null,{"$f":"IF(H344>0, rate1(1,$L$52,$L$51,$L$54,L344,$L$53,$L$50,P344),\"\")","v":""},null,null,null,null,null,null,null,{"$f":"IF(H344>0, rate1(1,$L$52,$L$51,$L$54,U344,$L$53,$L$50,Y344),\"\")","v":""},"","","","","","","","","","","",""]
[null,"","","",null,"","",null,"","","","","","","",null,null,{"$f":"IF(H345>0, rate1(1,$L$52,$L$51,$L$54,L345,$L$53,$L$50,P345),\"\")","v":""},null,null,null,null,null,null,null,{"$f":"IF(H345>0, rate1(1,$L$52,$L$51,$L$54,U345,$L$53,$L$50,Y345),\"\")","v":""},"","","","","","","","","","","",""]
[null,"","","",null,"","",null,"","","","","","","",null,null,{"$f":"IF(H346>0, rate1(1,$L$52,$L$51,$L$54,L346,$L$53,$L$50,P346),\"\")","v":""},null,null,null,null,null,null,null,{"$f":"IF(H346>0, rate1(1,$L$52,$L$51,$L$54,U346,$L$53,$L$50,Y346),\"\")","v":""},"","","","","","","","","","","",""]
[null,"","","",null,"","",null,"","","","","","","",null,null,{"$f":"IF(H347>0, rate1(1,$L$52,$L$51,$L$54,L347,$L$53,$L$50,P347),\"\")","v":""},null,null,null,null,null,null,null,{"$f":"IF(H347>0, rate1(1,$L$52,$L$51,$L$54,U347,$L$53,$L$50,Y347),\"\")","v":""},"","","","","","","","","","","",""]
[null,"","","",null,"","",null,"","","","","","","",null,null,{"$f":"IF(H348>0, rate1(1,$L$52,$L$51,$L$54,L348,$L$53,$L$50,P348),\"\")","v":""},null,null,null,null,null,null,null,{"$f":"IF(H348>0, rate1(1,$L$52,$L$51,$L$54,U348,$L$53,$L$50,Y348),\"\")","v":""},"","","","","","","","","","","",""]
[null,"","","",null,"","",null,"","","","","","","",null,null,{"$f":"IF(H349>0, rate1(1,$L$52,$L$51,$L$54,L349,$L$53,$L$50,P349),\"\")","v":""},null,null,null,null,null,null,null,{"$f":"IF(H349>0, rate1(1,$L$52,$L$51,$L$54,U349,$L$53,$L$50,Y349),\"\")","v":""},"","","","","","","","","","","",""]
[null,"","","",null,"","",null,"","","","","","","",null,null,{"$f":"IF(H350>0, rate1(1,$L$52,$L$51,$L$54,L350,$L$53,$L$50,P350),\"\")","v":""},null,null,null,null,null,null,null,{"$f":"IF(H350>0, rate1(1,$L$52,$L$51,$L$54,U350,$L$53,$L$50,Y350),\"\")","v":""},"","","","","","","","","","","",""]
[null,"","","",null,"","",null,"","","","","","","",null,null,{"$f":"IF(H351>0, rate1(1,$L$52,$L$51,$L$54,L351,$L$53,$L$50,P351),\"\")","v":""},null,null,null,null,null,null,null,{"$f":"IF(H351>0, rate1(1,$L$52,$L$51,$L$54,U351,$L$53,$L$50,Y351),\"\")","v":""},"","","","","","","","","","","",""]
[null,"","","",null,"","",null,"","","","","","","",null,null,{"$f":"IF(H352>0, rate1(1,$L$52,$L$51,$L$54,L352,$L$53,$L$50,P352),\"\")","v":""},null,null,null,null,null,null,null,{"$f":"IF(H352>0, rate1(1,$L$52,$L$51,$L$54,U352,$L$53,$L$50,Y352),\"\")","v":""},"","","","","","","","","","","",""]
[null,"","","",null,"","",null,"","","","","","","",null,null,{"$f":"IF(H353>0, rate1(1,$L$52,$L$51,$L$54,L353,$L$53,$L$50,P353),\"\")","v":""},null,null,null,null,null,null,null,{"$f":"IF(H353>0, rate1(1,$L$52,$L$51,$L$54,U353,$L$53,$L$50,Y353),\"\")","v":""},"","","","","","","","","","","",""]
[null,"","","",null,"","",null,"","","","","","","",null,null,{"$f":"IF(H354>0, rate1(1,$L$52,$L$51,$L$54,L354,$L$53,$L$50,P354),\"\")","v":""},null,null,null,null,null,null,null,{"$f":"IF(H354>0, rate1(1,$L$52,$L$51,$L$54,U354,$L$53,$L$50,Y354),\"\")","v":""},"","","","","","","","","","","",""]
[null,"","","",null,"","",null,"","","","","","","",null,null,{"$f":"IF(H355>0, rate1(1,$L$52,$L$51,$L$54,L355,$L$53,$L$50,P355),\"\")","v":""},null,null,null,null,null,null,null,{"$f":"IF(H355>0, rate1(1,$L$52,$L$51,$L$54,U355,$L$53,$L$50,Y355),\"\")","v":""},"","","","","","","","","","","",""]
[null,"","","",null,"","",null,"","","","","","","",null,null,{"$f":"IF(H356>0, rate1(1,$L$52,$L$51,$L$54,L356,$L$53,$L$50,P356),\"\")","v":""},null,null,null,null,null,null,null,{"$f":"IF(H356>0, rate1(1,$L$52,$L$51,$L$54,U356,$L$53,$L$50,Y356),\"\")","v":""},"","","","","","","","","","","",""]
[null,"","","",null,"","",null,"","","","","","","",null,null,{"$f":"IF(H357>0, rate1(1,$L$52,$L$51,$L$54,L357,$L$53,$L$50,P357),\"\")","v":""},null,null,null,null,null,null,null,{"$f":"IF(H357>0, rate1(1,$L$52,$L$51,$L$54,U357,$L$53,$L$50,Y357),\"\")","v":""},"","","","","","","","","","","",""]
[null,"","","",null,"","",null,"","","","","","","",null,null,{"$f":"IF(H358>0, rate1(1,$L$52,$L$51,$L$54,L358,$L$53,$L$50,P358),\"\")","v":""},null,null,null,null,null,null,null,{"$f":"IF(H358>0, rate1(1,$L$52,$L$51,$L$54,U358,$L$53,$L$50,Y358),\"\")","v":""},"","","","","","","","","","","",""]
[null,"","","",null,"","",null,"","","","","","","",null,null,{"$f":"IF(H359>0, rate1(1,$L$52,$L$51,$L$54,L359,$L$53,$L$50,P359),\"\")","v":""},null,null,null,null,null,null,null,{"$f":"IF(H359>0, rate1(1,$L$52,$L$51,$L$54,U359,$L$53,$L$50,Y359),\"\")","v":""},"","","","","","","","","","","",""]
[null,"","","",null,"","",null,"","","","","","","",null,null,{"$f":"IF(H360>0, rate1(1,$L$52,$L$51,$L$54,L360,$L$53,$L$50,P360),\"\")","v":""},null,null,null,null,null,null,null,{"$f":"IF(H360>0, rate1(1,$L$52,$L$51,$L$54,U360,$L$53,$L$50,Y360),\"\")","v":""},"","","","","","","","","","","",""]
[null,"","","",null,"","",null,"","","","","","","",null,null,{"$f":"IF(H361>0, rate1(1,$L$52,$L$51,$L$54,L361,$L$53,$L$50,P361),\"\")","v":""},null,null,null,null,null,null,null,{"$f":"IF(H361>0, rate1(1,$L$52,$L$51,$L$54,U361,$L$53,$L$50,Y361),\"\")","v":""},"","","","","","","","","","","",""]
[null,"","","",null,"","",null,"","","","","","","",null,null,{"$f":"IF(H362>0, rate1(1,$L$52,$L$51,$L$54,L362,$L$53,$L$50,P362),\"\")","v":""},null,null,null,null,null,null,null,{"$f":"IF(H362>0, rate1(1,$L$52,$L$51,$L$54,U362,$L$53,$L$50,Y362),\"\")","v":""},"","","","","","","","","","","",""]
[null,"","","",null,"","",null,"","","","","","","",null,null,{"$f":"IF(H363>0, rate1(1,$L$52,$L$51,$L$54,L363,$L$53,$L$50,P363),\"\")","v":""},null,null,null,null,null,null,null,{"$f":"IF(H363>0, rate1(1,$L$52,$L$51,$L$54,U363,$L$53,$L$50,Y363),\"\")","v":""},"","","","","","","","","","","",""]
[null,"","","",null,"","",null,"","","","","","","",null,null,{"$f":"IF(H364>0, rate1(1,$L$52,$L$51,$L$54,L364,$L$53,$L$50,P364),\"\")","v":""},null,null,null,null,null,null,null,{"$f":"IF(H364>0, rate1(1,$L$52,$L$51,$L$54,U364,$L$53,$L$50,Y364),\"\")","v":""},"","","","","","","","","","","",""]
[null,"","","",null,"","",null,"","","","","","","",null,null,{"$f":"IF(H365>0, rate1(1,$L$52,$L$51,$L$54,L365,$L$53,$L$50,P365),\"\")","v":""},null,null,null,null,null,null,null,{"$f":"IF(H365>0, rate1(1,$L$52,$L$51,$L$54,U365,$L$53,$L$50,Y365),\"\")","v":""},"","","","","","","","","","","",""]
[null,"","","",null,"","",null,"","","","","","","",null,null,{"$f":"IF(H366>0, rate1(1,$L$52,$L$51,$L$54,L366,$L$53,$L$50,P366),\"\")","v":""},null,null,null,null,null,null,null,{"$f":"IF(H366>0, rate1(1,$L$52,$L$51,$L$54,U366,$L$53,$L$50,Y366),\"\")","v":""},"","","","","","","","","","","",""]
[null,"","","",null,"","",null,"","","","","","","",null,null,{"$f":"IF(H367>0, rate1(1,$L$52,$L$51,$L$54,L367,$L$53,$L$50,P367),\"\")","v":""},null,null,null,null,null,null,null,{"$f":"IF(H367>0, rate1(1,$L$52,$L$51,$L$54,U367,$L$53,$L$50,Y367),\"\")","v":""},"","","","","","","","","","","",""]
[null,"","","",null,"","",null,"","","","","","","",null,null,{"$f":"IF(H368>0, rate1(1,$L$52,$L$51,$L$54,L368,$L$53,$L$50,P368),\"\")","v":""},null,null,null,null,null,null,null,{"$f":"IF(H368>0, rate1(1,$L$52,$L$51,$L$54,U368,$L$53,$L$50,Y368),\"\")","v":""},"","","","","","","","","","","",""]
[null,"","","",null,"","",null,"","","","","","","",null,null,{"$f":"IF(H369>0, rate1(1,$L$52,$L$51,$L$54,L369,$L$53,$L$50,P369),\"\")","v":""},null,null,null,null,null,null,null,{"$f":"IF(H369>0, rate1(1,$L$52,$L$51,$L$54,U369,$L$53,$L$50,Y369),\"\")","v":""},"","","","","","","","","","","",""]
[null,"","","",null,"","",null,"","","","","","","",null,null,{"$f":"IF(H370>0, rate1(1,$L$52,$L$51,$L$54,L370,$L$53,$L$50,P370),\"\")","v":""},null,null,null,null,null,null,null,{"$f":"IF(H370>0, rate1(1,$L$52,$L$51,$L$54,U370,$L$53,$L$50,Y370),\"\")","v":""},"","","","","","","","","","","",""]
[null,"","","",null,"","",null,"","","","","","","",null,null,{"$f":"IF(H371>0, rate1(1,$L$52,$L$51,$L$54,L371,$L$53,$L$50,P371),\"\")","v":""},null,null,null,null,null,null,null,{"$f":"IF(H371>0, rate1(1,$L$52,$L$51,$L$54,U371,$L$53,$L$50,Y371),\"\")","v":""},"","","","","","","","","","","",""]
[null,"","","",null,"","",null,"","","","","","","",null,null,{"$f":"IF(H372>0, rate1(1,$L$52,$L$51,$L$54,L372,$L$53,$L$50,P372),\"\")","v":""},null,null,null,null,null,null,null,{"$f":"IF(H372>0, rate1(1,$L$52,$L$51,$L$54,U372,$L$53,$L$50,Y372),\"\")","v":""},"","","","","","","","","","","",""]
[null,"","","",null,"","",null,"","","","","","","",null,null,{"$f":"IF(H373>0, rate1(1,$L$52,$L$51,$L$54,L373,$L$53,$L$50,P373),\"\")","v":""},null,null,null,null,null,null,null,{"$f":"IF(H373>0, rate1(1,$L$52,$L$51,$L$54,U373,$L$53,$L$50,Y373),\"\")","v":""},"","","","","","","","","","","",""]
[null,"","","",null,"","",null,"","","","","","","",null,null,{"$f":"IF(H374>0, rate1(1,$L$52,$L$51,$L$54,L374,$L$53,$L$50,P374),\"\")","v":""},null,null,null,null,null,null,null,{"$f":"IF(H374>0, rate1(1,$L$52,$L$51,$L$54,U374,$L$53,$L$50,Y374),\"\")","v":""},"","","","","","","","","","","",""]
[null,"","","",null,"","",null,"","","","","","","",null,null,{"$f":"IF(H375>0, rate1(1,$L$52,$L$51,$L$54,L375,$L$53,$L$50,P375),\"\")","v":""},null,null,null,null,null,null,null,{"$f":"IF(H375>0, rate1(1,$L$52,$L$51,$L$54,U375,$L$53,$L$50,Y375),\"\")","v":""},"","","","","","","","","","","",""]
[null,"","","",null,"","",null,"","","","","","","",null,null,{"$f":"IF(H376>0, rate1(1,$L$52,$L$51,$L$54,L376,$L$53,$L$50,P376),\"\")","v":""},null,null,null,null,null,null,null,{"$f":"IF(H376>0, rate1(1,$L$52,$L$51,$L$54,U376,$L$53,$L$50,Y376),\"\")","v":""},"","","","","","","","","","","",""]
[null,"","","",null,"","",null,"","","","","","","",null,null,{"$f":"IF(H377>0, rate1(1,$L$52,$L$51,$L$54,L377,$L$53,$L$50,P377),\"\")","v":""},null,null,null,null,null,null,null,{"$f":"IF(H377>0, rate1(1,$L$52,$L$51,$L$54,U377,$L$53,$L$50,Y377),\"\")","v":""},"","","","","","","","","","","",""]
[null,"","","",null,"","",null,"","","","","","","",null,null,{"$f":"IF(H378>0, rate1(1,$L$52,$L$51,$L$54,L378,$L$53,$L$50,P378),\"\")","v":""},null,null,null,null,null,null,null,{"$f":"IF(H378>0, rate1(1,$L$52,$L$51,$L$54,U378,$L$53,$L$50,Y378),\"\")","v":""},"","","","","","","","","","","",""]
[null,"","","",null,"","",null,"","","","","","","",null,null,{"$f":"IF(H379>0, rate1(1,$L$52,$L$51,$L$54,L379,$L$53,$L$50,P379),\"\")","v":""},null,null,null,null,null,null,null,{"$f":"IF(H379>0, rate1(1,$L$52,$L$51,$L$54,U379,$L$53,$L$50,Y379),\"\")","v":""},"","","","","","","","","","","",""]
[null,"","","",null,"","",null,"","","","","","","",null,null,{"$f":"IF(H380>0, rate1(1,$L$52,$L$51,$L$54,L380,$L$53,$L$50,P380),\"\")","v":""},null,null,null,null,null,null,null,{"$f":"IF(H380>0, rate1(1,$L$52,$L$51,$L$54,U380,$L$53,$L$50,Y380),\"\")","v":""},"","","","","","","","","","","",""]
[null,"","","",null,"","",null,"","","","","","","",null,null,{"$f":"IF(H381>0, rate1(1,$L$52,$L$51,$L$54,L381,$L$53,$L$50,P381),\"\")","v":""},null,null,null,null,null,null,null,{"$f":"IF(H381>0, rate1(1,$L$52,$L$51,$L$54,U381,$L$53,$L$50,Y381),\"\")","v":""},"","","","","","","","","","","",""]
[null,"","","",null,"","",null,"","","","","","","",null,null,{"$f":"IF(H382>0, rate1(1,$L$52,$L$51,$L$54,L382,$L$53,$L$50,P382),\"\")","v":""},null,null,null,null,null,null,null,{"$f":"IF(H382>0, rate1(1,$L$52,$L$51,$L$54,U382,$L$53,$L$50,Y382),\"\")","v":""},"","","","","","","","","","","",""]
[null,"","","",null,"","",null,"","","","","","","",null,null,{"$f":"IF(H383>0, rate1(1,$L$52,$L$51,$L$54,L383,$L$53,$L$50,P383),\"\")","v":""},null,null,null,null,null,null,null,{"$f":"IF(H383>0, rate1(1,$L$52,$L$51,$L$54,U383,$L$53,$L$50,Y383),\"\")","v":""},"","","","","","","","","","","",""]
[null,{"$f":"IF(H384>0, AF383,\"\")","v":""},{"$f":"IF(H384>0, AG383,\"\")","v":""},{"$f":"IF(H384>0, AH383,\"\")","v":""},null,{"$f":"IF(H384>0, (E384+E383)/2,\"\")","v":""},{"$f":"IF(H384>0, F384*$S$53*$C$55*(B384-C384+N384)^1.5,\"\")","v":""},null,{"$f":"IF(H384>0, (B384-C384)*B$19,\"\")","v":""},{"$f":"IF(H384>0, $B$7,\"\")","v":""},{"$f":"IF(H384>0, IF((1-S383-0.015)>0,1,-1),\"\")","v":""},{"$f":"IF(H384>0, D384+K384*H384,\"\")","v":""},{"$f":"IF(H384>0, (D384+L384)/2,\"\")","v":""},{"$f":"IF(H384>0, 2*($P$53*M384/$S$52/$S$51)^2-(B384-C384)*2,\"\")","v":""},{"$f":"IF(H384>0, wh(B384,$F$51,$F$52,$F$53),\"\")","v":""},null,null,{"$f":"IF(H384>0, rate1(1,$L$52,$L$51,$L$54,L384,$L$53,$L$50,P384),\"\")","v":""},null,null,null,null,null,null,null,{"$f":"IF(H384>0, rate1(1,$L$52,$L$51,$L$54,U384,$L$53,$L$50,Y384),\"\")","v":""},{"$f":"IF(H384>0, X384/O384/Z384,\"\")","v":""},{"$f":"IF(H384>0, W384/(1-AA384),\"\")","v":""},{"$f":"IF(H384>0, delta_z(N384,S384,H384,AE383,AB384),\"\")","v":""},{"$f":"IF(H384>0, H384/AC384*K384,\"\")","v":""},{"$f":"IF(H384>0, (AD384-AD383)/(AC384+AC383)*2,\"\")","v":""},{"$f":"IF(H384>0, B384-(AC384-N384),\"\")","v":""},{"$f":"IF(H384>0, C384-AC384,\"\")","v":""},{"$f":"IF(H384>0, $S$54*$S$53*$C$55*SQRT(AF384-AG384),\"\")","v":""},{"$f":"IF(H384>0, AC384/R384*1000000,\"\")","v":""},{"$f":"IF(H384>0, AJ383+AI384/3600,\"\")","v":""},{"$f":"IF(H384>0, AK383+AI383*G383/1000000,\"\")","v":""},{"$f":"IF(H384>0, AL383+AI383*J383/1000000,\"\")","v":""}]
[null,"","","",null,"","",null,"","","","","","","",null,null,{"$f":"IF(H385>0, rate1(1,$L$52,$L$51,$L$54,L385,$L$53,$L$50,P385),\"\")","v":""},null,null,null,null,null,null,null,{"$f":"IF(H385>0, rate1(1,$L$52,$L$51,$L$54,U385,$L$53,$L$50,Y385),\"\")","v":""},"","","","","","","","","","","",""]
[null,"","","",null,"","",null,"","","","","","","",null,null,{"$f":"IF(H386>0, rate1(1,$L$52,$L$51,$L$54,L386,$L$53,$L$50,P386),\"\")","v":""},null,null,null,null,null,null,null,{"$f":"IF(H386>0, rate1(1,$L$52,$L$51,$L$54,U386,$L$53,$L$50,Y386),\"\")","v":""},"","","","","","","","","","","",""]
[null,"","","",null,"","",null,"","","","","","","",null,null,{"$f":"IF(H387>0, rate1(1,$L$52,$L$51,$L$54,L387,$L$53,$L$50,P387),\"\")","v":""},null,null,null,null,null,null,null,{"$f":"IF(H387>0, rate1(1,$L$52,$L$51,$L$54,U387,$L$53,$L$50,Y387),\"\")","v":""},"","","","","","","","","","","",""]
[null,"","","",null,"","",null,"","","","","","","",null,null,{"$f":"IF(H388>0, rate1(1,$L$52,$L$51,$L$54,L388,$L$53,$L$50,P388),\"\")","v":""},null,null,null,null,null,null,null,{"$f":"IF(H388>0, rate1(1,$L$52,$L$51,$L$54,U388,$L$53,$L$50,Y388),\"\")","v":""},"","","","","","","","","","","",""]
[null,"","","",null,"","",null,"","","","","","","",null,null,{"$f":"IF(H389>0, rate1(1,$L$52,$L$51,$L$54,L389,$L$53,$L$50,P389),\"\")","v":""},null,null,null,null,null,null,null,{"$f":"IF(H389>0, rate1(1,$L$52,$L$51,$L$54,U389,$L$53,$L$50,Y389),\"\")","v":""},"","","","","","","","","","","",""]
[null,"","","",null,"","",null,"","","","","","","",null,null,{"$f":"IF(H390>0, rate1(1,$L$52,$L$51,$L$54,L390,$L$53,$L$50,P390),\"\")","v":""},null,null,null,null,null,null,null,{"$f":"IF(H390>0, rate1(1,$L$52,$L$51,$L$54,U390,$L$53,$L$50,Y390),\"\")","v":""},"","","","","","","","","","","",""]
[null,"","","",null,"","",null,"","","","","","","",null,null,{"$f":"IF(H391>0, rate1(1,$L$52,$L$51,$L$54,L391,$L$53,$L$50,P391),\"\")","v":""},null,null,null,null,null,null,null,{"$f":"IF(H391>0, rate1(1,$L$52,$L$51,$L$54,U391,$L$53,$L$50,Y391),\"\")","v":""},"","","","","","","","","","","",""]
[null,"","","",null,"","",null,"","","","","","","",null,null,{"$f":"IF(H392>0, rate1(1,$L$52,$L$51,$L$54,L392,$L$53,$L$50,P392),\"\")","v":""},null,null,null,null,null,null,null,{"$f":"IF(H392>0, rate1(1,$L$52,$L$51,$L$54,U392,$L$53,$L$50,Y392),\"\")","v":""},"","","","","","","","","","","",""]
[null,"","","",null,"","",null,"","","","","","","",null,null,{"$f":"IF(H393>0, rate1(1,$L$52,$L$51,$L$54,L393,$L$53,$L$50,P393),\"\")","v":""},null,null,null,null,null,null,null,{"$f":"IF(H393>0, rate1(1,$L$52,$L$51,$L$54,U393,$L$53,$L$50,Y393),\"\")","v":""},"","","","","","","","","","","",""]
[null,"","","",null,"","",null,"","","","","","","",null,null,{"$f":"IF(H394>0, rate1(1,$L$52,$L$51,$L$54,L394,$L$53,$L$50,P394),\"\")","v":""},null,null,null,null,null,null,null,{"$f":"IF(H394>0, rate1(1,$L$52,$L$51,$L$54,U394,$L$53,$L$50,Y394),\"\")","v":""},"","","","","","","","","","","",""]
[null,"","","",null,"","",null,"","","","","","","",null,null,{"$f":"IF(H395>0, rate1(1,$L$52,$L$51,$L$54,L395,$L$53,$L$50,P395),\"\")","v":""},null,null,null,null,null,null,null,{"$f":"IF(H395>0, rate1(1,$L$52,$L$51,$L$54,U395,$L$53,$L$50,Y395),\"\")","v":""},"","","","","","","","","","","",""]
[null,"","","",null,"","",null,"","","","","","","",null,null,{"$f":"IF(H396>0, rate1(1,$L$52,$L$51,$L$54,L396,$L$53,$L$50,P396),\"\")","v":""},null,null,null,null,null,null,null,{"$f":"IF(H396>0, rate1(1,$L$52,$L$51,$L$54,U396,$L$53,$L$50,Y396),\"\")","v":""},"","","","","","","","","","","",""]
[null,"","","",null,"","",null,"","","","","","","",null,null,{"$f":"IF(H397>0, rate1(1,$L$52,$L$51,$L$54,L397,$L$53,$L$50,P397),\"\")","v":""},null,null,null,null,null,null,null,{"$f":"IF(H397>0, rate1(1,$L$52,$L$51,$L$54,U397,$L$53,$L$50,Y397),\"\")","v":""},"","","","","","","","","","","",""]
[null,"","","",null,"","",null,"","","","","","","",null,null,{"$f":"IF(H398>0, rate1(1,$L$52,$L$51,$L$54,L398,$L$53,$L$50,P398),\"\")","v":""},null,null,null,null,null,null,null,{"$f":"IF(H398>0, rate1(1,$L$52,$L$51,$L$54,U398,$L$53,$L$50,Y398),\"\")","v":""},"","","","","","","","","","","",""]
[null,"","","",null,"","",null,"","","","","","","",null,null,{"$f":"IF(H399>0, rate1(1,$L$52,$L$51,$L$54,L399,$L$53,$L$50,P399),\"\")","v":""},null,null,null,null,null,null,null,{"$f":"IF(H399>0, rate1(1,$L$52,$L$51,$L$54,U399,$L$53,$L$50,Y399),\"\")","v":""},"","","","","","","","","","","",""]
[null,"","","",null,"","",null,"","","","","","","",null,null,{"$f":"IF(H400>0, rate1(1,$L$52,$L$51,$L$54,L400,$L$53,$L$50,P400),\"\")","v":""},null,null,null,null,null,null,null,{"$f":"IF(H400>0, rate1(1,$L$52,$L$51,$L$54,U400,$L$53,$L$50,Y400),\"\")","v":""},"","","","","","","","","","","",""]
[null,"","","",null,"","",null,"","","","","","","",null,null,{"$f":"IF(H401>0, rate1(1,$L$52,$L$51,$L$54,L401,$L$53,$L$50,P401),\"\")","v":""},null,null,null,null,null,null,null,{"$f":"IF(H401>0, rate1(1,$L$52,$L$51,$L$54,U401,$L$53,$L$50,Y401),\"\")","v":""},"","","","","","","","","","","",""]
[null,"","","",null,"","",null,"","","","","","","",null,null,{"$f":"IF(H402>0, rate1(1,$L$52,$L$51,$L$54,L402,$L$53,$L$50,P402),\"\")","v":""},null,null,null,null,null,null,null,{"$f":"IF(H402>0, rate1(1,$L$52,$L$51,$L$54,U402,$L$53,$L$50,Y402),\"\")","v":""},"","","","","","","","","","","",""]
[null,"","","",null,"","",null,"","","","","","","",null,null,{"$f":"IF(H403>0, rate1(1,$L$52,$L$51,$L$54,L403,$L$53,$L$50,P403),\"\")","v":""},null,null,null,null,null,null,null,{"$f":"IF(H403>0, rate1(1,$L$52,$L$51,$L$54,U403,$L$53,$L$50,Y403),\"\")","v":""},"","","","","","","","","","","",""]
[null,"","","",null,"","",null,"","","","","","","",null,null,{"$f":"IF(H404>0, rate1(1,$L$52,$L$51,$L$54,L404,$L$53,$L$50,P404),\"\")","v":""},null,null,null,null,null,null,null,{"$f":"IF(H404>0, rate1(1,$L$52,$L$51,$L$54,U404,$L$53,$L$50,Y404),\"\")","v":""},"","","","","","","","","","","",""]
[null,"","","",null,"","",null,"","","","","","","",null,null,{"$f":"IF(H405>0, rate1(1,$L$52,$L$51,$L$54,L405,$L$53,$L$50,P405),\"\")","v":""},null,null,null,null,null,null,null,{"$f":"IF(H405>0, rate1(1,$L$52,$L$51,$L$54,U405,$L$53,$L$50,Y405),\"\")","v":""},"","","","","","","","","","","",""]
[null,"","","",null,"","",null,"","","","","","","",null,null,{"$f":"IF(H406>0, rate1(1,$L$52,$L$51,$L$54,L406,$L$53,$L$50,P406),\"\")","v":""},null,null,null,null,null,null,null,{"$f":"IF(H406>0, rate1(1,$L$52,$L$51,$L$54,U406,$L$53,$L$50,Y406),\"\")","v":""},"","","","","","","","","","","",""]
[null,"","","",null,"","",null,"","","","","","","",null,null,{"$f":"IF(H407>0, rate1(1,$L$52,$L$51,$L$54,L407,$L$53,$L$50,P407),\"\")","v":""},null,null,null,null,null,null,null,{"$f":"IF(H407>0, rate1(1,$L$52,$L$51,$L$54,U407,$L$53,$L$50,Y407),\"\")","v":""},"","","","","","","","","","","",""]
[null,"","","",null,"","",null,"","","","","","","",null,null,{"$f":"IF(H408>0, rate1(1,$L$52,$L$51,$L$54,L408,$L$53,$L$50,P408),\"\")","v":""},null,null,null,null,null,null,null,{"$f":"IF(H408>0, rate1(1,$L$52,$L$51,$L$54,U408,$L$53,$L$50,Y408),\"\")","v":""},"","","","","","","","","","","",""]
[null,"","","",null,"","",null,"","","","","","","",null,null,{"$f":"IF(H409>0, rate1(1,$L$52,$L$51,$L$54,L409,$L$53,$L$50,P409),\"\")","v":""},null,null,null,null,null,null,null,{"$f":"IF(H409>0, rate1(1,$L$52,$L$51,$L$54,U409,$L$53,$L$50,Y409),\"\")","v":""},"","","","","","","","","","","",""]
[null,"","","",null,"","",null,"","","","","","","",null,null,{"$f":"IF(H410>0, rate1(1,$L$52,$L$51,$L$54,L410,$L$53,$L$50,P410),\"\")","v":""},null,null,null,null,null,null,null,{"$f":"IF(H410>0, rate1(1,$L$52,$L$51,$L$54,U410,$L$53,$L$50,Y410),\"\")","v":""},"","","","","","","","","","","",""]
[null,"","","",null,"","",null,"","","","","","","",null,null,{"$f":"IF(H411>0, rate1(1,$L$52,$L$51,$L$54,L411,$L$53,$L$50,P411),\"\")","v":""},null,null,null,null,null,null,null,{"$f":"IF(H411>0, rate1(1,$L$52,$L$51,$L$54,U411,$L$53,$L$50,Y411),\"\")","v":""},"","","","","","","","","","","",""]
[null,"","","",null,"","",null,"","","","","","","",null,null,{"$f":"IF(H412>0, rate1(1,$L$52,$L$51,$L$54,L412,$L$53,$L$50,P412),\"\")","v":""},null,null,null,null,null,null,null,{"$f":"IF(H412>0, rate1(1,$L$52,$L$51,$L$54,U412,$L$53,$L$50,Y412),\"\")","v":""},"","","","","","","","","","","",""]
[null,"","","",null,"","",null,"","","","","","","",null,null,{"$f":"IF(H413>0, rate1(1,$L$52,$L$51,$L$54,L413,$L$53,$L$50,P413),\"\")","v":""},null,null,null,null,null,null,null,{"$f":"IF(H413>0, rate1(1,$L$52,$L$51,$L$54,U413,$L$53,$L$50,Y413),\"\")","v":""},"","","","","","","","","","","",""]
[null,"","","",null,"","",null,"","","","","","","",null,null,{"$f":"IF(H414>0, rate1(1,$L$52,$L$51,$L$54,L414,$L$53,$L$50,P414),\"\")","v":""},null,null,null,null,null,null,null,{"$f":"IF(H414>0, rate1(1,$L$52,$L$51,$L$54,U414,$L$53,$L$50,Y414),\"\")","v":""},"","","","","","","","","","","",""]
[null,"","","",null,"","",null,"","","","","","","",null,null,{"$f":"IF(H415>0, rate1(1,$L$52,$L$51,$L$54,L415,$L$53,$L$50,P415),\"\")","v":""},null,null,null,null,null,null,null,{"$f":"IF(H415>0, rate1(1,$L$52,$L$51,$L$54,U415,$L$53,$L$50,Y415),\"\")","v":""},"","","","","","","","","","","",""]
[null,"","","",null,"","",null,"","","","","","","",null,null,{"$f":"IF(H416>0, rate1(1,$L$52,$L$51,$L$54,L416,$L$53,$L$50,P416),\"\")","v":""},null,null,null,null,null,null,null,{"$f":"IF(H416>0, rate1(1,$L$52,$L$51,$L$54,U416,$L$53,$L$50,Y416),\"\")","v":""},"","","","","","","","","","","",""]
[null,"","","",null,"","",null,"","","","","","","",null,null,{"$f":"IF(H417>0, rate1(1,$L$52,$L$51,$L$54,L417,$L$53,$L$50,P417),\"\")","v":""},null,null,null,null,null,null,null,{"$f":"IF(H417>0, rate1(1,$L$52,$L$51,$L$54,U417,$L$53,$L$50,Y417),\"\")","v":""},"","","","","","","","","","","",""]
[null,"","","",null,"","",null,"","","","","","","",null,null,{"$f":"IF(H418>0, rate1(1,$L$52,$L$51,$L$54,L418,$L$53,$L$50,P418),\"\")","v":""},null,null,null,null,null,null,null,{"$f":"IF(H418>0, rate1(1,$L$52,$L$51,$L$54,U418,$L$53,$L$50,Y418),\"\")","v":""},"","","","","","","","","","","",""]
[null,"","","",null,"","",null,"","","","","","","",null,null,{"$f":"IF(H419>0, rate1(1,$L$52,$L$51,$L$54,L419,$L$53,$L$50,P419),\"\")","v":""},null,null,null,null,null,null,null,{"$f":"IF(H419>0, rate1(1,$L$52,$L$51,$L$54,U419,$L$53,$L$50,Y419),\"\")","v":""},"","","","","","","","","","","",""]
[null,"","","",null,"","",null,"","","","","","","",null,null,{"$f":"IF(H420>0, rate1(1,$L$52,$L$51,$L$54,L420,$L$53,$L$50,P420),\"\")","v":""},null,null,null,null,null,null,null,{"$f":"IF(H420>0, rate1(1,$L$52,$L$51,$L$54,U420,$L$53,$L$50,Y420),\"\")","v":""},"","","","","","","","","","","",""]
[null,"","","",null,"","",null,"","","","","","","",null,null,{"$f":"IF(H421>0, rate1(1,$L$52,$L$51,$L$54,L421,$L$53,$L$50,P421),\"\")","v":""},null,null,null,null,null,null,null,{"$f":"IF(H421>0, rate1(1,$L$52,$L$51,$L$54,U421,$L$53,$L$50,Y421),\"\")","v":""},"","","","","","","","","","","",""]
[null,"","","",null,"","",null,"","","","","","","",null,null,{"$f":"IF(H422>0, rate1(1,$L$52,$L$51,$L$54,L422,$L$53,$L$50,P422),\"\")","v":""},null,null,null,null,null,null,null,{"$f":"IF(H422>0, rate1(1,$L$52,$L$51,$L$54,U422,$L$53,$L$50,Y422),\"\")","v":""},"","","","","","","","","","","",""]
[null,"","","",null,"","",null,"","","","","","","",null,null,{"$f":"IF(H423>0, rate1(1,$L$52,$L$51,$L$54,L423,$L$53,$L$50,P423),\"\")","v":""},null,null,null,null,null,null,null,{"$f":"IF(H423>0, rate1(1,$L$52,$L$51,$L$54,U423,$L$53,$L$50,Y423),\"\")","v":""},"","","","","","","","","","","",""]
[null,"","","",null,"","",null,"","","","","","","",null,null,{"$f":"IF(H424>0, rate1(1,$L$52,$L$51,$L$54,L424,$L$53,$L$50,P424),\"\")","v":""},null,null,null,null,null,null,null,{"$f":"IF(H424>0, rate1(1,$L$52,$L$51,$L$54,U424,$L$53,$L$50,Y424),\"\")","v":""},"","","","","","","","","","","",""]
[null,"","","",null,"","",null,"","","","","","","",null,null,{"$f":"IF(H425>0, rate1(1,$L$52,$L$51,$L$54,L425,$L$53,$L$50,P425),\"\")","v":""},null,null,null,null,null,null,null,{"$f":"IF(H425>0, rate1(1,$L$52,$L$51,$L$54,U425,$L$53,$L$50,Y425),\"\")","v":""},"","","","","","","","","","","",""]
[null,"","","",null,"","",null,"","","","","","","",null,null,{"$f":"IF(H426>0, rate1(1,$L$52,$L$51,$L$54,L426,$L$53,$L$50,P426),\"\")","v":""},null,null,null,null,null,null,null,{"$f":"IF(H426>0, rate1(1,$L$52,$L$51,$L$54,U426,$L$53,$L$50,Y426),\"\")","v":""},"","","","","","","","","","","",""]
[null,"","","",null,"","",null,"","","","","","","",null,null,{"$f":"IF(H427>0, rate1(1,$L$52,$L$51,$L$54,L427,$L$53,$L$50,P427),\"\")","v":""},null,null,null,null,null,null,null,{"$f":"IF(H427>0, rate1(1,$L$52,$L$51,$L$54,U427,$L$53,$L$50,Y427),\"\")","v":""},"","","","","","","","","","","",""]
[null,"","","",null,"","",null,"","","","","","","",null,null,{"$f":"IF(H428>0, rate1(1,$L$52,$L$51,$L$54,L428,$L$53,$L$50,P428),\"\")","v":""},null,null,null,null,null,null,null,{"$f":"IF(H428>0, rate1(1,$L$52,$L$51,$L$54,U428,$L$53,$L$50,Y428),\"\")","v":""},"","","","","","","","","","","",""]
[null,"","","",null,"","",null,"","","","","","","",null,null,{"$f":"IF(H429>0, rate1(1,$L$52,$L$51,$L$54,L429,$L$53,$L$50,P429),\"\")","v":""},null,null,null,null,null,null,null,{"$f":"IF(H429>0, rate1(1,$L$52,$L$51,$L$54,U429,$L$53,$L$50,Y429),\"\")","v":""},"","","","","","","","","","","",""]
[null,"","","",null,"","",null,"","","","","","","",null,null,{"$f":"IF(H430>0, rate1(1,$L$52,$L$51,$L$54,L430,$L$53,$L$50,P430),\"\")","v":""},null,null,null,null,null,null,null,{"$f":"IF(H430>0, rate1(1,$L$52,$L$51,$L$54,U430,$L$53,$L$50,Y430),\"\")","v":""},"","","","","","","","","","","",""]
[null,"","","",null,"","",null,"","","","","","","",null,null,{"$f":"IF(H431>0, rate1(1,$L$52,$L$51,$L$54,L431,$L$53,$L$50,P431),\"\")","v":""},null,null,null,null,null,null,null,{"$f":"IF(H431>0, rate1(1,$L$52,$L$51,$L$54,U431,$L$53,$L$50,Y431),\"\")","v":""},"","","","","","","","","","","",""]
[null,"","","",null,"","",null,"","","","","","","",null,null,{"$f":"IF(H432>0, rate1(1,$L$52,$L$51,$L$54,L432,$L$53,$L$50,P432),\"\")","v":""},null,null,null,null,null,null,null,{"$f":"IF(H432>0, rate1(1,$L$52,$L$51,$L$54,U432,$L$53,$L$50,Y432),\"\")","v":""},"","","","","","","","","","","",""]
[null,"","","",null,"","",null,"","","","","","","",null,null,{"$f":"IF(H433>0, rate1(1,$L$52,$L$51,$L$54,L433,$L$53,$L$50,P433),\"\")","v":""},null,null,null,null,null,null,null,{"$f":"IF(H433>0, rate1(1,$L$52,$L$51,$L$54,U433,$L$53,$L$50,Y433),\"\")","v":""},"","","","","","","","","","","",""]
[null,"","","",null,"","",null,"","","","","","","",null,null,{"$f":"IF(H434>0, rate1(1,$L$52,$L$51,$L$54,L434,$L$53,$L$50,P434),\"\")","v":""},null,null,null,null,null,null,null,{"$f":"IF(H434>0, rate1(1,$L$52,$L$51,$L$54,U434,$L$53,$L$50,Y434),\"\")","v":""},"","","","","","","","","","","",""]
[null,"","","",null,"","",null,"","","","","","","",null,null,{"$f":"IF(H435>0, rate1(1,$L$52,$L$51,$L$54,L435,$L$53,$L$50,P435),\"\")","v":""},null,null,null,null,null,null,null,{"$f":"IF(H435>0, rate1(1,$L$52,$L$51,$L$54,U435,$L$53,$L$50,Y435),\"\")","v":""},"","","","","","","","","","","",""]
[null,"","","",null,"","",null,"","","","","","","",null,null,{"$f":"IF(H436>0, rate1(1,$L$52,$L$51,$L$54,L436,$L$53,$L$50,P436),\"\")","v":""},null,null,null,null,null,null,null,{"$f":"IF(H436>0, rate1(1,$L$52,$L$51,$L$54,U436,$L$53,$L$50,Y436),\"\")","v":""},"","","","","","","","","","","",""]
[null,"","","",null,"","",null,"","","","","","","",null,null,{"$f":"IF(H437>0, rate1(1,$L$52,$L$51,$L$54,L437,$L$53,$L$50,P437),\"\")","v":""},null,null,null,null,null,null,null,{"$f":"IF(H437>0, rate1(1,$L$52,$L$51,$L$54,U437,$L$53,$L$50,Y437),\"\")","v":""},"","","","","","","","","","","",""]
[null,"","","",null,"","",null,"","","","","","","",null,null,{"$f":"IF(H438>0, rate1(1,$L$52,$L$51,$L$54,L438,$L$53,$L$50,P438),\"\")","v":""},null,null,null,null,null,null,null,{"$f":"IF(H438>0, rate1(1,$L$52,$L$51,$L$54,U438,$L$53,$L$50,Y438),\"\")","v":""},"","","","","","","","","","","",""]
[null,"","","",null,"","",null,"","","","","","","",null,null,{"$f":"IF(H439>0, rate1(1,$L$52,$L$51,$L$54,L439,$L$53,$L$50,P439),\"\")","v":""},null,null,null,null,null,null,null,{"$f":"IF(H439>0, rate1(1,$L$52,$L$51,$L$54,U439,$L$53,$L$50,Y439),\"\")","v":""},"","","","","","","","","","","",""]
[null,"","","",null,"","",null,"","","","","","","",null,null,{"$f":"IF(H440>0, rate1(1,$L$52,$L$51,$L$54,L440,$L$53,$L$50,P440),\"\")","v":""},null,null,null,null,null,null,null,{"$f":"IF(H440>0, rate1(1,$L$52,$L$51,$L$54,U440,$L$53,$L$50,Y440),\"\")","v":""},"","","","","","","","","","","",""]
[null,"","","",null,"","",null,"","","","","","","",null,null,{"$f":"IF(H441>0, rate1(1,$L$52,$L$51,$L$54,L441,$L$53,$L$50,P441),\"\")","v":""},null,null,null,null,null,null,null,{"$f":"IF(H441>0, rate1(1,$L$52,$L$51,$L$54,U441,$L$53,$L$50,Y441),\"\")","v":""},"","","","","","","","","","","",""]
[null,"","","",null,"","",null,"","","","","","","",null,null,{"$f":"IF(H442>0, rate1(1,$L$52,$L$51,$L$54,L442,$L$53,$L$50,P442),\"\")","v":""},null,null,null,null,null,null,null,{"$f":"IF(H442>0, rate1(1,$L$52,$L$51,$L$54,U442,$L$53,$L$50,Y442),\"\")","v":""},"","","","","","","","","","","",""]
[null,"","","",null,"","",null,"","","","","","","",null,null,{"$f":"IF(H443>0, rate1(1,$L$52,$L$51,$L$54,L443,$L$53,$L$50,P443),\"\")","v":""},null,null,null,null,null,null,null,{"$f":"IF(H443>0, rate1(1,$L$52,$L$51,$L$54,U443,$L$53,$L$50,Y443),\"\")","v":""},"","","","","","","","","","","",""]
[null,"","","",null,"","",null,"","","","","","","",null,null,{"$f":"IF(H444>0, rate1(1,$L$52,$L$51,$L$54,L444,$L$53,$L$50,P444),\"\")","v":""},null,null,null,null,null,null,null,{"$f":"IF(H444>0, rate1(1,$L$52,$L$51,$L$54,U444,$L$53,$L$50,Y444),\"\")","v":""},"","","","","","","","","","","",""]
[null,"","","",null,"","",null,"","","","","","","",null,null,{"$f":"IF(H445>0, rate1(1,$L$52,$L$51,$L$54,L445,$L$53,$L$50,P445),\"\")","v":""},null,null,null,null,null,null,null,{"$f":"IF(H445>0, rate1(1,$L$52,$L$51,$L$54,U445,$L$53,$L$50,Y445),\"\")","v":""},"","","","","","","","","","","",""]
[null,"","","",null,"","",null,"","","","","","","",null,null,{"$f":"IF(H446>0, rate1(1,$L$52,$L$51,$L$54,L446,$L$53,$L$50,P446),\"\")","v":""},null,null,null,null,null,null,null,{"$f":"IF(H446>0, rate1(1,$L$52,$L$51,$L$54,U446,$L$53,$L$50,Y446),\"\")","v":""},"","","","","","","","","","","",""]
[null,"","","",null,"","",null,"","","","","","","",null,null,{"$f":"IF(H447>0, rate1(1,$L$52,$L$51,$L$54,L447,$L$53,$L$50,P447),\"\")","v":""},null,null,null,null,null,null,null,{"$f":"IF(H447>0, rate1(1,$L$52,$L$51,$L$54,U447,$L$53,$L$50,Y447),\"\")","v":""},"","","","","","","","","","","",""]
[null,{"$f":"IF(H448>0, AF447,\"\")","v":""},{"$f":"IF(H448>0, AG447,\"\")","v":""},{"$f":"IF(H448>0, AH447,\"\")","v":""},null,{"$f":"IF(H448>0, (E448+E447)/2,\"\")","v":""},{"$f":"IF(H448>0, F448*$S$53*$C$55*(B448-C448+N448)^1.5,\"\")","v":""},null,{"$f":"IF(H448>0, (B448-C448)*B$19,\"\")","v":""},{"$f":"IF(H448>0, $B$7,\"\")","v":""},{"$f":"IF(H448>0, IF((1-S447-0.015)>0,1,-1),\"\")","v":""},{"$f":"IF(H448>0, D448+K448*H448,\"\")","v":""},{"$f":"IF(H448>0, (D448+L448)/2,\"\")","v":""},{"$f":"IF(H448>0, 2*($P$53*M448/$S$52/$S$51)^2-(B448-C448)*2,\"\")","v":""},{"$f":"IF(H448>0, wh(B448,$F$51,$F$52,$F$53),\"\")","v":""},null,null,{"$f":"IF(H448>0, rate1(1,$L$52,$L$51,$L$54,L448,$L$53,$L$50,P448),\"\")","v":""},null,null,null,null,null,null,null,{"$f":"IF(H448>0, rate1(1,$L$52,$L$51,$L$54,U448,$L$53,$L$50,Y448),\"\")","v":""},{"$f":"IF(H448>0, X448/O448/Z448,\"\")","v":""},{"$f":"IF(H448>0, W448/(1-AA448),\"\")","v":""},{"$f":"IF(H448>0, delta_z(N448,S448,H448,AE447,AB448),\"\")","v":""},{"$f":"IF(H448>0, H448/AC448*K448,\"\")","v":""},{"$f":"IF(H448>0, (AD448-AD447)/(AC448+AC447)*2,\"\")","v":""},{"$f":"IF(H448>0, B448-(AC448-N448),\"\")","v":""},{"$f":"IF(H448>0, C448-AC448,\"\")","v":""},{"$f":"IF(H448>0, $S$54*$S$53*$C$55*SQRT(AF448-AG448),\"\")","v":""},{"$f":"IF(H448>0, AC448/R448*1000000,\"\")","v":""},{"$f":"IF(H448>0, AJ447+AI448/3600,\"\")","v":""},{"$f":"IF(H448>0, AK447+AI447*G447/1000000,\"\")","v":""},{"$f":"IF(H448>0, AL447+AI447*J447/1000000,\"\")","v":""}]
[null,"","","",null,"","",null,"","","","","","","",null,null,{"$f":"IF(H449>0, rate1(1,$L$52,$L$51,$L$54,L449,$L$53,$L$50,P449),\"\")","v":""},null,null,null,null,null,null,null,{"$f":"IF(H449>0, rate1(1,$L$52,$L$51,$L$54,U449,$L$53,$L$50,Y449),\"\")","v":""},"","","","","","","","","","","",""]
[null,"","","",null,"","",null,"","","","","","","",null,null,{"$f":"IF(H450>0, rate1(1,$L$52,$L$51,$L$54,L450,$L$53,$L$50,P450),\"\")","v":""},null,null,null,null,null,null,null,{"$f":"IF(H450>0, rate1(1,$L$52,$L$51,$L$54,U450,$L$53,$L$50,Y450),\"\")","v":""},"","","","","","","","","","","",""]
[null,"","","",null,"","",null,"","","","","","","",null,null,{"$f":"IF(H451>0, rate1(1,$L$52,$L$51,$L$54,L451,$L$53,$L$50,P451),\"\")","v":""},null,null,null,null,null,null,null,{"$f":"IF(H451>0, rate1(1,$L$52,$L$51,$L$54,U451,$L$53,$L$50,Y451),\"\")","v":""},"","","","","","","","","","","",""]
[null,"","","",null,"","",null,"","","","","","","",null,null,{"$f":"IF(H452>0, rate1(1,$L$52,$L$51,$L$54,L452,$L$53,$L$50,P452),\"\")","v":""},null,null,null,null,null,null,null,{"$f":"IF(H452>0, rate1(1,$L$52,$L$51,$L$54,U452,$L$53,$L$50,Y452),\"\")","v":""},"","","","","","","","","","","",""]
[null,"","","",null,"","",null,"","","","","","","",null,null,{"$f":"IF(H453>0, rate1(1,$L$52,$L$51,$L$54,L453,$L$53,$L$50,P453),\"\")","v":""},null,null,null,null,null,null,null,{"$f":"IF(H453>0, rate1(1,$L$52,$L$51,$L$54,U453,$L$53,$L$50,Y453),\"\")","v":""},"","","","","","","","","","","",""]
[null,"","","",null,"","",null,"","","","","","","",null,null,{"$f":"IF(H454>0, rate1(1,$L$52,$L$51,$L$54,L454,$L$53,$L$50,P454),\"\")","v":""},null,null,null,null,null,null,null,{"$f":"IF(H454>0, rate1(1,$L$52,$L$51,$L$54,U454,$L$53,$L$50,Y454),\"\")","v":""},"","","","","","","","","","","",""]
[null,"","","",null,"","",null,"","","","","","","",null,null,{"$f":"IF(H455>0, rate1(1,$L$52,$L$51,$L$54,L455,$L$53,$L$50,P455),\"\")","v":""},null,null,null,null,null,null,null,{"$f":"IF(H455>0, rate1(1,$L$52,$L$51,$L$54,U455,$L$53,$L$50,Y455),\"\")","v":""},"","","","","","","","","","","",""]
[null,"","","",null,"","",null,"","","","","","","",null,null,{"$f":"IF(H456>0, rate1(1,$L$52,$L$51,$L$54,L456,$L$53,$L$50,P456),\"\")","v":""},null,null,null,null,null,null,null,{"$f":"IF(H456>0, rate1(1,$L$52,$L$51,$L$54,U456,$L$53,$L$50,Y456),\"\")","v":""},"","","","","","","","","","","",""]
[null,"","","",null,"","",null,"","","","","","","",null,null,{"$f":"IF(H457>0, rate1(1,$L$52,$L$51,$L$54,L457,$L$53,$L$50,P457),\"\")","v":""},null,null,null,null,null,null,null,{"$f":"IF(H457>0, rate1(1,$L$52,$L$51,$L$54,U457,$L$53,$L$50,Y457),\"\")","v":""},"","","","","","","","","","","",""]
[null,"","","",null,"","",null,"","","","","","","",null,null,{"$f":"IF(H458>0, rate1(1,$L$52,$L$51,$L$54,L458,$L$53,$L$50,P458),\"\")","v":""},null,null,null,null,null,null,null,{"$f":"IF(H458>0, rate1(1,$L$52,$L$51,$L$54,U458,$L$53,$L$50,Y458),\"\")","v":""},"","","","","","","","","","","",""]
[null,"","","",null,"","",null,"","","","","","","",null,null,{"$f":"IF(H459>0, rate1(1,$L$52,$L$51,$L$54,L459,$L$53,$L$50,P459),\"\")","v":""},null,null,null,null,null,null,null,{"$f":"IF(H459>0, rate1(1,$L$52,$L$51,$L$54,U459,$L$53,$L$50,Y459),\"\")","v":""},"","","","","","","","","","","",""]
[null,"","","",null,"","",null,"","","","","","","",null,null,{"$f":"IF(H460>0, rate1(1,$L$52,$L$51,$L$54,L460,$L$53,$L$50,P460),\"\")","v":""},null,null,null,null,null,null,null,{"$f":"IF(H460>0, rate1(1,$L$52,$L$51,$L$54,U460,$L$53,$L$50,Y460),\"\")","v":""},"","","","","","","","","","","",""]
[null,"","","",null,"","",null,"","","","","","","",null,null,{"$f":"IF(H461>0, rate1(1,$L$52,$L$51,$L$54,L461,$L$53,$L$50,P461),\"\")","v":""},null,null,null,null,null,null,null,{"$f":"IF(H461>0, rate1(1,$L$52,$L$51,$L$54,U461,$L$53,$L$50,Y461),\"\")","v":""},"","","","","","","","","","","",""]
[null,"","","",null,"","",null,"","","","","","","",null,null,{"$f":"IF(H462>0, rate1(1,$L$52,$L$51,$L$54,L462,$L$53,$L$50,P462),\"\")","v":""},null,null,null,null,null,null,null,{"$f":"IF(H462>0, rate1(1,$L$52,$L$51,$L$54,U462,$L$53,$L$50,Y462),\"\")","v":""},"","","","","","","","","","","",""]
[null,"","","",null,"","",null,"","","","","","","",null,null,{"$f":"IF(H463>0, rate1(1,$L$52,$L$51,$L$54,L463,$L$53,$L$50,P463),\"\")","v":""},null,null,null,null,null,null,null,{"$f":"IF(H463>0, rate1(1,$L$52,$L$51,$L$54,U463,$L$53,$L$50,Y463),\"\")","v":""},"","","","","","","","","","","",""]
[null,"","","",null,"","",null,"","","","","","","",null,null,{"$f":"IF(H464>0, rate1(1,$L$52,$L$51,$L$54,L464,$L$53,$L$50,P464),\"\")","v":""},null,null,null,null,null,null,null,{"$f":"IF(H464>0, rate1(1,$L$52,$L$51,$L$54,U464,$L$53,$L$50,Y464),\"\")","v":""},"","","","","","","","","","","",""]
[null,"","","",null,"","",null,"","","","","","","",null,null,{"$f":"IF(H465>0, rate1(1,$L$52,$L$51,$L$54,L465,$L$53,$L$50,P465),\"\")","v":""},null,null,null,null,null,null,null,{"$f":"IF(H465>0, rate1(1,$L$52,$L$51,$L$54,U465,$L$53,$L$50,Y465),\"\")","v":""},"","","","","","","","","","","",""]
[null,"","","",null,"","",null,"","","","","","","",null,null,{"$f":"IF(H466>0, rate1(1,$L$52,$L$51,$L$54,L466,$L$53,$L$50,P466),\"\")","v":""},null,null,null,null,null,null,null,{"$f":"IF(H466>0, rate1(1,$L$52,$L$51,$L$54,U466,$L$53,$L$50,Y466),\"\")","v":""},"","","","","","","","","","","",""]
[null,"","","",null,"","",null,"","","","","","","",null,null,{"$f":"IF(H467>0, rate1(1,$L$52,$L$51,$L$54,L467,$L$53,$L$50,P467),\"\")","v":""},null,null,null,null,null,null,null,{"$f":"IF(H467>0, rate1(1,$L$52,$L$51,$L$54,U467,$L$53,$L$50,Y467),\"\")","v":""},"","","","","","","","","","","",""]
[null,"","","",null,"","",null,"","","","","","","",null,null,{"$f":"IF(H468>0, rate1(1,$L$52,$L$51,$L$54,L468,$L$53,$L$50,P468),\"\")","v":""},null,null,null,null,null,null,null,{"$f":"IF(H468>0, rate1(1,$L$52,$L$51,$L$54,U468,$L$53,$L$50,Y468),\"\")","v":""},"","","","","","","","","","","",""]
[null,"","","",null,"","",null,"","","","","","","",null,null,{"$f":"IF(H469>0, rate1(1,$L$52,$L$51,$L$54,L469,$L$53,$L$50,P469),\"\")","v":""},null,null,null,null,null,null,null,{"$f":"IF(H469>0, rate1(1,$L$52,$L$51,$L$54,U469,$L$53,$L$50,Y469),\"\")","v":""},"","","","","","","","","","","",""]
[null,"","","",null,"","",null,"","","","","","","",null,null,{"$f":"IF(H470>0, rate1(1,$L$52,$L$51,$L$54,L470,$L$53,$L$50,P470),\"\")","v":""},null,null,null,null,null,null,null,{"$f":"IF(H470>0, rate1(1,$L$52,$L$51,$L$54,U470,$L$53,$L$50,Y470),\"\")","v":""},"","","","","","","","","","","",""]
[null,"","","",null,"","",null,"","","","","","","",null,null,{"$f":"IF(H471>0, rate1(1,$L$52,$L$51,$L$54,L471,$L$53,$L$50,P471),\"\")","v":""},null,null,null,null,null,null,null,{"$f":"IF(H471>0, rate1(1,$L$52,$L$51,$L$54,U471,$L$53,$L$50,Y471),\"\")","v":""},"","","","","","","","","","","",""]
[null,"","","",null,"","",null,"","","","","","","",null,null,{"$f":"IF(H472>0, rate1(1,$L$52,$L$51,$L$54,L472,$L$53,$L$50,P472),\"\")","v":""},null,null,null,null,null,null,null,{"$f":"IF(H472>0, rate1(1,$L$52,$L$51,$L$54,U472,$L$53,$L$50,Y472),\"\")","v":""},"","","","","","","","","","","",""]
[null,"","","",null,"","",null,"","","","","","","",null,null,{"$f":"IF(H473>0, rate1(1,$L$52,$L$51,$L$54,L473,$L$53,$L$50,P473),\"\")","v":""},null,null,null,null,null,null,null,{"$f":"IF(H473>0, rate1(1,$L$52,$L$51,$L$54,U473,$L$53,$L$50,Y473),\"\")","v":""},"","","","","","","","","","","",""]
[null,"","","",null,"","",null,"","","","","","","",null,null,{"$f":"IF(H474>0, rate1(1,$L$52,$L$51,$L$54,L474,$L$53,$L$50,P474),\"\")","v":""},null,null,null,null,null,null,null,{"$f":"IF(H474>0, rate1(1,$L$52,$L$51,$L$54,U474,$L$53,$L$50,Y474),\"\")","v":""},"","","","","","","","","","","",""]
[null,"","","",null,"","",null,"","","","","","","",null,null,{"$f":"IF(H475>0, rate1(1,$L$52,$L$51,$L$54,L475,$L$53,$L$50,P475),\"\")","v":""},null,null,null,null,null,null,null,{"$f":"IF(H475>0, rate1(1,$L$52,$L$51,$L$54,U475,$L$53,$L$50,Y475),\"\")","v":""},"","","","","","","","","","","",""]
[null,"","","",null,"","",null,"","","","","","","",null,null,{"$f":"IF(H476>0, rate1(1,$L$52,$L$51,$L$54,L476,$L$53,$L$50,P476),\"\")","v":""},null,null,null,null,null,null,null,{"$f":"IF(H476>0, rate1(1,$L$52,$L$51,$L$54,U476,$L$53,$L$50,Y476),\"\")","v":""},"","","","","","","","","","","",""]
[null,"","","",null,"","",null,"","","","","","","",null,null,{"$f":"IF(H477>0, rate1(1,$L$52,$L$51,$L$54,L477,$L$53,$L$50,P477),\"\")","v":""},null,null,null,null,null,null,null,{"$f":"IF(H477>0, rate1(1,$L$52,$L$51,$L$54,U477,$L$53,$L$50,Y477),\"\")","v":""},"","","","","","","","","","","",""]
[null,"","","",null,"","",null,"","","","","","","",null,null,{"$f":"IF(H478>0, rate1(1,$L$52,$L$51,$L$54,L478,$L$53,$L$50,P478),\"\")","v":""},null,null,null,null,null,null,null,{"$f":"IF(H478>0, rate1(1,$L$52,$L$51,$L$54,U478,$L$53,$L$50,Y478),\"\")","v":""},"","","","","","","","","","","",""]
[null,"","","",null,"","",null,"","","","","","","",null,null,{"$f":"IF(H479>0, rate1(1,$L$52,$L$51,$L$54,L479,$L$53,$L$50,P479),\"\")","v":""},null,null,null,null,null,null,null,{"$f":"IF(H479>0, rate1(1,$L$52,$L$51,$L$54,U479,$L$53,$L$50,Y479),\"\")","v":""},"","","","","","","","","","","",""]
[null,"","","",null,"","",null,"","","","","","","",null,null,{"$f":"IF(H480>0, rate1(1,$L$52,$L$51,$L$54,L480,$L$53,$L$50,P480),\"\")","v":""},null,null,null,null,null,null,null,{"$f":"IF(H480>0, rate1(1,$L$52,$L$51,$L$54,U480,$L$53,$L$50,Y480),\"\")","v":""},"","","","","","","","","","","",""]
[null,"","","",null,"","",null,"","","","","","","",null,null,{"$f":"IF(H481>0, rate1(1,$L$52,$L$51,$L$54,L481,$L$53,$L$50,P481),\"\")","v":""},null,null,null,null,null,null,null,{"$f":"IF(H481>0, rate1(1,$L$52,$L$51,$L$54,U481,$L$53,$L$50,Y481),\"\")","v":""},"","","","","","","","","","","",""]
[null,"","","",null,"","",null,"","","","","","","",null,null,{"$f":"IF(H482>0, rate1(1,$L$52,$L$51,$L$54,L482,$L$53,$L$50,P482),\"\")","v":""},null,null,null,null,null,null,null,{"$f":"IF(H482>0, rate1(1,$L$52,$L$51,$L$54,U482,$L$53,$L$50,Y482),\"\")","v":""},"","","","","","","","","","","",""]
[null,"","","",null,"","",null,"","","","","","","",null,null,{"$f":"IF(H483>0, rate1(1,$L$52,$L$51,$L$54,L483,$L$53,$L$50,P483),\"\")","v":""},null,null,null,null,null,null,null,{"$f":"IF(H483>0, rate1(1,$L$52,$L$51,$L$54,U483,$L$53,$L$50,Y483),\"\")","v":""},"","","","","","","","","","","",""]
[null,"","","",null,"","",null,"","","","","","","",null,null,{"$f":"IF(H484>0, rate1(1,$L$52,$L$51,$L$54,L484,$L$53,$L$50,P484),\"\")","v":""},null,null,null,null,null,null,null,{"$f":"IF(H484>0, rate1(1,$L$52,$L$51,$L$54,U484,$L$53,$L$50,Y484),\"\")","v":""},"","","","","","","","","","","",""]
[null,"","","",null,"","",null,"","","","","","","",null,null,{"$f":"IF(H485>0, rate1(1,$L$52,$L$51,$L$54,L485,$L$53,$L$50,P485),\"\")","v":""},null,null,null,null,null,null,null,{"$f":"IF(H485>0, rate1(1,$L$52,$L$51,$L$54,U485,$L$53,$L$50,Y485),\"\")","v":""},"","","","","","","","","","","",""]
[null,"","","",null,"","",null,"","","","","","","",null,null,{"$f":"IF(H486>0, rate1(1,$L$52,$L$51,$L$54,L486,$L$53,$L$50,P486),\"\")","v":""},null,null,null,null,null,null,null,{"$f":"IF(H486>0, rate1(1,$L$52,$L$51,$L$54,U486,$L$53,$L$50,Y486),\"\")","v":""},"","","","","","","","","","","",""]
[null,"","","",null,"","",null,"","","","","","","",null,null,{"$f":"IF(H487>0, rate1(1,$L$52,$L$51,$L$54,L487,$L$53,$L$50,P487),\"\")","v":""},null,null,null,null,null,null,null,{"$f":"IF(H487>0, rate1(1,$L$52,$L$51,$L$54,U487,$L$53,$L$50,Y487),\"\")","v":""},"","","","","","","","","","","",""]
[null,"","","",null,"","",null,"","","","","","","",null,null,{"$f":"IF(H488>0, rate1(1,$L$52,$L$51,$L$54,L488,$L$53,$L$50,P488),\"\")","v":""},null,null,null,null,null,null,null,{"$f":"IF(H488>0, rate1(1,$L$52,$L$51,$L$54,U488,$L$53,$L$50,Y488),\"\")","v":""},"","","","","","","","","","","",""]
[null,"","","",null,"","",null,"","","","","","","",null,null,{"$f":"IF(H489>0, rate1(1,$L$52,$L$51,$L$54,L489,$L$53,$L$50,P489),\"\")","v":""},null,null,null,null,null,null,null,{"$f":"IF(H489>0, rate1(1,$L$52,$L$51,$L$54,U489,$L$53,$L$50,Y489),\"\")","v":""},"","","","","","","","","","","",""]
[null,"","","",null,"","",null,"","","","","","","",null,null,{"$f":"IF(H490>0, rate1(1,$L$52,$L$51,$L$54,L490,$L$53,$L$50,P490),\"\")","v":""},null,null,null,null,null,null,null,{"$f":"IF(H490>0, rate1(1,$L$52,$L$51,$L$54,U490,$L$53,$L$50,Y490),\"\")","v":""},"","","","","","","","","","","",""]
[null,"","","",null,"","",null,"","","","","","","",null,null,{"$f":"IF(H491>0, rate1(1,$L$52,$L$51,$L$54,L491,$L$53,$L$50,P491),\"\")","v":""},null,null,null,null,null,null,null,{"$f":"IF(H491>0, rate1(1,$L$52,$L$51,$L$54,U491,$L$53,$L$50,Y491),\"\")","v":""},"","","","","","","","","","","",""]
[null,"","","",null,"","",null,"","","","","","","",null,null,{"$f":"IF(H492>0, rate1(1,$L$52,$L$51,$L$54,L492,$L$53,$L$50,P492),\"\")","v":""},null,null,null,null,null,null,null,{"$f":"IF(H492>0, rate1(1,$L$52,$L$51,$L$54,U492,$L$53,$L$50,Y492),\"\")","v":""},"","","","","","","","","","","",""]
[null,"","","",null,"","",null,"","","","","","","",null,null,{"$f":"IF(H493>0, rate1(1,$L$52,$L$51,$L$54,L493,$L$53,$L$50,P493),\"\")","v":""},null,null,null,null,null,null,null,{"$f":"IF(H493>0, rate1(1,$L$52,$L$51,$L$54,U493,$L$53,$L$50,Y493),\"\")","v":""},"","","","","","","","","","","",""]
[null,"","","",null,"","",null,"","","","","","","",null,null,{"$f":"IF(H494>0, rate1(1,$L$52,$L$51,$L$54,L494,$L$53,$L$50,P494),\"\")","v":""},null,null,null,null,null,null,null,{"$f":"IF(H494>0, rate1(1,$L$52,$L$51,$L$54,U494,$L$53,$L$50,Y494),\"\")","v":""},"","","","","","","","","","","",""]
[null,"","","",null,"","",null,"","","","","","","",null,null,{"$f":"IF(H495>0, rate1(1,$L$52,$L$51,$L$54,L495,$L$53,$L$50,P495),\"\")","v":""},null,null,null,null,null,null,null,{"$f":"IF(H495>0, rate1(1,$L$52,$L$51,$L$54,U495,$L$53,$L$50,Y495),\"\")","v":""},"","","","","","","","","","","",""]
[null,"","","",null,"","",null,"","","","","","","",null,null,{"$f":"IF(H496>0, rate1(1,$L$52,$L$51,$L$54,L496,$L$53,$L$50,P496),\"\")","v":""},null,null,null,null,null,null,null,{"$f":"IF(H496>0, rate1(1,$L$52,$L$51,$L$54,U496,$L$53,$L$50,Y496),\"\")","v":""},"","","","","","","","","","","",""]
[null,"","","",null,"","",null,"","","","","","","",null,null,{"$f":"IF(H497>0, rate1(1,$L$52,$L$51,$L$54,L497,$L$53,$L$50,P497),\"\")","v":""},null,null,null,null,null,null,null,{"$f":"IF(H497>0, rate1(1,$L$52,$L$51,$L$54,U497,$L$53,$L$50,Y497),\"\")","v":""},"","","","","","","","","","","",""]
[null,"","","",null,"","",null,"","","","","","","",null,null,{"$f":"IF(H498>0, rate1(1,$L$52,$L$51,$L$54,L498,$L$53,$L$50,P498),\"\")","v":""},null,null,null,null,null,null,null,{"$f":"IF(H498>0, rate1(1,$L$52,$L$51,$L$54,U498,$L$53,$L$50,Y498),\"\")","v":""},"","","","","","","","","","","",""]
[null,"","","",null,"","",null,"","","","","","","",null,null,{"$f":"IF(H499>0, rate1(1,$L$52,$L$51,$L$54,L499,$L$53,$L$50,P499),\"\")","v":""},null,null,null,null,null,null,null,{"$f":"IF(H499>0, rate1(1,$L$52,$L$51,$L$54,U499,$L$53,$L$50,Y499),\"\")","v":""},"","","","","","","","","","","",""]
[null,"","","",null,"","",null,"","","","","","","",null,null,{"$f":"IF(H500>0, rate1(1,$L$52,$L$51,$L$54,L500,$L$53,$L$50,P500),\"\")","v":""},null,null,null,null,null,null,null,{"$f":"IF(H500>0, rate1(1,$L$52,$L$51,$L$54,U500,$L$53,$L$50,Y500),\"\")","v":""},"","","","","","","","","","","",""]
[null,"","","",null,"","",null,"","","","","","","",null,null,{"$f":"IF(H501>0, rate1(1,$L$52,$L$51,$L$54,L501,$L$53,$L$50,P501),\"\")","v":""},null,null,null,null,null,null,null,{"$f":"IF(H501>0, rate1(1,$L$52,$L$51,$L$54,U501,$L$53,$L$50,Y501),\"\")","v":""},"","","","","","","","","","","",""]
[null,"","","",null,"","",null,"","","","","","","",null,null,{"$f":"IF(H502>0, rate1(1,$L$52,$L$51,$L$54,L502,$L$53,$L$50,P502),\"\")","v":""},null,null,null,null,null,null,null,{"$f":"IF(H502>0, rate1(1,$L$52,$L$51,$L$54,U502,$L$53,$L$50,Y502),\"\")","v":""},"","","","","","","","","","","",""]
[null,"","","",null,"","",null,"","","","","","","",null,null,{"$f":"IF(H503>0, rate1(1,$L$52,$L$51,$L$54,L503,$L$53,$L$50,P503),\"\")","v":""},null,null,null,null,null,null,null,{"$f":"IF(H503>0, rate1(1,$L$52,$L$51,$L$54,U503,$L$53,$L$50,Y503),\"\")","v":""},"","","","","","","","","","","",""]
[null,"","","",null,"","",null,"","","","","","","",null,null,{"$f":"IF(H504>0, rate1(1,$L$52,$L$51,$L$54,L504,$L$53,$L$50,P504),\"\")","v":""},null,null,null,null,null,null,null,{"$f":"IF(H504>0, rate1(1,$L$52,$L$51,$L$54,U504,$L$53,$L$50,Y504),\"\")","v":""},"","","","","","","","","","","",""]
[null,"","","",null,"","",null,"","","","","","","",null,null,{"$f":"IF(H505>0, rate1(1,$L$52,$L$51,$L$54,L505,$L$53,$L$50,P505),\"\")","v":""},null,null,null,null,null,null,null,{"$f":"IF(H505>0, rate1(1,$L$52,$L$51,$L$54,U505,$L$53,$L$50,Y505),\"\")","v":""},"","","","","","","","","","","",""]
[null,"","","",null,"","",null,"","","","","","","",null,null,{"$f":"IF(H506>0, rate1(1,$L$52,$L$51,$L$54,L506,$L$53,$L$50,P506),\"\")","v":""},null,null,null,null,null,null,null,{"$f":"IF(H506>0, rate1(1,$L$52,$L$51,$L$54,U506,$L$53,$L$50,Y506),\"\")","v":""},"","","","","","","","","","","",""]
[null,"","","",null,"","",null,"","","","","","","",null,null,{"$f":"IF(H507>0, rate1(1,$L$52,$L$51,$L$54,L507,$L$53,$L$50,P507),\"\")","v":""},null,null,null,null,null,null,null,{"$f":"IF(H507>0, rate1(1,$L$52,$L$51,$L$54,U507,$L$53,$L$50,Y507),\"\")","v":""},"","","","","","","","","","","",""]
[null,"","","",null,"","",null,"","","","","","","",null,null,{"$f":"IF(H508>0, rate1(1,$L$52,$L$51,$L$54,L508,$L$53,$L$50,P508),\"\")","v":""},null,null,null,null,null,null,null,{"$f":"IF(H508>0, rate1(1,$L$52,$L$51,$L$54,U508,$L$53,$L$50,Y508),\"\")","v":""},"","","","","","","","","","","",""]
[null,"","","",null,"","",null,"","","","","","","",null,null,{"$f":"IF(H509>0, rate1(1,$L$52,$L$51,$L$54,L509,$L$53,$L$50,P509),\"\")","v":""},null,null,null,null,null,null,null,{"$f":"IF(H509>0, rate1(1,$L$52,$L$51,$L$54,U509,$L$53,$L$50,Y509),\"\")","v":""},"","","","","","","","","","","",""]
[null,"","","",null,"","",null,"","","","","","","",null,null,{"$f":"IF(H510>0, rate1(1,$L$52,$L$51,$L$54,L510,$L$53,$L$50,P510),\"\")","v":""},null,null,null,null,null,null,null,{"$f":"IF(H510>0, rate1(1,$L$52,$L$51,$L$54,U510,$L$53,$L$50,Y510),\"\")","v":""},"","","","","","","","","","","",""]
[null,"","","",null,"","",null,"","","","","","","",null,null,{"$f":"IF(H511>0, rate1(1,$L$52,$L$51,$L$54,L511,$L$53,$L$50,P511),\"\")","v":""},null,null,null,null,null,null,null,{"$f":"IF(H511>0, rate1(1,$L$52,$L$51,$L$54,U511,$L$53,$L$50,Y511),\"\")","v":""},"","","","","","","","","","","",""]
[null,{"$f":"IF(H512>0, AF511,\"\")","v":""},{"$f":"IF(H512>0, AG511,\"\")","v":""},{"$f":"IF(H512>0, AH511,\"\")","v":""},null,{"$f":"IF(H512>0, (E512+E511)/2,\"\")","v":""},{"$f":"IF(H512>0, F512*$S$53*$C$55*(B512-C512+N512)^1.5,\"\")","v":""},null,{"$f":"IF(H512>0, (B512-C512)*B$19,\"\")","v":""},{"$f":"IF(H512>0, $B$7,\"\")","v":""},{"$f":"IF(H512>0, IF((1-S511-0.015)>0,1,-1),\"\")","v":""},{"$f":"IF(H512>0, D512+K512*H512,\"\")","v":""},{"$f":"IF(H512>0, (D512+L512)/2,\"\")","v":""},{"$f":"IF(H512>0, 2*($P$53*M512/$S$52/$S$51)^2-(B512-C512)*2,\"\")","v":""},{"$f":"IF(H512>0, wh(B512,$F$51,$F$52,$F$53),\"\")","v":""},null,null,{"$f":"IF(H512>0, rate1(1,$L$52,$L$51,$L$54,L512,$L$53,$L$50,P512),\"\")","v":""},null,null,null,null,null,null,null,{"$f":"IF(H512>0, rate1(1,$L$52,$L$51,$L$54,U512,$L$53,$L$50,Y512),\"\")","v":""},{"$f":"IF(H512>0, X512/O512/Z512,\"\")","v":""},{"$f":"IF(H512>0, W512/(1-AA512),\"\")","v":""},{"$f":"IF(H512>0, delta_z(N512,S512,H512,AE511,AB512),\"\")","v":""},{"$f":"IF(H512>0, H512/AC512*K512,\"\")","v":""},{"$f":"IF(H512>0, (AD512-AD511)/(AC512+AC511)*2,\"\")","v":""},{"$f":"IF(H512>0, B512-(AC512-N512),\"\")","v":""},{"$f":"IF(H512>0, C512-AC512,\"\")","v":""},{"$f":"IF(H512>0, $S$54*$S$53*$C$55*SQRT(AF512-AG512),\"\")","v":""},{"$f":"IF(H512>0, AC512/R512*1000000,\"\")","v":""},{"$f":"IF(H512>0, AJ511+AI512/3600,\"\")","v":""},{"$f":"IF(H512>0, AK511+AI511*G511/1000000,\"\")","v":""},{"$f":"IF(H512>0, AL511+AI511*J511/1000000,\"\")","v":""}]
[null,"","","",null,"","",null,"","","","","","","",null,null,{"$f":"IF(H513>0, rate1(1,$L$52,$L$51,$L$54,L513,$L$53,$L$50,P513),\"\")","v":""},null,null,null,null,null,null,null,{"$f":"IF(H513>0, rate1(1,$L$52,$L$51,$L$54,U513,$L$53,$L$50,Y513),\"\")","v":""},"","","","","","","","","","","",""]
[null,"","","",null,"","",null,"","","","","","","",null,null,{"$f":"IF(H514>0, rate1(1,$L$52,$L$51,$L$54,L514,$L$53,$L$50,P514),\"\")","v":""},null,null,null,null,null,null,null,{"$f":"IF(H514>0, rate1(1,$L$52,$L$51,$L$54,U514,$L$53,$L$50,Y514),\"\")","v":""},"","","","","","","","","","","",""]
[null,"","","",null,"","",null,"","","","","","","",null,null,{"$f":"IF(H515>0, rate1(1,$L$52,$L$51,$L$54,L515,$L$53,$L$50,P515),\"\")","v":""},null,null,null,null,null,null,null,{"$f":"IF(H515>0, rate1(1,$L$52,$L$51,$L$54,U515,$L$53,$L$50,Y515),\"\")","v":""},"","","","","","","","","","","",""]
[null,"","","",null,"","",null,"","","","","","","",null,null,{"$f":"IF(H516>0, rate1(1,$L$52,$L$51,$L$54,L516,$L$53,$L$50,P516),\"\")","v":""},null,null,null,null,null,null,null,{"$f":"IF(H516>0, rate1(1,$L$52,$L$51,$L$54,U516,$L$53,$L$50,Y516),\"\")","v":""},"","","","","","","","","","","",""]
[null,"","","",null,"","",null,"","","","","","","",null,null,{"$f":"IF(H517>0, rate1(1,$L$52,$L$51,$L$54,L517,$L$53,$L$50,P517),\"\")","v":""},null,null,null,null,null,null,null,{"$f":"IF(H517>0, rate1(1,$L$52,$L$51,$L$54,U517,$L$53,$L$50,Y517),\"\")","v":""},"","","","","","","","","","","",""]
[null,"","","",null,"","",null,"","","","","","","",null,null,{"$f":"IF(H518>0, rate1(1,$L$52,$L$51,$L$54,L518,$L$53,$L$50,P518),\"\")","v":""},null,null,null,null,null,null,null,{"$f":"IF(H518>0, rate1(1,$L$52,$L$51,$L$54,U518,$L$53,$L$50,Y518),\"\")","v":""},"","","","","","","","","","","",""]
[null,"","","",null,"","",null,"","","","","","","",null,null,{"$f":"IF(H519>0, rate1(1,$L$52,$L$51,$L$54,L519,$L$53,$L$50,P519),\"\")","v":""},null,null,null,null,null,null,null,{"$f":"IF(H519>0, rate1(1,$L$52,$L$51,$L$54,U519,$L$53,$L$50,Y519),\"\")","v":""},"","","","","","","","","","","",""]
[null,"","","",null,"","",null,"","","","","","","",null,null,{"$f":"IF(H520>0, rate1(1,$L$52,$L$51,$L$54,L520,$L$53,$L$50,P520),\"\")","v":""},null,null,null,null,null,null,null,{"$f":"IF(H520>0, rate1(1,$L$52,$L$51,$L$54,U520,$L$53,$L$50,Y520),\"\")","v":""},"","","","","","","","","","","",""]
[null,"","","",null,"","",null,"","","","","","","",null,null,{"$f":"IF(H521>0, rate1(1,$L$52,$L$51,$L$54,L521,$L$53,$L$50,P521),\"\")","v":""},null,null,null,null,null,null,null,{"$f":"IF(H521>0, rate1(1,$L$52,$L$51,$L$54,U521,$L$53,$L$50,Y521),\"\")","v":""},"","","","","","","","","","","",""]
[null,"","","",null,"","",null,"","","","","","","",null,null,{"$f":"IF(H522>0, rate1(1,$L$52,$L$51,$L$54,L522,$L$53,$L$50,P522),\"\")","v":""},null,null,null,null,null,null,null,{"$f":"IF(H522>0, rate1(1,$L$52,$L$51,$L$54,U522,$L$53,$L$50,Y522),\"\")","v":""},"","","","","","","","","","","",""]
[null,"","","",null,"","",null,"","","","","","","",null,null,{"$f":"IF(H523>0, rate1(1,$L$52,$L$51,$L$54,L523,$L$53,$L$50,P523),\"\")","v":""},null,null,null,null,null,null,null,{"$f":"IF(H523>0, rate1(1,$L$52,$L$51,$L$54,U523,$L$53,$L$50,Y523),\"\")","v":""},"","","","","","","","","","","",""]
[null,"","","",null,"","",null,"","","","","","","",null,null,{"$f":"IF(H524>0, rate1(1,$L$52,$L$51,$L$54,L524,$L$53,$L$50,P524),\"\")","v":""},null,null,null,null,null,null,null,{"$f":"IF(H524>0, rate1(1,$L$52,$L$51,$L$54,U524,$L$53,$L$50,Y524),\"\")","v":""},"","","","","","","","","","","",""]
[null,"","","",null,"","",null,"","","","","","","",null,null,{"$f":"IF(H525>0, rate1(1,$L$52,$L$51,$L$54,L525,$L$53,$L$50,P525),\"\")","v":""},null,null,null,null,null,null,null,{"$f":"IF(H525>0, rate1(1,$L$52,$L$51,$L$54,U525,$L$53,$L$50,Y525),\"\")","v":""},"","","","","","","","","","","",""]
[null,"","","",null,"","",null,"","","","","","","",null,null,{"$f":"IF(H526>0, rate1(1,$L$52,$L$51,$L$54,L526,$L$53,$L$50,P526),\"\")","v":""},null,null,null,null,null,null,null,{"$f":"IF(H526>0, rate1(1,$L$52,$L$51,$L$54,U526,$L$53,$L$50,Y526),\"\")","v":""},"","","","","","","","","","","",""]
[null,"","","",null,"","",null,"","","","","","","",null,null,{"$f":"IF(H527>0, rate1(1,$L$52,$L$51,$L$54,L527,$L$53,$L$50,P527),\"\")","v":""},null,null,null,null,null,null,null,{"$f":"IF(H527>0, rate1(1,$L$52,$L$51,$L$54,U527,$L$53,$L$50,Y527),\"\")","v":""},"","","","","","","","","","","",""]
[null,"","","",null,"","",null,"","","","","","","",null,null,{"$f":"IF(H528>0, rate1(1,$L$52,$L$51,$L$54,L528,$L$53,$L$50,P528),\"\")","v":""},null,null,null,null,null,null,null,{"$f":"IF(H528>0, rate1(1,$L$52,$L$51,$L$54,U528,$L$53,$L$50,Y528),\"\")","v":""},"","","","","","","","","","","",""]
[null,"","","",null,"","",null,"","","","","","","",null,null,{"$f":"IF(H529>0, rate1(1,$L$52,$L$51,$L$54,L529,$L$53,$L$50,P529),\"\")","v":""},null,null,null,null,null,null,null,{"$f":"IF(H529>0, rate1(1,$L$52,$L$51,$L$54,U529,$L$53,$L$50,Y529),\"\")","v":""},"","","","","","","","","","","",""]
[null,"","","",null,"","",null,"","","","","","","",null,null,{"$f":"IF(H530>0, rate1(1,$L$52,$L$51,$L$54,L530,$L$53,$L$50,P530),\"\")","v":""},null,null,null,null,null,null,null,{"$f":"IF(H530>0, rate1(1,$L$52,$L$51,$L$54,U530,$L$53,$L$50,Y530),\"\")","v":""},"","","","","","","","","","","",""]
[null,"","","",null,"","",null,"","","","","","","",null,null,{"$f":"IF(H531>0, rate1(1,$L$52,$L$51,$L$54,L531,$L$53,$L$50,P531),\"\")","v":""},null,null,null,null,null,null,null,{"$f":"IF(H531>0, rate1(1,$L$52,$L$51,$L$54,U531,$L$53,$L$50,Y531),\"\")","v":""},"","","","","","","","","","","",""]
[null,"","","",null,"","",null,"","","","","","","",null,null,{"$f":"IF(H532>0, rate1(1,$L$52,$L$51,$L$54,L532,$L$53,$L$50,P532),\"\")","v":""},null,null,null,null,null,null,null,{"$f":"IF(H532>0, rate1(1,$L$52,$L$51,$L$54,U532,$L$53,$L$50,Y532),\"\")","v":""},"","","","","","","","","","","",""]
[null,"","","",null,"","",null,"","","","","","","",null,null,{"$f":"IF(H533>0, rate1(1,$L$52,$L$51,$L$54,L533,$L$53,$L$50,P533),\"\")","v":""},null,null,null,null,null,null,null,{"$f":"IF(H533>0, rate1(1,$L$52,$L$51,$L$54,U533,$L$53,$L$50,Y533),\"\")","v":""},"","","","","","","","","","","",""]
[null,"","","",null,"","",null,"","","","","","","",null,null,{"$f":"IF(H534>0, rate1(1,$L$52,$L$51,$L$54,L534,$L$53,$L$50,P534),\"\")","v":""},null,null,null,null,null,null,null,{"$f":"IF(H534>0, rate1(1,$L$52,$L$51,$L$54,U534,$L$53,$L$50,Y534),\"\")","v":""},"","","","","","","","","","","",""]
[null,"","","",null,"","",null,"","","","","","","",null,null,{"$f":"IF(H535>0, rate1(1,$L$52,$L$51,$L$54,L535,$L$53,$L$50,P535),\"\")","v":""},null,null,null,null,null,null,null,{"$f":"IF(H535>0, rate1(1,$L$52,$L$51,$L$54,U535,$L$53,$L$50,Y535),\"\")","v":""},"","","","","","","","","","","",""]
[null,"","","",null,"","",null,"","","","","","","",null,null,{"$f":"IF(H536>0, rate1(1,$L$52,$L$51,$L$54,L536,$L$53,$L$50,P536),\"\")","v":""},null,null,null,null,null,null,null,{"$f":"IF(H536>0, rate1(1,$L$52,$L$51,$L$54,U536,$L$53,$L$50,Y536),\"\")","v":""},"","","","","","","","","","","",""]
[null,"","","",null,"","",null,"","","","","","","",null,null,{"$f":"IF(H537>0, rate1(1,$L$52,$L$51,$L$54,L537,$L$53,$L$50,P537),\"\")","v":""},null,null,null,null,null,null,null,{"$f":"IF(H537>0, rate1(1,$L$52,$L$51,$L$54,U537,$L$53,$L$50,Y537),\"\")","v":""},"","","","","","","","","","","",""]
[null,"","","",null,"","",null,"","","","","","","",null,null,{"$f":"IF(H538>0, rate1(1,$L$52,$L$51,$L$54,L538,$L$53,$L$50,P538),\"\")","v":""},null,null,null,null,null,null,null,{"$f":"IF(H538>0, rate1(1,$L$52,$L$51,$L$54,U538,$L$53,$L$50,Y538),\"\")","v":""},"","","","","","","","","","","",""]
[null,"","","",null,"","",null,"","","","","","","",null,null,{"$f":"IF(H539>0, rate1(1,$L$52,$L$51,$L$54,L539,$L$53,$L$50,P539),\"\")","v":""},null,null,null,null,null,null,null,{"$f":"IF(H539>0, rate1(1,$L$52,$L$51,$L$54,U539,$L$53,$L$50,Y539),\"\")","v":""},"","","","","","","","","","","",""]
[null,"","","",null,"","",null,"","","","","","","",null,null,{"$f":"IF(H540>0, rate1(1,$L$52,$L$51,$L$54,L540,$L$53,$L$50,P540),\"\")","v":""},null,null,null,null,null,null,null,{"$f":"IF(H540>0, rate1(1,$L$52,$L$51,$L$54,U540,$L$53,$L$50,Y540),\"\")","v":""},"","","","","","","","","","","",""]
[null,"","","",null,"","",null,"","","","","","","",null,null,{"$f":"IF(H541>0, rate1(1,$L$52,$L$51,$L$54,L541,$L$53,$L$50,P541),\"\")","v":""},null,null,null,null,null,null,null,{"$f":"IF(H541>0, rate1(1,$L$52,$L$51,$L$54,U541,$L$53,$L$50,Y541),\"\")","v":""},"","","","","","","","","","","",""]
[null,"","","",null,"","",null,"","","","","","","",null,null,{"$f":"IF(H542>0, rate1(1,$L$52,$L$51,$L$54,L542,$L$53,$L$50,P542),\"\")","v":""},null,null,null,null,null,null,null,{"$f":"IF(H542>0, rate1(1,$L$52,$L$51,$L$54,U542,$L$53,$L$50,Y542),\"\")","v":""},"","","","","","","","","","","",""]
[null,"","","",null,"","",null,"","","","","","","",null,null,{"$f":"IF(H543>0, rate1(1,$L$52,$L$51,$L$54,L543,$L$53,$L$50,P543),\"\")","v":""},null,null,null,null,null,null,null,{"$f":"IF(H543>0, rate1(1,$L$52,$L$51,$L$54,U543,$L$53,$L$50,Y543),\"\")","v":""},"","","","","","","","","","","",""]
[null,"","","",null,"","",null,"","","","","","","",null,null,{"$f":"IF(H544>0, rate1(1,$L$52,$L$51,$L$54,L544,$L$53,$L$50,P544),\"\")","v":""},null,null,null,null,null,null,null,{"$f":"IF(H544>0, rate1(1,$L$52,$L$51,$L$54,U544,$L$53,$L$50,Y544),\"\")","v":""},"","","","","","","","","","","",""]
[null,"","","",null,"","",null,"","","","","","","",null,null,{"$f":"IF(H545>0, rate1(1,$L$52,$L$51,$L$54,L545,$L$53,$L$50,P545),\"\")","v":""},null,null,null,null,null,null,null,{"$f":"IF(H545>0, rate1(1,$L$52,$L$51,$L$54,U545,$L$53,$L$50,Y545),\"\")","v":""},"","","","","","","","","","","",""]
[null,"","","",null,"","",null,"","","","","","","",null,null,{"$f":"IF(H546>0, rate1(1,$L$52,$L$51,$L$54,L546,$L$53,$L$50,P546),\"\")","v":""},null,null,null,null,null,null,null,{"$f":"IF(H546>0, rate1(1,$L$52,$L$51,$L$54,U546,$L$53,$L$50,Y546),\"\")","v":""},"","","","","","","","","","","",""]
[null,"","","",null,"","",null,"","","","","","","",null,null,{"$f":"IF(H547>0, rate1(1,$L$52,$L$51,$L$54,L547,$L$53,$L$50,P547),\"\")","v":""},null,null,null,null,null,null,null,{"$f":"IF(H547>0, rate1(1,$L$52,$L$51,$L$54,U547,$L$53,$L$50,Y547),\"\")","v":""},"","","","","","","","","","","",""]
[null,"","","",null,"","",null,"","","","","","","",null,null,{"$f":"IF(H548>0, rate1(1,$L$52,$L$51,$L$54,L548,$L$53,$L$50,P548),\"\")","v":""},null,null,null,null,null,null,null,{"$f":"IF(H548>0, rate1(1,$L$52,$L$51,$L$54,U548,$L$53,$L$50,Y548),\"\")","v":""},"","","","","","","","","","","",""]
[null,"","","",null,"","",null,"","","","","","","",null,null,{"$f":"IF(H549>0, rate1(1,$L$52,$L$51,$L$54,L549,$L$53,$L$50,P549),\"\")","v":""},null,null,null,null,null,null,null,{"$f":"IF(H549>0, rate1(1,$L$52,$L$51,$L$54,U549,$L$53,$L$50,Y549),\"\")","v":""},"","","","","","","","","","","",""]
[null,"","","",null,"","",null,"","","","","","","",null,null,{"$f":"IF(H550>0, rate1(1,$L$52,$L$51,$L$54,L550,$L$53,$L$50,P550),\"\")","v":""},null,null,null,null,null,null,null,{"$f":"IF(H550>0, rate1(1,$L$52,$L$51,$L$54,U550,$L$53,$L$50,Y550),\"\")","v":""},"","","","","","","","","","","",""]
[null,"","","",null,"","",null,"","","","","","","",null,null,{"$f":"IF(H551>0, rate1(1,$L$52,$L$51,$L$54,L551,$L$53,$L$50,P551),\"\")","v":""},null,null,null,null,null,null,null,{"$f":"IF(H551>0, rate1(1,$L$52,$L$51,$L$54,U551,$L$53,$L$50,Y551),\"\")","v":""},"","","","","","","","","","","",""]
[null,"","","",null,"","",null,"","","","","","","",null,null,{"$f":"IF(H552>0, rate1(1,$L$52,$L$51,$L$54,L552,$L$53,$L$50,P552),\"\")","v":""},null,null,null,null,null,null,null,{"$f":"IF(H552>0, rate1(1,$L$52,$L$51,$L$54,U552,$L$53,$L$50,Y552),\"\")","v":""},"","","","","","","","","","","",""]
[null,"","","",null,"","",null,"","","","","","","",null,null,{"$f":"IF(H553>0, rate1(1,$L$52,$L$51,$L$54,L553,$L$53,$L$50,P553),\"\")","v":""},null,null,null,null,null,null,null,{"$f":"IF(H553>0, rate1(1,$L$52,$L$51,$L$54,U553,$L$53,$L$50,Y553),\"\")","v":""},"","","","","","","","","","","",""]
[null,"","","",null,"","",null,"","","","","","","",null,null,{"$f":"IF(H554>0, rate1(1,$L$52,$L$51,$L$54,L554,$L$53,$L$50,P554),\"\")","v":""},null,null,null,null,null,null,null,{"$f":"IF(H554>0, rate1(1,$L$52,$L$51,$L$54,U554,$L$53,$L$50,Y554),\"\")","v":""},"","","","","","","","","","","",""]
[null,"","","",null,"","",null,"","","","","","","",null,null,{"$f":"IF(H555>0, rate1(1,$L$52,$L$51,$L$54,L555,$L$53,$L$50,P555),\"\")","v":""},null,null,null,null,null,null,null,{"$f":"IF(H555>0, rate1(1,$L$52,$L$51,$L$54,U555,$L$53,$L$50,Y555),\"\")","v":""},"","","","","","","","","","","",""]
[null,"","","",null,"","",null,"","","","","","","",null,null,{"$f":"IF(H556>0, rate1(1,$L$52,$L$51,$L$54,L556,$L$53,$L$50,P556),\"\")","v":""},null,null,null,null,null,null,null,{"$f":"IF(H556>0, rate1(1,$L$52,$L$51,$L$54,U556,$L$53,$L$50,Y556),\"\")","v":""},"","","","","","","","","","","",""]
[null,"","","",null,"","",null,"","","","","","","",null,null,{"$f":"IF(H557>0, rate1(1,$L$52,$L$51,$L$54,L557,$L$53,$L$50,P557),\"\")","v":""},null,null,null,null,null,null,null,{"$f":"IF(H557>0, rate1(1,$L$52,$L$51,$L$54,U557,$L$53,$L$50,Y557),\"\")","v":""},"","","","","","","","","","","",""]
[null,"","","",null,"","",null,"","","","","","","",null,null,{"$f":"IF(H558>0, rate1(1,$L$52,$L$51,$L$54,L558,$L$53,$L$50,P558),\"\")","v":""},null,null,null,null,null,null,null,{"$f":"IF(H558>0, rate1(1,$L$52,$L$51,$L$54,U558,$L$53,$L$50,Y558),\"\")","v":""},"","","","","","","","","","","",""]
[null,"","","",null,"","",null,"","","","","","","",null,null,{"$f":"IF(H559>0, rate1(1,$L$52,$L$51,$L$54,L559,$L$53,$L$50,P559),\"\")","v":""},null,null,null,null,null,null,null,{"$f":"IF(H559>0, rate1(1,$L$52,$L$51,$L$54,U559,$L$53,$L$50,Y559),\"\")","v":""},"","","","","","","","","","","",""]
[null,"","","",null,"","",null,"","","","","","","",null,null,{"$f":"IF(H560>0, rate1(1,$L$52,$L$51,$L$54,L560,$L$53,$L$50,P560),\"\")","v":""},null,null,null,null,null,null,null,{"$f":"IF(H560>0, rate1(1,$L$52,$L$51,$L$54,U560,$L$53,$L$50,Y560),\"\")","v":""},"","","","","","","","","","","",""]
[null,"","","",null,"","",null,"","","","","","","",null,null,{"$f":"IF(H561>0, rate1(1,$L$52,$L$51,$L$54,L561,$L$53,$L$50,P561),\"\")","v":""},null,null,null,null,null,null,null,{"$f":"IF(H561>0, rate1(1,$L$52,$L$51,$L$54,U561,$L$53,$L$50,Y561),\"\")","v":""},"","","","","","","","","","","",""]
[null,"","","",null,"","",null,"","","","","","","",null,null,{"$f":"IF(H562>0, rate1(1,$L$52,$L$51,$L$54,L562,$L$53,$L$50,P562),\"\")","v":""},null,null,null,null,null,null,null,{"$f":"IF(H562>0, rate1(1,$L$52,$L$51,$L$54,U562,$L$53,$L$50,Y562),\"\")","v":""},"","","","","","","","","","","",""]
[null,"","","",null,"","",null,"","","","","","","",null,null,{"$f":"IF(H563>0, rate1(1,$L$52,$L$51,$L$54,L563,$L$53,$L$50,P563),\"\")","v":""},null,null,null,null,null,null,null,{"$f":"IF(H563>0, rate1(1,$L$52,$L$51,$L$54,U563,$L$53,$L$50,Y563),\"\")","v":""},"","","","","","","","","","","",""]
[null,"","","",null,"","",null,"","","","","","","",null,null,{"$f":"IF(H564>0, rate1(1,$L$52,$L$51,$L$54,L564,$L$53,$L$50,P564),\"\")","v":""},null,null,null,null,null,null,null,{"$f":"IF(H564>0, rate1(1,$L$52,$L$51,$L$54,U564,$L$53,$L$50,Y564),\"\")","v":""},"","","","","","","","","","","",""]
[null,"","","",null,"","",null,"","","","","","","",null,null,{"$f":"IF(H565>0, rate1(1,$L$52,$L$51,$L$54,L565,$L$53,$L$50,P565),\"\")","v":""},null,null,null,null,null,null,null,{"$f":"IF(H565>0, rate1(1,$L$52,$L$51,$L$54,U565,$L$53,$L$50,Y565),\"\")","v":""},"","","","","","","","","","","",""]
[null,"","","",null,"","",null,"","","","","","","",null,null,{"$f":"IF(H566>0, rate1(1,$L$52,$L$51,$L$54,L566,$L$53,$L$50,P566),\"\")","v":""},null,null,null,null,null,null,null,{"$f":"IF(H566>0, rate1(1,$L$52,$L$51,$L$54,U566,$L$53,$L$50,Y566),\"\")","v":""},"","","","","","","","","","","",""]
[null,"","","",null,"","",null,"","","","","","","",null,null,{"$f":"IF(H567>0, rate1(1,$L$52,$L$51,$L$54,L567,$L$53,$L$50,P567),\"\")","v":""},null,null,null,null,null,null,null,{"$f":"IF(H567>0, rate1(1,$L$52,$L$51,$L$54,U567,$L$53,$L$50,Y567),\"\")","v":""},"","","","","","","","","","","",""]
[null,"","","",null,"","",null,"","","","","","","",null,null,{"$f":"IF(H568>0, rate1(1,$L$52,$L$51,$L$54,L568,$L$53,$L$50,P568),\"\")","v":""},null,null,null,null,null,null,null,{"$f":"IF(H568>0, rate1(1,$L$52,$L$51,$L$54,U568,$L$53,$L$50,Y568),\"\")","v":""},"","","","","","","","","","","",""]
[null,"","","",null,"","",null,"","","","","","","",null,null,{"$f":"IF(H569>0, rate1(1,$L$52,$L$51,$L$54,L569,$L$53,$L$50,P569),\"\")","v":""},null,null,null,null,null,null,null,{"$f":"IF(H569>0, rate1(1,$L$52,$L$51,$L$54,U569,$L$53,$L$50,Y569),\"\")","v":""},"","","","","","","","","","","",""]
[null,"","","",null,"","",null,"","","","","","","",null,null,{"$f":"IF(H570>0, rate1(1,$L$52,$L$51,$L$54,L570,$L$53,$L$50,P570),\"\")","v":""},null,null,null,null,null,null,null,{"$f":"IF(H570>0, rate1(1,$L$52,$L$51,$L$54,U570,$L$53,$L$50,Y570),\"\")","v":""},"","","","","","","","","","","",""]
[null,"","","",null,"","",null,"","","","","","","",null,null,{"$f":"IF(H571>0, rate1(1,$L$52,$L$51,$L$54,L571,$L$53,$L$50,P571),\"\")","v":""},null,null,null,null,null,null,null,{"$f":"IF(H571>0, rate1(1,$L$52,$L$51,$L$54,U571,$L$53,$L$50,Y571),\"\")","v":""},"","","","","","","","","","","",""]
[null,"","","",null,"","",null,"","","","","","","",null,null,{"$f":"IF(H572>0, rate1(1,$L$52,$L$51,$L$54,L572,$L$53,$L$50,P572),\"\")","v":""},null,null,null,null,null,null,null,{"$f":"IF(H572>0, rate1(1,$L$52,$L$51,$L$54,U572,$L$53,$L$50,Y572),\"\")","v":""},"","","","","","","","","","","",""]
[null,"","","",null,"","",null,"","","","","","","",null,null,{"$f":"IF(H573>0, rate1(1,$L$52,$L$51,$L$54,L573,$L$53,$L$50,P573),\"\")","v":""},null,null,null,null,null,null,null,{"$f":"IF(H573>0, rate1(1,$L$52,$L$51,$L$54,U573,$L$53,$L$50,Y573),\"\")","v":""},"","","","","","","","","","","",""]
[null,"","","",null,"","",null,"","","","","","","",null,null,{"$f":"IF(H574>0, rate1(1,$L$52,$L$51,$L$54,L574,$L$53,$L$50,P574),\"\")","v":""},null,null,null,null,null,null,null,{"$f":"IF(H574>0, rate1(1,$L$52,$L$51,$L$54,U574,$L$53,$L$50,Y574),\"\")","v":""},"","","","","","","","","","","",""]
[null,"","","",null,"","",null,"","","","","","","",null,null,{"$f":"IF(H575>0, rate1(1,$L$52,$L$51,$L$54,L575,$L$53,$L$50,P575),\"\")","v":""},null,null,null,null,null,null,null,{"$f":"IF(H575>0, rate1(1,$L$52,$L$51,$L$54,U575,$L$53,$L$50,Y575),\"\")","v":""},"","","","","","","","","","","",""]
[null,{"$f":"IF(H576>0, AF575,\"\")","v":""},{"$f":"IF(H576>0, AG575,\"\")","v":""},{"$f":"IF(H576>0, AH575,\"\")","v":""},null,{"$f":"IF(H576>0, (E576+E575)/2,\"\")","v":""},{"$f":"IF(H576>0, F576*$S$53*$C$55*(B576-C576+N576)^1.5,\"\")","v":""},null,{"$f":"IF(H576>0, (B576-C576)*B$19,\"\")","v":""},{"$f":"IF(H576>0, $B$7,\"\")","v":""},{"$f":"IF(H576>0, IF((1-S575-0.015)>0,1,-1),\"\")","v":""},{"$f":"IF(H576>0, D576+K576*H576,\"\")","v":""},{"$f":"IF(H576>0, (D576+L576)/2,\"\")","v":""},{"$f":"IF(H576>0, 2*($P$53*M576/$S$52/$S$51)^2-(B576-C576)*2,\"\")","v":""},{"$f":"IF(H576>0, wh(B576,$F$51,$F$52,$F$53),\"\")","v":""},null,null,{"$f":"IF(H576>0, rate1(1,$L$52,$L$51,$L$54,L576,$L$53,$L$50,P576),\"\")","v":""},null,null,null,null,null,null,null,{"$f":"IF(H576>0, rate1(1,$L$52,$L$51,$L$54,U576,$L$53,$L$50,Y576),\"\")","v":""},{"$f":"IF(H576>0, X576/O576/Z576,\"\")","v":""},{"$f":"IF(H576>0, W576/(1-AA576),\"\")","v":""},{"$f":"IF(H576>0, delta_z(N576,S576,H576,AE575,AB576),\"\")","v":""},{"$f":"IF(H576>0, H576/AC576*K576,\"\")","v":""},{"$f":"IF(H576>0, (AD576-AD575)/(AC576+AC575)*2,\"\")","v":""},{"$f":"IF(H576>0, B576-(AC576-N576),\"\")","v":""},{"$f":"IF(H576>0, C576-AC576,\"\")","v":""},{"$f":"IF(H576>0, $S$54*$S$53*$C$55*SQRT(AF576-AG576),\"\")","v":""},{"$f":"IF(H576>0, AC576/R576*1000000,\"\")","v":""},{"$f":"IF(H576>0, AJ575+AI576/3600,\"\")","v":""},{"$f":"IF(H576>0, AK575+AI575*G575/1000000,\"\")","v":""},{"$f":"IF(H576>0, AL575+AI575*J575/1000000,\"\")","v":""}]
[null,"","","",null,"","",null,"","","","","","","",null,null,{"$f":"IF(H577>0, rate1(1,$L$52,$L$51,$L$54,L577,$L$53,$L$50,P577),\"\")","v":""},null,null,null,null,null,null,null,{"$f":"IF(H577>0, rate1(1,$L$52,$L$51,$L$54,U577,$L$53,$L$50,Y577),\"\")","v":""},"","","","","","","","","","","",""]
[null,"","","",null,"","",null,"","","","","","","",null,null,{"$f":"IF(H578>0, rate1(1,$L$52,$L$51,$L$54,L578,$L$53,$L$50,P578),\"\")","v":""},null,null,null,null,null,null,null,{"$f":"IF(H578>0, rate1(1,$L$52,$L$51,$L$54,U578,$L$53,$L$50,Y578),\"\")","v":""},"","","","","","","","","","","",""]
[null,"","","",null,"","",null,"","","","","","","",null,null,{"$f":"IF(H579>0, rate1(1,$L$52,$L$51,$L$54,L579,$L$53,$L$50,P579),\"\")","v":""},null,null,null,null,null,null,null,{"$f":"IF(H579>0, rate1(1,$L$52,$L$51,$L$54,U579,$L$53,$L$50,Y579),\"\")","v":""},"","","","","","","","","","","",""]
[null,"","","",null,"","",null,"","","","","","","",null,null,{"$f":"IF(H580>0, rate1(1,$L$52,$L$51,$L$54,L580,$L$53,$L$50,P580),\"\")","v":""},null,null,null,null,null,null,null,{"$f":"IF(H580>0, rate1(1,$L$52,$L$51,$L$54,U580,$L$53,$L$50,Y580),\"\")","v":""},"","","","","","","","","","","",""]
[null,"","","",null,"","",null,"","","","","","","",null,null,{"$f":"IF(H581>0, rate1(1,$L$52,$L$51,$L$54,L581,$L$53,$L$50,P581),\"\")","v":""},null,null,null,null,null,null,null,{"$f":"IF(H581>0, rate1(1,$L$52,$L$51,$L$54,U581,$L$53,$L$50,Y581),\"\")","v":""},"","","","","","","","","","","",""]
[null,"","","",null,"","",null,"","","","","","","",null,null,{"$f":"IF(H582>0, rate1(1,$L$52,$L$51,$L$54,L582,$L$53,$L$50,P582),\"\")","v":""},null,null,null,null,null,null,null,{"$f":"IF(H582>0, rate1(1,$L$52,$L$51,$L$54,U582,$L$53,$L$50,Y582),\"\")","v":""},"","","","","","","","","","","",""]
[null,"","","",null,"","",null,"","","","","","","",null,null,{"$f":"IF(H583>0, rate1(1,$L$52,$L$51,$L$54,L583,$L$53,$L$50,P583),\"\")","v":""},null,null,null,null,null,null,null,{"$f":"IF(H583>0, rate1(1,$L$52,$L$51,$L$54,U583,$L$53,$L$50,Y583),\"\")","v":""},"","","","","","","","","","","",""]
[null,"","","",null,"","",null,"","","","","","","",null,null,{"$f":"IF(H584>0, rate1(1,$L$52,$L$51,$L$54,L584,$L$53,$L$50,P584),\"\")","v":""},null,null,null,null,null,null,null,{"$f":"IF(H584>0, rate1(1,$L$52,$L$51,$L$54,U584,$L$53,$L$50,Y584),\"\")","v":""},"","","","","","","","","","","",""]
[null,"","","",null,"","",null,"","","","","","","",null,null,{"$f":"IF(H585>0, rate1(1,$L$52,$L$51,$L$54,L585,$L$53,$L$50,P585),\"\")","v":""},null,null,null,null,null,null,null,{"$f":"IF(H585>0, rate1(1,$L$52,$L$51,$L$54,U585,$L$53,$L$50,Y585),\"\")","v":""},"","","","","","","","","","","",""]
[null,"","","",null,"","",null,"","","","","","","",null,null,{"$f":"IF(H586>0, rate1(1,$L$52,$L$51,$L$54,L586,$L$53,$L$50,P586),\"\")","v":""},null,null,null,null,null,null,null,{"$f":"IF(H586>0, rate1(1,$L$52,$L$51,$L$54,U586,$L$53,$L$50,Y586),\"\")","v":""},"","","","","","","","","","","",""]
[null,"","","",null,"","",null,"","","","","","","",null,null,{"$f":"IF(H587>0, rate1(1,$L$52,$L$51,$L$54,L587,$L$53,$L$50,P587),\"\")","v":""},null,null,null,null,null,null,null,{"$f":"IF(H587>0, rate1(1,$L$52,$L$51,$L$54,U587,$L$53,$L$50,Y587),\"\")","v":""},"","","","","","","","","","","",""]
[null,"","","",null,"","",null,"","","","","","","",null,null,{"$f":"IF(H588>0, rate1(1,$L$52,$L$51,$L$54,L588,$L$53,$L$50,P588),\"\")","v":""},null,null,null,null,null,null,null,{"$f":"IF(H588>0, rate1(1,$L$52,$L$51,$L$54,U588,$L$53,$L$50,Y588),\"\")","v":""},"","","","","","","","","","","",""]
[null,"","","",null,"","",null,"","","","","","","",null,null,{"$f":"IF(H589>0, rate1(1,$L$52,$L$51,$L$54,L589,$L$53,$L$50,P589),\"\")","v":""},null,null,null,null,null,null,null,{"$f":"IF(H589>0, rate1(1,$L$52,$L$51,$L$54,U589,$L$53,$L$50,Y589),\"\")","v":""},"","","","","","","","","","","",""]
[null,"","","",null,"","",null,"","","","","","","",null,null,{"$f":"IF(H590>0, rate1(1,$L$52,$L$51,$L$54,L590,$L$53,$L$50,P590),\"\")","v":""},null,null,null,null,null,null,null,{"$f":"IF(H590>0, rate1(1,$L$52,$L$51,$L$54,U590,$L$53,$L$50,Y590),\"\")","v":""},"","","","","","","","","","","",""]
[null,"","","",null,"","",null,"","","","","","","",null,null,{"$f":"IF(H591>0, rate1(1,$L$52,$L$51,$L$54,L591,$L$53,$L$50,P591),\"\")","v":""},null,null,null,null,null,null,null,{"$f":"IF(H591>0, rate1(1,$L$52,$L$51,$L$54,U591,$L$53,$L$50,Y591),\"\")","v":""},"","","","","","","","","","","",""]
[null,"","","",null,"","",null,"","","","","","","",null,null,{"$f":"IF(H592>0, rate1(1,$L$52,$L$51,$L$54,L592,$L$53,$L$50,P592),\"\")","v":""},null,null,null,null,null,null,null,{"$f":"IF(H592>0, rate1(1,$L$52,$L$51,$L$54,U592,$L$53,$L$50,Y592),\"\")","v":""},"","","","","","","","","","","",""]
[null,"","","",null,"","",null,"","","","","","","",null,null,{"$f":"IF(H593>0, rate1(1,$L$52,$L$51,$L$54,L593,$L$53,$L$50,P593),\"\")","v":""},null,null,null,null,null,null,null,{"$f":"IF(H593>0, rate1(1,$L$52,$L$51,$L$54,U593,$L$53,$L$50,Y593),\"\")","v":""},"","","","","","","","","","","",""]
[null,"","","",null,"","",null,"","","","","","","",null,null,{"$f":"IF(H594>0, rate1(1,$L$52,$L$51,$L$54,L594,$L$53,$L$50,P594),\"\")","v":""},null,null,null,null,null,null,null,{"$f":"IF(H594>0, rate1(1,$L$52,$L$51,$L$54,U594,$L$53,$L$50,Y594),\"\")","v":""},"","","","","","","","","","","",""]
[null,"","","",null,"","",null,"","","","","","","",null,null,{"$f":"IF(H595>0, rate1(1,$L$52,$L$51,$L$54,L595,$L$53,$L$50,P595),\"\")","v":""},null,null,null,null,null,null,null,{"$f":"IF(H595>0, rate1(1,$L$52,$L$51,$L$54,U595,$L$53,$L$50,Y595),\"\")","v":""},"","","","","","","","","","","",""]
[null,"","","",null,"","",null,"","","","","","","",null,null,{"$f":"IF(H596>0, rate1(1,$L$52,$L$51,$L$54,L596,$L$53,$L$50,P596),\"\")","v":""},null,null,null,null,null,null,null,{"$f":"IF(H596>0, rate1(1,$L$52,$L$51,$L$54,U596,$L$53,$L$50,Y596),\"\")","v":""},"","","","","","","","","","","",""]
[null,"","","",null,"","",null,"","","","","","","",null,null,{"$f":"IF(H597>0, rate1(1,$L$52,$L$51,$L$54,L597,$L$53,$L$50,P597),\"\")","v":""},null,null,null,null,null,null,null,{"$f":"IF(H597>0, rate1(1,$L$52,$L$51,$L$54,U597,$L$53,$L$50,Y597),\"\")","v":""},"","","","","","","","","","","",""]
[null,"","","",null,"","",null,"","","","","","","",null,null,{"$f":"IF(H598>0, rate1(1,$L$52,$L$51,$L$54,L598,$L$53,$L$50,P598),\"\")","v":""},null,null,null,null,null,null,null,{"$f":"IF(H598>0, rate1(1,$L$52,$L$51,$L$54,U598,$L$53,$L$50,Y598),\"\")","v":""},"","","","","","","","","","","",""]
[null,"","","",null,"","",null,"","","","","","","",null,null,{"$f":"IF(H599>0, rate1(1,$L$52,$L$51,$L$54,L599,$L$53,$L$50,P599),\"\")","v":""},null,null,null,null,null,null,null,{"$f":"IF(H599>0, rate1(1,$L$52,$L$51,$L$54,U599,$L$53,$L$50,Y599),\"\")","v":""},"","","","","","","","","","","",""]
[null,"","","",null,"","",null,"","","","","","","",null,null,{"$f":"IF(H600>0, rate1(1,$L$52,$L$51,$L$54,L600,$L$53,$L$50,P600),\"\")","v":""},null,null,null,null,null,null,null,{"$f":"IF(H600>0, rate1(1,$L$52,$L$51,$L$54,U600,$L$53,$L$50,Y600),\"\")","v":""},"","","","","","","","","","","",""]
[null,"","","",null,"","",null,"","","","","","","",null,null,{"$f":"IF(H601>0, rate1(1,$L$52,$L$51,$L$54,L601,$L$53,$L$50,P601),\"\")","v":""},null,null,null,null,null,null,null,{"$f":"IF(H601>0, rate1(1,$L$52,$L$51,$L$54,U601,$L$53,$L$50,Y601),\"\")","v":""},"","","","","","","","","","","",""]
[null,"","","",null,"","",null,"","","","","","","",null,null,{"$f":"IF(H602>0, rate1(1,$L$52,$L$51,$L$54,L602,$L$53,$L$50,P602),\"\")","v":""},null,null,null,null,null,null,null,{"$f":"IF(H602>0, rate1(1,$L$52,$L$51,$L$54,U602,$L$53,$L$50,Y602),\"\")","v":""},"","","","","","","","","","","",""]
[null,"","","",null,"","",null,"","","","","","","",null,null,{"$f":"IF(H603>0, rate1(1,$L$52,$L$51,$L$54,L603,$L$53,$L$50,P603),\"\")","v":""},null,null,null,null,null,null,null,{"$f":"IF(H603>0, rate1(1,$L$52,$L$51,$L$54,U603,$L$53,$L$50,Y603),\"\")","v":""},"","","","","","","","","","","",""]
[null,"","","",null,"","",null,"","","","","","","",null,null,{"$f":"IF(H604>0, rate1(1,$L$52,$L$51,$L$54,L604,$L$53,$L$50,P604),\"\")","v":""},null,null,null,null,null,null,null,{"$f":"IF(H604>0, rate1(1,$L$52,$L$51,$L$54,U604,$L$53,$L$50,Y604),\"\")","v":""},"","","","","","","","","","","",""]
[null,"","","",null,"","",null,"","","","","","","",null,null,{"$f":"IF(H605>0, rate1(1,$L$52,$L$51,$L$54,L605,$L$53,$L$50,P605),\"\")","v":""},null,null,null,null,null,null,null,{"$f":"IF(H605>0, rate1(1,$L$52,$L$51,$L$54,U605,$L$53,$L$50,Y605),\"\")","v":""},"","","","","","","","","","","",""]
[null,"","","",null,"","",null,"","","","","","","",null,null,{"$f":"IF(H606>0, rate1(1,$L$52,$L$51,$L$54,L606,$L$53,$L$50,P606),\"\")","v":""},null,null,null,null,null,null,null,{"$f":"IF(H606>0, rate1(1,$L$52,$L$51,$L$54,U606,$L$53,$L$50,Y606),\"\")","v":""},"","","","","","","","","","","",""]
[null,"","","",null,"","",null,"","","","","","","",null,null,{"$f":"IF(H607>0, rate1(1,$L$52,$L$51,$L$54,L607,$L$53,$L$50,P607),\"\")","v":""},null,null,null,null,null,null,null,{"$f":"IF(H607>0, rate1(1,$L$52,$L$51,$L$54,U607,$L$53,$L$50,Y607),\"\")","v":""},"","","","","","","","","","","",""]
[null,"","","",null,"","",null,"","","","","","","",null,null,{"$f":"IF(H608>0, rate1(1,$L$52,$L$51,$L$54,L608,$L$53,$L$50,P608),\"\")","v":""},null,null,null,null,null,null,null,{"$f":"IF(H608>0, rate1(1,$L$52,$L$51,$L$54,U608,$L$53,$L$50,Y608),\"\")","v":""},"","","","","","","","","","","",""]
[null,"","","",null,"","",null,"","","","","","","",null,null,{"$f":"IF(H609>0, rate1(1,$L$52,$L$51,$L$54,L609,$L$53,$L$50,P609),\"\")","v":""},null,null,null,null,null,null,null,{"$f":"IF(H609>0, rate1(1,$L$52,$L$51,$L$54,U609,$L$53,$L$50,Y609),\"\")","v":""},"","","","","","","","","","","",""]
[null,"","","",null,"","",null,"","","","","","","",null,null,{"$f":"IF(H610>0, rate1(1,$L$52,$L$51,$L$54,L610,$L$53,$L$50,P610),\"\")","v":""},null,null,null,null,null,null,null,{"$f":"IF(H610>0, rate1(1,$L$52,$L$51,$L$54,U610,$L$53,$L$50,Y610),\"\")","v":""},"","","","","","","","","","","",""]
[null,"","","",null,"","",null,"","","","","","","",null,null,{"$f":"IF(H611>0, rate1(1,$L$52,$L$51,$L$54,L611,$L$53,$L$50,P611),\"\")","v":""},null,null,null,null,null,null,null,{"$f":"IF(H611>0, rate1(1,$L$52,$L$51,$L$54,U611,$L$53,$L$50,Y611),\"\")","v":""},"","","","","","","","","","","",""]
[null,"","","",null,"","",null,"","","","","","","",null,null,{"$f":"IF(H612>0, rate1(1,$L$52,$L$51,$L$54,L612,$L$53,$L$50,P612),\"\")","v":""},null,null,null,null,null,null,null,{"$f":"IF(H612>0, rate1(1,$L$52,$L$51,$L$54,U612,$L$53,$L$50,Y612),\"\")","v":""},"","","","","","","","","","","",""]
[null,"","","",null,"","",null,"","","","","","","",null,null,{"$f":"IF(H613>0, rate1(1,$L$52,$L$51,$L$54,L613,$L$53,$L$50,P613),\"\")","v":""},null,null,null,null,null,null,null,{"$f":"IF(H613>0, rate1(1,$L$52,$L$51,$L$54,U613,$L$53,$L$50,Y613),\"\")","v":""},"","","","","","","","","","","",""]
[null,"","","",null,"","",null,"","","","","","","",null,null,{"$f":"IF(H614>0, rate1(1,$L$52,$L$51,$L$54,L614,$L$53,$L$50,P614),\"\")","v":""},null,null,null,null,null,null,null,{"$f":"IF(H614>0, rate1(1,$L$52,$L$51,$L$54,U614,$L$53,$L$50,Y614),\"\")","v":""},"","","","","","","","","","","",""]
[null,"","","",null,"","",null,"","","","","","","",null,null,{"$f":"IF(H615>0, rate1(1,$L$52,$L$51,$L$54,L615,$L$53,$L$50,P615),\"\")","v":""},null,null,null,null,null,null,null,{"$f":"IF(H615>0, rate1(1,$L$52,$L$51,$L$54,U615,$L$53,$L$50,Y615),\"\")","v":""},"","","","","","","","","","","",""]
[null,"","","",null,"","",null,"","","","","","","",null,null,{"$f":"IF(H616>0, rate1(1,$L$52,$L$51,$L$54,L616,$L$53,$L$50,P616),\"\")","v":""},null,null,null,null,null,null,null,{"$f":"IF(H616>0, rate1(1,$L$52,$L$51,$L$54,U616,$L$53,$L$50,Y616),\"\")","v":""},"","","","","","","","","","","",""]
[null,"","","",null,"","",null,"","","","","","","",null,null,{"$f":"IF(H617>0, rate1(1,$L$52,$L$51,$L$54,L617,$L$53,$L$50,P617),\"\")","v":""},null,null,null,null,null,null,null,{"$f":"IF(H617>0, rate1(1,$L$52,$L$51,$L$54,U617,$L$53,$L$50,Y617),\"\")","v":""},"","","","","","","","","","","",""]
[null,"","","",null,"","",null,"","","","","","","",null,null,{"$f":"IF(H618>0, rate1(1,$L$52,$L$51,$L$54,L618,$L$53,$L$50,P618),\"\")","v":""},null,null,null,null,null,null,null,{"$f":"IF(H618>0, rate1(1,$L$52,$L$51,$L$54,U618,$L$53,$L$50,Y618),\"\")","v":""},"","","","","","","","","","","",""]
[null,"","","",null,"","",null,"","","","","","","",null,null,{"$f":"IF(H619>0, rate1(1,$L$52,$L$51,$L$54,L619,$L$53,$L$50,P619),\"\")","v":""},null,null,null,null,null,null,null,{"$f":"IF(H619>0, rate1(1,$L$52,$L$51,$L$54,U619,$L$53,$L$50,Y619),\"\")","v":""},"","","","","","","","","","","",""]
[null,"","","",null,"","",null,"","","","","","","",null,null,{"$f":"IF(H620>0, rate1(1,$L$52,$L$51,$L$54,L620,$L$53,$L$50,P620),\"\")","v":""},null,null,null,null,null,null,null,{"$f":"IF(H620>0, rate1(1,$L$52,$L$51,$L$54,U620,$L$53,$L$50,Y620),\"\")","v":""},"","","","","","","","","","","",""]
[null,"","","",null,"","",null,"","","","","","","",null,null,{"$f":"IF(H621>0, rate1(1,$L$52,$L$51,$L$54,L621,$L$53,$L$50,P621),\"\")","v":""},null,null,null,null,null,null,null,{"$f":"IF(H621>0, rate1(1,$L$52,$L$51,$L$54,U621,$L$53,$L$50,Y621),\"\")","v":""},"","","","","","","","","","","",""]
[null,"","","",null,"","",null,"","","","","","","",null,null,{"$f":"IF(H622>0, rate1(1,$L$52,$L$51,$L$54,L622,$L$53,$L$50,P622),\"\")","v":""},null,null,null,null,null,null,null,{"$f":"IF(H622>0, rate1(1,$L$52,$L$51,$L$54,U622,$L$53,$L$50,Y622),\"\")","v":""},"","","","","","","","","","","",""]
[null,"","","",null,"","",null,"","","","","","","",null,null,{"$f":"IF(H623>0, rate1(1,$L$52,$L$51,$L$54,L623,$L$53,$L$50,P623),\"\")","v":""},null,null,null,null,null,null,null,{"$f":"IF(H623>0, rate1(1,$L$52,$L$51,$L$54,U623,$L$53,$L$50,Y623),\"\")","v":""},"","","","","","","","","","","",""]
[null,"","","",null,"","",null,"","","","","","","",null,null,{"$f":"IF(H624>0, rate1(1,$L$52,$L$51,$L$54,L624,$L$53,$L$50,P624),\"\")","v":""},null,null,null,null,null,null,null,{"$f":"IF(H624>0, rate1(1,$L$52,$L$51,$L$54,U624,$L$53,$L$50,Y624),\"\")","v":""},"","","","","","","","","","","",""]
[null,"","","",null,"","",null,"","","","","","","",null,null,{"$f":"IF(H625>0, rate1(1,$L$52,$L$51,$L$54,L625,$L$53,$L$50,P625),\"\")","v":""},null,null,null,null,null,null,null,{"$f":"IF(H625>0, rate1(1,$L$52,$L$51,$L$54,U625,$L$53,$L$50,Y625),\"\")","v":""},"","","","","","","","","","","",""]
[null,"","","",null,"","",null,"","","","","","","",null,null,{"$f":"IF(H626>0, rate1(1,$L$52,$L$51,$L$54,L626,$L$53,$L$50,P626),\"\")","v":""},null,null,null,null,null,null,null,{"$f":"IF(H626>0, rate1(1,$L$52,$L$51,$L$54,U626,$L$53,$L$50,Y626),\"\")","v":""},"","","","","","","","","","","",""]
[null,"","","",null,"","",null,"","","","","","","",null,null,{"$f":"IF(H627>0, rate1(1,$L$52,$L$51,$L$54,L627,$L$53,$L$50,P627),\"\")","v":""},null,null,null,null,null,null,null,{"$f":"IF(H627>0, rate1(1,$L$52,$L$51,$L$54,U627,$L$53,$L$50,Y627),\"\")","v":""},"","","","","","","","","","","",""]
[null,"","","",null,"","",null,"","","","","","","",null,null,{"$f":"IF(H628>0, rate1(1,$L$52,$L$51,$L$54,L628,$L$53,$L$50,P628),\"\")","v":""},null,null,null,null,null,null,null,{"$f":"IF(H628>0, rate1(1,$L$52,$L$51,$L$54,U628,$L$53,$L$50,Y628),\"\")","v":""},"","","","","","","","","","","",""]
[null,"","","",null,"","",null,"","","","","","","",null,null,{"$f":"IF(H629>0, rate1(1,$L$52,$L$51,$L$54,L629,$L$53,$L$50,P629),\"\")","v":""},null,null,null,null,null,null,null,{"$f":"IF(H629>0, rate1(1,$L$52,$L$51,$L$54,U629,$L$53,$L$50,Y629),\"\")","v":""},"","","","","","","","","","","",""]
[null,"","","",null,"","",null,"","","","","","","",null,null,{"$f":"IF(H630>0, rate1(1,$L$52,$L$51,$L$54,L630,$L$53,$L$50,P630),\"\")","v":""},null,null,null,null,null,null,null,{"$f":"IF(H630>0, rate1(1,$L$52,$L$51,$L$54,U630,$L$53,$L$50,Y630),\"\")","v":""},"","","","","","","","","","","",""]
[null,"","","",null,"","",null,"","","","","","","",null,null,{"$f":"IF(H631>0, rate1(1,$L$52,$L$51,$L$54,L631,$L$53,$L$50,P631),\"\")","v":""},null,null,null,null,null,null,null,{"$f":"IF(H631>0, rate1(1,$L$52,$L$51,$L$54,U631,$L$53,$L$50,Y631),\"\")","v":""},"","","","","","","","","","","",""]
[null,"","","",null,"","",null,"","","","","","","",null,null,{"$f":"IF(H632>0, rate1(1,$L$52,$L$51,$L$54,L632,$L$53,$L$50,P632),\"\")","v":""},null,null,null,null,null,null,null,{"$f":"IF(H632>0, rate1(1,$L$52,$L$51,$L$54,U632,$L$53,$L$50,Y632),\"\")","v":""},"","","","","","","","","","","",""]
[null,"","","",null,"","",null,"","","","","","","",null,null,{"$f":"IF(H633>0, rate1(1,$L$52,$L$51,$L$54,L633,$L$53,$L$50,P633),\"\")","v":""},null,null,null,null,null,null,null,{"$f":"IF(H633>0, rate1(1,$L$52,$L$51,$L$54,U633,$L$53,$L$50,Y633),\"\")","v":""},"","","","","","","","","","","",""]
[null,"","","",null,"","",null,"","","","","","","",null,null,{"$f":"IF(H634>0, rate1(1,$L$52,$L$51,$L$54,L634,$L$53,$L$50,P634),\"\")","v":""},null,null,null,null,null,null,null,{"$f":"IF(H634>0, rate1(1,$L$52,$L$51,$L$54,U634,$L$53,$L$50,Y634),\"\")","v":""},"","","","","","","","","","","",""]
[null,"","","",null,"","",null,"","","","","","","",null,null,{"$f":"IF(H635>0, rate1(1,$L$52,$L$51,$L$54,L635,$L$53,$L$50,P635),\"\")","v":""},null,null,null,null,null,null,null,{"$f":"IF(H635>0, rate1(1,$L$52,$L$51,$L$54,U635,$L$53,$L$50,Y635),\"\")","v":""},"","","","","","","","","","","",""]
[null,"","","",null,"","",null,"","","","","","","",null,null,{"$f":"IF(H636>0, rate1(1,$L$52,$L$51,$L$54,L636,$L$53,$L$50,P636),\"\")","v":""},null,null,null,null,null,null,null,{"$f":"IF(H636>0, rate1(1,$L$52,$L$51,$L$54,U636,$L$53,$L$50,Y636),\"\")","v":""},"","","","","","","","","","","",""]
[null,"","","",null,"","",null,"","","","","","","",null,null,{"$f":"IF(H637>0, rate1(1,$L$52,$L$51,$L$54,L637,$L$53,$L$50,P637),\"\")","v":""},null,null,null,null,null,null,null,{"$f":"IF(H637>0, rate1(1,$L$52,$L$51,$L$54,U637,$L$53,$L$50,Y637),\"\")","v":""},"","","","","","","","","","","",""]
[null,"","","",null,"","",null,"","","","","","","",null,null,{"$f":"IF(H638>0, rate1(1,$L$52,$L$51,$L$54,L638,$L$53,$L$50,P638),\"\")","v":""},null,null,null,null,null,null,null,{"$f":"IF(H638>0, rate1(1,$L$52,$L$51,$L$54,U638,$L$53,$L$50,Y638),\"\")","v":""},"","","","","","","","","","","",""]
[null,"","","",null,"","",null,"","","","","","","",null,null,{"$f":"IF(H639>0, rate1(1,$L$52,$L$51,$L$54,L639,$L$53,$L$50,P639),\"\")","v":""},null,null,null,null,null,null,null,{"$f":"IF(H639>0, rate1(1,$L$52,$L$51,$L$54,U639,$L$53,$L$50,Y639),\"\")","v":""},"","","","","","","","","","","",""]
[null,{"$f":"IF(H640>0, AF639,\"\")","v":""},{"$f":"IF(H640>0, AG639,\"\")","v":""},{"$f":"IF(H640>0, AH639,\"\")","v":""},null,{"$f":"IF(H640>0, (E640+E639)/2,\"\")","v":""},{"$f":"IF(H640>0, F640*$S$53*$C$55*(B640-C640+N640)^1.5,\"\")","v":""},null,{"$f":"IF(H640>0, (B640-C640)*B$19,\"\")","v":""},{"$f":"IF(H640>0, $B$7,\"\")","v":""},{"$f":"IF(H640>0, IF((1-S639-0.015)>0,1,-1),\"\")","v":""},{"$f":"IF(H640>0, D640+K640*H640,\"\")","v":""},{"$f":"IF(H640>0, (D640+L640)/2,\"\")","v":""},{"$f":"IF(H640>0, 2*($P$53*M640/$S$52/$S$51)^2-(B640-C640)*2,\"\")","v":""},{"$f":"IF(H640>0, wh(B640,$F$51,$F$52,$F$53),\"\")","v":""},null,null,{"$f":"IF(H640>0, rate1(1,$L$52,$L$51,$L$54,L640,$L$53,$L$50,P640),\"\")","v":""},null,null,null,null,null,null,null,{"$f":"IF(H640>0, rate1(1,$L$52,$L$51,$L$54,U640,$L$53,$L$50,Y640),\"\")","v":""},{"$f":"IF(H640>0, X640/O640/Z640,\"\")","v":""},{"$f":"IF(H640>0, W640/(1-AA640),\"\")","v":""},{"$f":"IF(H640>0, delta_z(N640,S640,H640,AE639,AB640),\"\")","v":""},{"$f":"IF(H640>0, H640/AC640*K640,\"\")","v":""},{"$f":"IF(H640>0, (AD640-AD639)/(AC640+AC639)*2,\"\")","v":""},{"$f":"IF(H640>0, B640-(AC640-N640),\"\")","v":""},{"$f":"IF(H640>0, C640-AC640,\"\")","v":""},{"$f":"IF(H640>0, $S$54*$S$53*$C$55*SQRT(AF640-AG640),\"\")","v":""},{"$f":"IF(H640>0, AC640/R640*1000000,\"\")","v":""},{"$f":"IF(H640>0, AJ639+AI640/3600,\"\")","v":""},{"$f":"IF(H640>0, AK639+AI639*G639/1000000,\"\")","v":""},{"$f":"IF(H640>0, AL639+AI639*J639/1000000,\"\")","v":""}]
[null,"","","",null,"","",null,"","","","","","","",null,null,{"$f":"IF(H641>0, rate1(1,$L$52,$L$51,$L$54,L641,$L$53,$L$50,P641),\"\")","v":""},null,null,null,null,null,null,null,{"$f":"IF(H641>0, rate1(1,$L$52,$L$51,$L$54,U641,$L$53,$L$50,Y641),\"\")","v":""},"","","","","","","","","","","",""]
[null,"","","",null,"","",null,"","","","","","","",null,null,{"$f":"IF(H642>0, rate1(1,$L$52,$L$51,$L$54,L642,$L$53,$L$50,P642),\"\")","v":""},null,null,null,null,null,null,null,{"$f":"IF(H642>0, rate1(1,$L$52,$L$51,$L$54,U642,$L$53,$L$50,Y642),\"\")","v":""},"","","","","","","","","","","",""]
[null,"","","",null,"","",null,"","","","","","","",null,null,{"$f":"IF(H643>0, rate1(1,$L$52,$L$51,$L$54,L643,$L$53,$L$50,P643),\"\")","v":""},null,null,null,null,null,null,null,{"$f":"IF(H643>0, rate1(1,$L$52,$L$51,$L$54,U643,$L$53,$L$50,Y643),\"\")","v":""},"","","","","","","","","","","",""]
[null,"","","",null,"","",null,"","","","","","","",null,null,{"$f":"IF(H644>0, rate1(1,$L$52,$L$51,$L$54,L644,$L$53,$L$50,P644),\"\")","v":""},null,null,null,null,null,null,null,{"$f":"IF(H644>0, rate1(1,$L$52,$L$51,$L$54,U644,$L$53,$L$50,Y644),\"\")","v":""},"","","","","","","","","","","",""]
[null,"","","",null,"","",null,"","","","","","","",null,null,{"$f":"IF(H645>0, rate1(1,$L$52,$L$51,$L$54,L645,$L$53,$L$50,P645),\"\")","v":""},null,null,null,null,null,null,null,{"$f":"IF(H645>0, rate1(1,$L$52,$L$51,$L$54,U645,$L$53,$L$50,Y645),\"\")","v":""},"","","","","","","","","","","",""]
[null,"","","",null,"","",null,"","","","","","","",null,null,{"$f":"IF(H646>0, rate1(1,$L$52,$L$51,$L$54,L646,$L$53,$L$50,P646),\"\")","v":""},null,null,null,null,null,null,null,{"$f":"IF(H646>0, rate1(1,$L$52,$L$51,$L$54,U646,$L$53,$L$50,Y646),\"\")","v":""},"","","","","","","","","","","",""]
[null,"","","",null,"","",null,"","","","","","","",null,null,{"$f":"IF(H647>0, rate1(1,$L$52,$L$51,$L$54,L647,$L$53,$L$50,P647),\"\")","v":""},null,null,null,null,null,null,null,{"$f":"IF(H647>0, rate1(1,$L$52,$L$51,$L$54,U647,$L$53,$L$50,Y647),\"\")","v":""},"","","","","","","","","","","",""]
[null,"","","",null,"","",null,"","","","","","","",null,null,{"$f":"IF(H648>0, rate1(1,$L$52,$L$51,$L$54,L648,$L$53,$L$50,P648),\"\")","v":""},null,null,null,null,null,null,null,{"$f":"IF(H648>0, rate1(1,$L$52,$L$51,$L$54,U648,$L$53,$L$50,Y648),\"\")","v":""},"","","","","","","","","","","",""]
[null,"","","",null,"","",null,"","","","","","","",null,null,{"$f":"IF(H649>0, rate1(1,$L$52,$L$51,$L$54,L649,$L$53,$L$50,P649),\"\")","v":""},null,null,null,null,null,null,null,{"$f":"IF(H649>0, rate1(1,$L$52,$L$51,$L$54,U649,$L$53,$L$50,Y649),\"\")","v":""},"","","","","","","","","","","",""]
[null,"","","",null,"","",null,"","","","","","","",null,null,{"$f":"IF(H650>0, rate1(1,$L$52,$L$51,$L$54,L650,$L$53,$L$50,P650),\"\")","v":""},null,null,null,null,null,null,null,{"$f":"IF(H650>0, rate1(1,$L$52,$L$51,$L$54,U650,$L$53,$L$50,Y650),\"\")","v":""},"","","","","","","","","","","",""]
[null,"","","",null,"","",null,"","","","","","","",null,null,{"$f":"IF(H651>0, rate1(1,$L$52,$L$51,$L$54,L651,$L$53,$L$50,P651),\"\")","v":""},null,null,null,null,null,null,null,{"$f":"IF(H651>0, rate1(1,$L$52,$L$51,$L$54,U651,$L$53,$L$50,Y651),\"\")","v":""},"","","","","","","","","","","",""]
[null,"","","",null,"","",null,"","","","","","","",null,null,{"$f":"IF(H652>0, rate1(1,$L$52,$L$51,$L$54,L652,$L$53,$L$50,P652),\"\")","v":""},null,null,null,null,null,null,null,{"$f":"IF(H652>0, rate1(1,$L$52,$L$51,$L$54,U652,$L$53,$L$50,Y652),\"\")","v":""},"","","","","","","","","","","",""]
[null,"","","",null,"","",null,"","","","","","","",null,null,{"$f":"IF(H653>0, rate1(1,$L$52,$L$51,$L$54,L653,$L$53,$L$50,P653),\"\")","v":""},null,null,null,null,null,null,null,{"$f":"IF(H653>0, rate1(1,$L$52,$L$51,$L$54,U653,$L$53,$L$50,Y653),\"\")","v":""},"","","","","","","","","","","",""]
[null,"","","",null,"","",null,"","","","","","","",null,null,{"$f":"IF(H654>0, rate1(1,$L$52,$L$51,$L$54,L654,$L$53,$L$50,P654),\"\")","v":""},null,null,null,null,null,null,null,{"$f":"IF(H654>0, rate1(1,$L$52,$L$51,$L$54,U654,$L$53,$L$50,Y654),\"\")","v":""},"","","","","","","","","","","",""]
[null,"","","",null,"","",null,"","","","","","","",null,null,{"$f":"IF(H655>0, rate1(1,$L$52,$L$51,$L$54,L655,$L$53,$L$50,P655),\"\")","v":""},null,null,null,null,null,null,null,{"$f":"IF(H655>0, rate1(1,$L$52,$L$51,$L$54,U655,$L$53,$L$50,Y655),\"\")","v":""},"","","","","","","","","","","",""]
[null,"","","",null,"","",null,"","","","","","","",null,null,{"$f":"IF(H656>0, rate1(1,$L$52,$L$51,$L$54,L656,$L$53,$L$50,P656),\"\")","v":""},null,null,null,null,null,null,null,{"$f":"IF(H656>0, rate1(1,$L$52,$L$51,$L$54,U656,$L$53,$L$50,Y656),\"\")","v":""},"","","","","","","","","","","",""]
[null,"","","",null,"","",null,"","","","","","","",null,null,{"$f":"IF(H657>0, rate1(1,$L$52,$L$51,$L$54,L657,$L$53,$L$50,P657),\"\")","v":""},null,null,null,null,null,null,null,{"$f":"IF(H657>0, rate1(1,$L$52,$L$51,$L$54,U657,$L$53,$L$50,Y657),\"\")","v":""},"","","","","","","","","","","",""]
[null,"","","",null,"","",null,"","","","","","","",null,null,{"$f":"IF(H658>0, rate1(1,$L$52,$L$51,$L$54,L658,$L$53,$L$50,P658),\"\")","v":""},null,null,null,null,null,null,null,{"$f":"IF(H658>0, rate1(1,$L$52,$L$51,$L$54,U658,$L$53,$L$50,Y658),\"\")","v":""},"","","","","","","","","","","",""]
[null,"","","",null,"","",null,"","","","","","","",null,null,{"$f":"IF(H659>0, rate1(1,$L$52,$L$51,$L$54,L659,$L$53,$L$50,P659),\"\")","v":""},null,null,null,null,null,null,null,{"$f":"IF(H659>0, rate1(1,$L$52,$L$51,$L$54,U659,$L$53,$L$50,Y659),\"\")","v":""},"","","","","","","","","","","",""]
[null,"","","",null,"","",null,"","","","","","","",null,null,{"$f":"IF(H660>0, rate1(1,$L$52,$L$51,$L$54,L660,$L$53,$L$50,P660),\"\")","v":""},null,null,null,null,null,null,null,{"$f":"IF(H660>0, rate1(1,$L$52,$L$51,$L$54,U660,$L$53,$L$50,Y660),\"\")","v":""},"","","","","","","","","","","",""]
[null,"","","",null,"","",null,"","","","","","","",null,null,{"$f":"IF(H661>0, rate1(1,$L$52,$L$51,$L$54,L661,$L$53,$L$50,P661),\"\")","v":""},null,null,null,null,null,null,null,{"$f":"IF(H661>0, rate1(1,$L$52,$L$51,$L$54,U661,$L$53,$L$50,Y661),\"\")","v":""},"","","","","","","","","","","",""]
[null,"","","",null,"","",null,"","","","","","","",null,null,{"$f":"IF(H662>0, rate1(1,$L$52,$L$51,$L$54,L662,$L$53,$L$50,P662),\"\")","v":""},null,null,null,null,null,null,null,{"$f":"IF(H662>0, rate1(1,$L$52,$L$51,$L$54,U662,$L$53,$L$50,Y662),\"\")","v":""},"","","","","","","","","","","",""]
[null,"","","",null,"","",null,"","","","","","","",null,null,{"$f":"IF(H663>0, rate1(1,$L$52,$L$51,$L$54,L663,$L$53,$L$50,P663),\"\")","v":""},null,null,null,null,null,null,null,{"$f":"IF(H663>0, rate1(1,$L$52,$L$51,$L$54,U663,$L$53,$L$50,Y663),\"\")","v":""},"","","","","","","","","","","",""]
[null,"","","",null,"","",null,"","","","","","","",null,null,{"$f":"IF(H664>0, rate1(1,$L$52,$L$51,$L$54,L664,$L$53,$L$50,P664),\"\")","v":""},null,null,null,null,null,null,null,{"$f":"IF(H664>0, rate1(1,$L$52,$L$51,$L$54,U664,$L$53,$L$50,Y664),\"\")","v":""},"","","","","","","","","","","",""]
[null,"","","",null,"","",null,"","","","","","","",null,null,{"$f":"IF(H665>0, rate1(1,$L$52,$L$51,$L$54,L665,$L$53,$L$50,P665),\"\")","v":""},null,null,null,null,null,null,null,{"$f":"IF(H665>0, rate1(1,$L$52,$L$51,$L$54,U665,$L$53,$L$50,Y665),\"\")","v":""},"","","","","","","","","","","",""]
[null,"","","",null,"","",null,"","","","","","","",null,null,{"$f":"IF(H666>0, rate1(1,$L$52,$L$51,$L$54,L666,$L$53,$L$50,P666),\"\")","v":""},null,null,null,null,null,null,null,{"$f":"IF(H666>0, rate1(1,$L$52,$L$51,$L$54,U666,$L$53,$L$50,Y666),\"\")","v":""},"","","","","","","","","","","",""]
[null,"","","",null,"","",null,"","","","","","","",null,null,{"$f":"IF(H667>0, rate1(1,$L$52,$L$51,$L$54,L667,$L$53,$L$50,P667),\"\")","v":""},null,null,null,null,null,null,null,{"$f":"IF(H667>0, rate1(1,$L$52,$L$51,$L$54,U667,$L$53,$L$50,Y667),\"\")","v":""},"","","","","","","","","","","",""]
[null,"","","",null,"","",null,"","","","","","","",null,null,{"$f":"IF(H668>0, rate1(1,$L$52,$L$51,$L$54,L668,$L$53,$L$50,P668),\"\")","v":""},null,null,null,null,null,null,null,{"$f":"IF(H668>0, rate1(1,$L$52,$L$51,$L$54,U668,$L$53,$L$50,Y668),\"\")","v":""},"","","","","","","","","","","",""]
[null,"","","",null,"","",null,"","","","","","","",null,null,{"$f":"IF(H669>0, rate1(1,$L$52,$L$51,$L$54,L669,$L$53,$L$50,P669),\"\")","v":""},null,null,null,null,null,null,null,{"$f":"IF(H669>0, rate1(1,$L$52,$L$51,$L$54,U669,$L$53,$L$50,Y669),\"\")","v":""},"","","","","","","","","","","",""]
[null,"","","",null,"","",null,"","","","","","","",null,null,{"$f":"IF(H670>0, rate1(1,$L$52,$L$51,$L$54,L670,$L$53,$L$50,P670),\"\")","v":""},null,null,null,null,null,null,null,{"$f":"IF(H670>0, rate1(1,$L$52,$L$51,$L$54,U670,$L$53,$L$50,Y670),\"\")","v":""},"","","","","","","","","","","",""]
[null,"","","",null,"","",null,"","","","","","","",null,null,{"$f":"IF(H671>0, rate1(1,$L$52,$L$51,$L$54,L671,$L$53,$L$50,P671),\"\")","v":""},null,null,null,null,null,null,null,{"$f":"IF(H671>0, rate1(1,$L$52,$L$51,$L$54,U671,$L$53,$L$50,Y671),\"\")","v":""},"","","","","","","","","","","",""]
[null,"","","",null,"","",null,"","","","","","","",null,null,{"$f":"IF(H672>0, rate1(1,$L$52,$L$51,$L$54,L672,$L$53,$L$50,P672),\"\")","v":""},null,null,null,null,null,null,null,{"$f":"IF(H672>0, rate1(1,$L$52,$L$51,$L$54,U672,$L$53,$L$50,Y672),\"\")","v":""},"","","","","","","","","","","",""]
[null,"","","",null,"","",null,"","","","","","","",null,null,{"$f":"IF(H673>0, rate1(1,$L$52,$L$51,$L$54,L673,$L$53,$L$50,P673),\"\")","v":""},null,null,null,null,null,null,null,{"$f":"IF(H673>0, rate1(1,$L$52,$L$51,$L$54,U673,$L$53,$L$50,Y673),\"\")","v":""},"","","","","","","","","","","",""]
[null,"","","",null,"","",null,"","","","","","","",null,null,{"$f":"IF(H674>0, rate1(1,$L$52,$L$51,$L$54,L674,$L$53,$L$50,P674),\"\")","v":""},null,null,null,null,null,null,null,{"$f":"IF(H674>0, rate1(1,$L$52,$L$51,$L$54,U674,$L$53,$L$50,Y674),\"\")","v":""},"","","","","","","","","","","",""]
[null,"","","",null,"","",null,"","","","","","","",null,null,{"$f":"IF(H675>0, rate1(1,$L$52,$L$51,$L$54,L675,$L$53,$L$50,P675),\"\")","v":""},null,null,null,null,null,null,null,{"$f":"IF(H675>0, rate1(1,$L$52,$L$51,$L$54,U675,$L$53,$L$50,Y675),\"\")","v":""},"","","","","","","","","","","",""]
[null,"","","",null,"","",null,"","","","","","","",null,null,{"$f":"IF(H676>0, rate1(1,$L$52,$L$51,$L$54,L676,$L$53,$L$50,P676),\"\")","v":""},null,null,null,null,null,null,null,{"$f":"IF(H676>0, rate1(1,$L$52,$L$51,$L$54,U676,$L$53,$L$50,Y676),\"\")","v":""},"","","","","","","","","","","",""]
[null,"","","",null,"","",null,"","","","","","","",null,null,{"$f":"IF(H677>0, rate1(1,$L$52,$L$51,$L$54,L677,$L$53,$L$50,P677),\"\")","v":""},null,null,null,null,null,null,null,{"$f":"IF(H677>0, rate1(1,$L$52,$L$51,$L$54,U677,$L$53,$L$50,Y677),\"\")","v":""},"","","","","","","","","","","",""]
[null,"","","",null,"","",null,"","","","","","","",null,null,{"$f":"IF(H678>0, rate1(1,$L$52,$L$51,$L$54,L678,$L$53,$L$50,P678),\"\")","v":""},null,null,null,null,null,null,null,{"$f":"IF(H678>0, rate1(1,$L$52,$L$51,$L$54,U678,$L$53,$L$50,Y678),\"\")","v":""},"","","","","","","","","","","",""]
[null,"","","",null,"","",null,"","","","","","","",null,null,{"$f":"IF(H679>0, rate1(1,$L$52,$L$51,$L$54,L679,$L$53,$L$50,P679),\"\")","v":""},null,null,null,null,null,null,null,{"$f":"IF(H679>0, rate1(1,$L$52,$L$51,$L$54,U679,$L$53,$L$50,Y679),\"\")","v":""},"","","","","","","","","","","",""]
[null,"","","",null,"","",null,"","","","","","","",null,null,{"$f":"IF(H680>0, rate1(1,$L$52,$L$51,$L$54,L680,$L$53,$L$50,P680),\"\")","v":""},null,null,null,null,null,null,null,{"$f":"IF(H680>0, rate1(1,$L$52,$L$51,$L$54,U680,$L$53,$L$50,Y680),\"\")","v":""},"","","","","","","","","","","",""]
[null,"","","",null,"","",null,"","","","","","","",null,null,{"$f":"IF(H681>0, rate1(1,$L$52,$L$51,$L$54,L681,$L$53,$L$50,P681),\"\")","v":""},null,null,null,null,null,null,null,{"$f":"IF(H681>0, rate1(1,$L$52,$L$51,$L$54,U681,$L$53,$L$50,Y681),\"\")","v":""},"","","","","","","","","","","",""]
[null,"","","",null,"","",null,"","","","","","","",null,null,{"$f":"IF(H682>0, rate1(1,$L$52,$L$51,$L$54,L682,$L$53,$L$50,P682),\"\")","v":""},null,null,null,null,null,null,null,{"$f":"IF(H682>0, rate1(1,$L$52,$L$51,$L$54,U682,$L$53,$L$50,Y682),\"\")","v":""},"","","","","","","","","","","",""]
[null,"","","",null,"","",null,"","","","","","","",null,null,{"$f":"IF(H683>0, rate1(1,$L$52,$L$51,$L$54,L683,$L$53,$L$50,P683),\"\")","v":""},null,null,null,null,null,null,null,{"$f":"IF(H683>0, rate1(1,$L$52,$L$51,$L$54,U683,$L$53,$L$50,Y683),\"\")","v":""},"","","","","","","","","","","",""]
[null,"","","",null,"","",null,"","","","","","","",null,null,{"$f":"IF(H684>0, rate1(1,$L$52,$L$51,$L$54,L684,$L$53,$L$50,P684),\"\")","v":""},null,null,null,null,null,null,null,{"$f":"IF(H684>0, rate1(1,$L$52,$L$51,$L$54,U684,$L$53,$L$50,Y684),\"\")","v":""},"","","","","","","","","","","",""]
[null,"","","",null,"","",null,"","","","","","","",null,null,{"$f":"IF(H685>0, rate1(1,$L$52,$L$51,$L$54,L685,$L$53,$L$50,P685),\"\")","v":""},null,null,null,null,null,null,null,{"$f":"IF(H685>0, rate1(1,$L$52,$L$51,$L$54,U685,$L$53,$L$50,Y685),\"\")","v":""},"","","","","","","","","","","",""]
[null,"","","",null,"","",null,"","","","","","","",null,null,{"$f":"IF(H686>0, rate1(1,$L$52,$L$51,$L$54,L686,$L$53,$L$50,P686),\"\")","v":""},null,null,null,null,null,null,null,{"$f":"IF(H686>0, rate1(1,$L$52,$L$51,$L$54,U686,$L$53,$L$50,Y686),\"\")","v":""},"","","","","","","","","","","",""]
[null,"","","",null,"","",null,"","","","","","","",null,null,{"$f":"IF(H687>0, rate1(1,$L$52,$L$51,$L$54,L687,$L$53,$L$50,P687),\"\")","v":""},null,null,null,null,null,null,null,{"$f":"IF(H687>0, rate1(1,$L$52,$L$51,$L$54,U687,$L$53,$L$50,Y687),\"\")","v":""},"","","","","","","","","","","",""]
[null,"","","",null,"","",null,"","","","","","","",null,null,{"$f":"IF(H688>0, rate1(1,$L$52,$L$51,$L$54,L688,$L$53,$L$50,P688),\"\")","v":""},null,null,null,null,null,null,null,{"$f":"IF(H688>0, rate1(1,$L$52,$L$51,$L$54,U688,$L$53,$L$50,Y688),\"\")","v":""},"","","","","","","","","","","",""]
[null,"","","",null,"","",null,"","","","","","","",null,null,{"$f":"IF(H689>0, rate1(1,$L$52,$L$51,$L$54,L689,$L$53,$L$50,P689),\"\")","v":""},null,null,null,null,null,null,null,{"$f":"IF(H689>0, rate1(1,$L$52,$L$51,$L$54,U689,$L$53,$L$50,Y689),\"\")","v":""},"","","","","","","","","","","",""]
[null,"","","",null,"","",null,"","","","","","","",null,null,{"$f":"IF(H690>0, rate1(1,$L$52,$L$51,$L$54,L690,$L$53,$L$50,P690),\"\")","v":""},null,null,null,null,null,null,null,{"$f":"IF(H690>0, rate1(1,$L$52,$L$51,$L$54,U690,$L$53,$L$50,Y690),\"\")","v":""},"","","","","","","","","","","",""]
[null,"","","",null,"","",null,"","","","","","","",null,null,{"$f":"IF(H691>0, rate1(1,$L$52,$L$51,$L$54,L691,$L$53,$L$50,P691),\"\")","v":""},null,null,null,null,null,null,null,{"$f":"IF(H691>0, rate1(1,$L$52,$L$51,$L$54,U691,$L$53,$L$50,Y691),\"\")","v":""},"","","","","","","","","","","",""]
[null,"","","",null,"","",null,"","","","","","","",null,null,{"$f":"IF(H692>0, rate1(1,$L$52,$L$51,$L$54,L692,$L$53,$L$50,P692),\"\")","v":""},null,null,null,null,null,null,null,{"$f":"IF(H692>0, rate1(1,$L$52,$L$51,$L$54,U692,$L$53,$L$50,Y692),\"\")","v":""},"","","","","","","","","","","",""]
[null,"","","",null,"","",null,"","","","","","","",null,null,{"$f":"IF(H693>0, rate1(1,$L$52,$L$51,$L$54,L693,$L$53,$L$50,P693),\"\")","v":""},null,null,null,null,null,null,null,{"$f":"IF(H693>0, rate1(1,$L$52,$L$51,$L$54,U693,$L$53,$L$50,Y693),\"\")","v":""},"","","","","","","","","","","",""]
[null,"","","",null,"","",null,"","","","","","","",null,null,{"$f":"IF(H694>0, rate1(1,$L$52,$L$51,$L$54,L694,$L$53,$L$50,P694),\"\")","v":""},null,null,null,null,null,null,null,{"$f":"IF(H694>0, rate1(1,$L$52,$L$51,$L$54,U694,$L$53,$L$50,Y694),\"\")","v":""},"","","","","","","","","","","",""]
[null,"","","",null,"","",null,"","","","","","","",null,null,{"$f":"IF(H695>0, rate1(1,$L$52,$L$51,$L$54,L695,$L$53,$L$50,P695),\"\")","v":""},null,null,null,null,null,null,null,{"$f":"IF(H695>0, rate1(1,$L$52,$L$51,$L$54,U695,$L$53,$L$50,Y695),\"\")","v":""},"","","","","","","","","","","",""]
[null,"","","",null,"","",null,"","","","","","","",null,null,{"$f":"IF(H696>0, rate1(1,$L$52,$L$51,$L$54,L696,$L$53,$L$50,P696),\"\")","v":""},null,null,null,null,null,null,null,{"$f":"IF(H696>0, rate1(1,$L$52,$L$51,$L$54,U696,$L$53,$L$50,Y696),\"\")","v":""},"","","","","","","","","","","",""]
[null,"","","",null,"","",null,"","","","","","","",null,null,{"$f":"IF(H697>0, rate1(1,$L$52,$L$51,$L$54,L697,$L$53,$L$50,P697),\"\")","v":""},null,null,null,null,null,null,null,{"$f":"IF(H697>0, rate1(1,$L$52,$L$51,$L$54,U697,$L$53,$L$50,Y697),\"\")","v":""},"","","","","","","","","","","",""]
[null,"","","",null,"","",null,"","","","","","","",null,null,{"$f":"IF(H698>0, rate1(1,$L$52,$L$51,$L$54,L698,$L$53,$L$50,P698),\"\")","v":""},null,null,null,null,null,null,null,{"$f":"IF(H698>0, rate1(1,$L$52,$L$51,$L$54,U698,$L$53,$L$50,Y698),\"\")","v":""},"","","","","","","","","","","",""]
[null,"","","",null,"","",null,"","","","","","","",null,null,{"$f":"IF(H699>0, rate1(1,$L$52,$L$51,$L$54,L699,$L$53,$L$50,P699),\"\")","v":""},null,null,null,null,null,null,null,{"$f":"IF(H699>0, rate1(1,$L$52,$L$51,$L$54,U699,$L$53,$L$50,Y699),\"\")","v":""},"","","","","","","","","","","",""]
[null,"","","",null,"","",null,"","","","","","","",null,null,{"$f":"IF(H700>0, rate1(1,$L$52,$L$51,$L$54,L700,$L$53,$L$50,P700),\"\")","v":""},null,null,null,null,null,null,null,{"$f":"IF(H700>0, rate1(1,$L$52,$L$51,$L$54,U700,$L$53,$L$50,Y700),\"\")","v":""},"","","","","","","","","","","",""]
[null,"","","",null,"","",null,"","","","","","","",null,null,{"$f":"IF(H701>0, rate1(1,$L$52,$L$51,$L$54,L701,$L$53,$L$50,P701),\"\")","v":""},null,null,null,null,null,null,null,{"$f":"IF(H701>0, rate1(1,$L$52,$L$51,$L$54,U701,$L$53,$L$50,Y701),\"\")","v":""},"","","","","","","","","","","",""]
[null,"","","",null,"","",null,"","","","","","","",null,null,{"$f":"IF(H702>0, rate1(1,$L$52,$L$51,$L$54,L702,$L$53,$L$50,P702),\"\")","v":""},null,null,null,null,null,null,null,{"$f":"IF(H702>0, rate1(1,$L$52,$L$51,$L$54,U702,$L$53,$L$50,Y702),\"\")","v":""},"","","","","","","","","","","",""]
[null,"","","",null,"","",null,"","","","","","","",null,null,{"$f":"IF(H703>0, rate1(1,$L$52,$L$51,$L$54,L703,$L$53,$L$50,P703),\"\")","v":""},null,null,null,null,null,null,null,{"$f":"IF(H703>0, rate1(1,$L$52,$L$51,$L$54,U703,$L$53,$L$50,Y703),\"\")","v":""},"","","","","","","","","","","",""]
[null,{"$f":"IF(H704>0, AF703,\"\")","v":""},{"$f":"IF(H704>0, AG703,\"\")","v":""},{"$f":"IF(H704>0, AH703,\"\")","v":""},null,{"$f":"IF(H704>0, (E704+E703)/2,\"\")","v":""},{"$f":"IF(H704>0, F704*$S$53*$C$55*(B704-C704+N704)^1.5,\"\")","v":""},null,{"$f":"IF(H704>0, (B704-C704)*B$19,\"\")","v":""},{"$f":"IF(H704>0, $B$7,\"\")","v":""},{"$f":"IF(H704>0, IF((1-S703-0.015)>0,1,-1),\"\")","v":""},{"$f":"IF(H704>0, D704+K704*H704,\"\")","v":""},{"$f":"IF(H704>0, (D704+L704)/2,\"\")","v":""},{"$f":"IF(H704>0, 2*($P$53*M704/$S$52/$S$51)^2-(B704-C704)*2,\"\")","v":""},{"$f":"IF(H704>0, wh(B704,$F$51,$F$52,$F$53),\"\")","v":""},null,null,{"$f":"IF(H704>0, rate1(1,$L$52,$L$51,$L$54,L704,$L$53,$L$50,P704),\"\")","v":""},null,null,null,null,null,null,null,{"$f":"IF(H704>0, rate1(1,$L$52,$L$51,$L$54,U704,$L$53,$L$50,Y704),\"\")","v":""},{"$f":"IF(H704>0, X704/O704/Z704,\"\")","v":""},{"$f":"IF(H704>0, W704/(1-AA704),\"\")","v":""},{"$f":"IF(H704>0, delta_z(N704,S704,H704,AE703,AB704),\"\")","v":""},{"$f":"IF(H704>0, H704/AC704*K704,\"\")","v":""},{"$f":"IF(H704>0, (AD704-AD703)/(AC704+AC703)*2,\"\")","v":""},{"$f":"IF(H704>0, B704-(AC704-N704),\"\")","v":""},{"$f":"IF(H704>0, C704-AC704,\"\")","v":""},{"$f":"IF(H704>0, $S$54*$S$53*$C$55*SQRT(AF704-AG704),\"\")","v":""},{"$f":"IF(H704>0, AC704/R704*1000000,\"\")","v":""},{"$f":"IF(H704>0, AJ703+AI704/3600,\"\")","v":""},{"$f":"IF(H704>0, AK703+AI703*G703/1000000,\"\")","v":""},{"$f":"IF(H704>0, AL703+AI703*J703/1000000,\"\")","v":""}]
[null,"","","",null,"","",null,"","","","","","","",null,null,{"$f":"IF(H705>0, rate1(1,$L$52,$L$51,$L$54,L705,$L$53,$L$50,P705),\"\")","v":""},null,null,null,null,null,null,null,{"$f":"IF(H705>0, rate1(1,$L$52,$L$51,$L$54,U705,$L$53,$L$50,Y705),\"\")","v":""},"","","","","","","","","","","",""]
[null,"","","",null,"","",null,"","","","","","","",null,null,{"$f":"IF(H706>0, rate1(1,$L$52,$L$51,$L$54,L706,$L$53,$L$50,P706),\"\")","v":""},null,null,null,null,null,null,null,{"$f":"IF(H706>0, rate1(1,$L$52,$L$51,$L$54,U706,$L$53,$L$50,Y706),\"\")","v":""},"","","","","","","","","","","",""]
[null,"","","",null,"","",null,"","","","","","","",null,null,{"$f":"IF(H707>0, rate1(1,$L$52,$L$51,$L$54,L707,$L$53,$L$50,P707),\"\")","v":""},null,null,null,null,null,null,null,{"$f":"IF(H707>0, rate1(1,$L$52,$L$51,$L$54,U707,$L$53,$L$50,Y707),\"\")","v":""},"","","","","","","","","","","",""]
[null,"","","",null,"","",null,"","","","","","","",null,null,{"$f":"IF(H708>0, rate1(1,$L$52,$L$51,$L$54,L708,$L$53,$L$50,P708),\"\")","v":""},null,null,null,null,null,null,null,{"$f":"IF(H708>0, rate1(1,$L$52,$L$51,$L$54,U708,$L$53,$L$50,Y708),\"\")","v":""},"","","","","","","","","","","",""]
[null,"","","",null,"","",null,"","","","","","","",null,null,{"$f":"IF(H709>0, rate1(1,$L$52,$L$51,$L$54,L709,$L$53,$L$50,P709),\"\")","v":""},null,null,null,null,null,null,null,{"$f":"IF(H709>0, rate1(1,$L$52,$L$51,$L$54,U709,$L$53,$L$50,Y709),\"\")","v":""},"","","","","","","","","","","",""]
[null,"","","",null,"","",null,"","","","","","","",null,null,{"$f":"IF(H710>0, rate1(1,$L$52,$L$51,$L$54,L710,$L$53,$L$50,P710),\"\")","v":""},null,null,null,null,null,null,null,{"$f":"IF(H710>0, rate1(1,$L$52,$L$51,$L$54,U710,$L$53,$L$50,Y710),\"\")","v":""},"","","","","","","","","","","",""]
[null,"","","",null,"","",null,"","","","","","","",null,null,{"$f":"IF(H711>0, rate1(1,$L$52,$L$51,$L$54,L711,$L$53,$L$50,P711),\"\")","v":""},null,null,null,null,null,null,null,{"$f":"IF(H711>0, rate1(1,$L$52,$L$51,$L$54,U711,$L$53,$L$50,Y711),\"\")","v":""},"","","","","","","","","","","",""]
[null,"","","",null,"","",null,"","","","","","","",null,null,{"$f":"IF(H712>0, rate1(1,$L$52,$L$51,$L$54,L712,$L$53,$L$50,P712),\"\")","v":""},null,null,null,null,null,null,null,{"$f":"IF(H712>0, rate1(1,$L$52,$L$51,$L$54,U712,$L$53,$L$50,Y712),\"\")","v":""},"","","","","","","","","","","",""]
[null,"","","",null,"","",null,"","","","","","","",null,null,{"$f":"IF(H713>0, rate1(1,$L$52,$L$51,$L$54,L713,$L$53,$L$50,P713),\"\")","v":""},null,null,null,null,null,null,null,{"$f":"IF(H713>0, rate1(1,$L$52,$L$51,$L$54,U713,$L$53,$L$50,Y713),\"\")","v":""},"","","","","","","","","","","",""]
[null,"","","",null,"","",null,"","","","","","","",null,null,{"$f":"IF(H714>0, rate1(1,$L$52,$L$51,$L$54,L714,$L$53,$L$50,P714),\"\")","v":""},null,null,null,null,null,null,null,{"$f":"IF(H714>0, rate1(1,$L$52,$L$51,$L$54,U714,$L$53,$L$50,Y714),\"\")","v":""},"","","","","","","","","","","",""]
[null,"","","",null,"","",null,"","","","","","","",null,null,{"$f":"IF(H715>0, rate1(1,$L$52,$L$51,$L$54,L715,$L$53,$L$50,P715),\"\")","v":""},null,null,null,null,null,null,null,{"$f":"IF(H715>0, rate1(1,$L$52,$L$51,$L$54,U715,$L$53,$L$50,Y715),\"\")","v":""},"","","","","","","","","","","",""]
[null,"","","",null,"","",null,"","","","","","","",null,null,{"$f":"IF(H716>0, rate1(1,$L$52,$L$51,$L$54,L716,$L$53,$L$50,P716),\"\")","v":""},null,null,null,null,null,null,null,{"$f":"IF(H716>0, rate1(1,$L$52,$L$51,$L$54,U716,$L$53,$L$50,Y716),\"\")","v":""},"","","","","","","","","","","",""]
[null,"","","",null,"","",null,"","","","","","","",null,null,{"$f":"IF(H717>0, rate1(1,$L$52,$L$51,$L$54,L717,$L$53,$L$50,P717),\"\")","v":""},null,null,null,null,null,null,null,{"$f":"IF(H717>0, rate1(1,$L$52,$L$51,$L$54,U717,$L$53,$L$50,Y717),\"\")","v":""},"","","","","","","","","","","",""]
[null,"","","",null,"","",null,"","","","","","","",null,null,{"$f":"IF(H718>0, rate1(1,$L$52,$L$51,$L$54,L718,$L$53,$L$50,P718),\"\")","v":""},null,null,null,null,null,null,null,{"$f":"IF(H718>0, rate1(1,$L$52,$L$51,$L$54,U718,$L$53,$L$50,Y718),\"\")","v":""},"","","","","","","","","","","",""]
[null,"","","",null,"","",null,"","","","","","","",null,null,{"$f":"IF(H719>0, rate1(1,$L$52,$L$51,$L$54,L719,$L$53,$L$50,P719),\"\")","v":""},null,null,null,null,null,null,null,{"$f":"IF(H719>0, rate1(1,$L$52,$L$51,$L$54,U719,$L$53,$L$50,Y719),\"\")","v":""},"","","","","","","","","","","",""]
[null,"","","",null,"","",null,"","","","","","","",null,null,{"$f":"IF(H720>0, rate1(1,$L$52,$L$51,$L$54,L720,$L$53,$L$50,P720),\"\")","v":""},null,null,null,null,null,null,null,{"$f":"IF(H720>0, rate1(1,$L$52,$L$51,$L$54,U720,$L$53,$L$50,Y720),\"\")","v":""},"","","","","","","","","","","",""]
[null,"","","",null,"","",null,"","","","","","","",null,null,{"$f":"IF(H721>0, rate1(1,$L$52,$L$51,$L$54,L721,$L$53,$L$50,P721),\"\")","v":""},null,null,null,null,null,null,null,{"$f":"IF(H721>0, rate1(1,$L$52,$L$51,$L$54,U721,$L$53,$L$50,Y721),\"\")","v":""},"","","","","","","","","","","",""]
[null,"","","",null,"","",null,"","","","","","","",null,null,{"$f":"IF(H722>0, rate1(1,$L$52,$L$51,$L$54,L722,$L$53,$L$50,P722),\"\")","v":""},null,null,null,null,null,null,null,{"$f":"IF(H722>0, rate1(1,$L$52,$L$51,$L$54,U722,$L$53,$L$50,Y722),\"\")","v":""},"","","","","","","","","","","",""]
[null,"","","",null,"","",null,"","","","","","","",null,null,{"$f":"IF(H723>0, rate1(1,$L$52,$L$51,$L$54,L723,$L$53,$L$50,P723),\"\")","v":""},null,null,null,null,null,null,null,{"$f":"IF(H723>0, rate1(1,$L$52,$L$51,$L$54,U723,$L$53,$L$50,Y723),\"\")","v":""},"","","","","","","","","","","",""]
[null,"","","",null,"","",null,"","","","","","","",null,null,{"$f":"IF(H724>0, rate1(1,$L$52,$L$51,$L$54,L724,$L$53,$L$50,P724),\"\")","v":""},null,null,null,null,null,null,null,{"$f":"IF(H724>0, rate1(1,$L$52,$L$51,$L$54,U724,$L$53,$L$50,Y724),\"\")","v":""},"","","","","","","","","","","",""]
[null,"","","",null,"","",null,"","","","","","","",null,null,{"$f":"IF(H725>0, rate1(1,$L$52,$L$51,$L$54,L725,$L$53,$L$50,P725),\"\")","v":""},null,null,null,null,null,null,null,{"$f":"IF(H725>0, rate1(1,$L$52,$L$51,$L$54,U725,$L$53,$L$50,Y725),\"\")","v":""},"","","","","","","","","","","",""]
[null,"","","",null,"","",null,"","","","","","","",null,null,{"$f":"IF(H726>0, rate1(1,$L$52,$L$51,$L$54,L726,$L$53,$L$50,P726),\"\")","v":""},null,null,null,null,null,null,null,{"$f":"IF(H726>0, rate1(1,$L$52,$L$51,$L$54,U726,$L$53,$L$50,Y726),\"\")","v":""},"","","","","","","","","","","",""]
[null,"","","",null,"","",null,"","","","","","","",null,null,{"$f":"IF(H727>0, rate1(1,$L$52,$L$51,$L$54,L727,$L$53,$L$50,P727),\"\")","v":""},null,null,null,null,null,null,null,{"$f":"IF(H727>0, rate1(1,$L$52,$L$51,$L$54,U727,$L$53,$L$50,Y727),\"\")","v":""},"","","","","","","","","","","",""]
[null,"","","",null,"","",null,"","","","","","","",null,null,{"$f":"IF(H728>0, rate1(1,$L$52,$L$51,$L$54,L728,$L$53,$L$50,P728),\"\")","v":""},null,null,null,null,null,null,null,{"$f":"IF(H728>0, rate1(1,$L$52,$L$51,$L$54,U728,$L$53,$L$50,Y728),\"\")","v":""},"","","","","","","","","","","",""]
[null,"","","",null,"","",null,"","","","","","","",null,null,{"$f":"IF(H729>0, rate1(1,$L$52,$L$51,$L$54,L729,$L$53,$L$50,P729),\"\")","v":""},null,null,null,null,null,null,null,{"$f":"IF(H729>0, rate1(1,$L$52,$L$51,$L$54,U729,$L$53,$L$50,Y729),\"\")","v":""},"","","","","","","","","","","",""]
[null,"","","",null,"","",null,"","","","","","","",null,null,{"$f":"IF(H730>0, rate1(1,$L$52,$L$51,$L$54,L730,$L$53,$L$50,P730),\"\")","v":""},null,null,null,null,null,null,null,{"$f":"IF(H730>0, rate1(1,$L$52,$L$51,$L$54,U730,$L$53,$L$50,Y730),\"\")","v":""},"","","","","","","","","","","",""]
[null,"","","",null,"","",null,"","","","","","","",null,null,{"$f":"IF(H731>0, rate1(1,$L$52,$L$51,$L$54,L731,$L$53,$L$50,P731),\"\")","v":""},null,null,null,null,null,null,null,{"$f":"IF(H731>0, rate1(1,$L$52,$L$51,$L$54,U731,$L$53,$L$50,Y731),\"\")","v":""},"","","","","","","","","","","",""]
[null,"","","",null,"","",null,"","","","","","","",null,null,{"$f":"IF(H732>0, rate1(1,$L$52,$L$51,$L$54,L732,$L$53,$L$50,P732),\"\")","v":""},null,null,null,null,null,null,null,{"$f":"IF(H732>0, rate1(1,$L$52,$L$51,$L$54,U732,$L$53,$L$50,Y732),\"\")","v":""},"","","","","","","","","","","",""]
[null,"","","",null,"","",null,"","","","","","","",null,null,{"$f":"IF(H733>0, rate1(1,$L$52,$L$51,$L$54,L733,$L$53,$L$50,P733),\"\")","v":""},null,null,null,null,null,null,null,{"$f":"IF(H733>0, rate1(1,$L$52,$L$51,$L$54,U733,$L$53,$L$50,Y733),\"\")","v":""},"","","","","","","","","","","",""]
[null,"","","",null,"","",null,"","","","","","","",null,null,{"$f":"IF(H734>0, rate1(1,$L$52,$L$51,$L$54,L734,$L$53,$L$50,P734),\"\")","v":""},null,null,null,null,null,null,null,{"$f":"IF(H734>0, rate1(1,$L$52,$L$51,$L$54,U734,$L$53,$L$50,Y734),\"\")","v":""},"","","","","","","","","","","",""]
[null,"","","",null,"","",null,"","","","","","","",null,null,{"$f":"IF(H735>0, rate1(1,$L$52,$L$51,$L$54,L735,$L$53,$L$50,P735),\"\")","v":""},null,null,null,null,null,null,null,{"$f":"IF(H735>0, rate1(1,$L$52,$L$51,$L$54,U735,$L$53,$L$50,Y735),\"\")","v":""},"","","","","","","","","","","",""]
[null,"","","",null,"","",null,"","","","","","","",null,null,{"$f":"IF(H736>0, rate1(1,$L$52,$L$51,$L$54,L736,$L$53,$L$50,P736),\"\")","v":""},null,null,null,null,null,null,null,{"$f":"IF(H736>0, rate1(1,$L$52,$L$51,$L$54,U736,$L$53,$L$50,Y736),\"\")","v":""},"","","","","","","","","","","",""]
[null,"","","",null,"","",null,"","","","","","","",null,null,{"$f":"IF(H737>0, rate1(1,$L$52,$L$51,$L$54,L737,$L$53,$L$50,P737),\"\")","v":""},null,null,null,null,null,null,null,{"$f":"IF(H737>0, rate1(1,$L$52,$L$51,$L$54,U737,$L$53,$L$50,Y737),\"\")","v":""},"","","","","","","","","","","",""]
[null,"","","",null,"","",null,"","","","","","","",null,null,{"$f":"IF(H738>0, rate1(1,$L$52,$L$51,$L$54,L738,$L$53,$L$50,P738),\"\")","v":""},null,null,null,null,null,null,null,{"$f":"IF(H738>0, rate1(1,$L$52,$L$51,$L$54,U738,$L$53,$L$50,Y738),\"\")","v":""},"","","","","","","","","","","",""]
[null,"","","",null,"","",null,"","","","","","","",null,null,{"$f":"IF(H739>0, rate1(1,$L$52,$L$51,$L$54,L739,$L$53,$L$50,P739),\"\")","v":""},null,null,null,null,null,null,null,{"$f":"IF(H739>0, rate1(1,$L$52,$L$51,$L$54,U739,$L$53,$L$50,Y739),\"\")","v":""},"","","","","","","","","","","",""]
[null,"","","",null,"","",null,"","","","","","","",null,null,{"$f":"IF(H740>0, rate1(1,$L$52,$L$51,$L$54,L740,$L$53,$L$50,P740),\"\")","v":""},null,null,null,null,null,null,null,{"$f":"IF(H740>0, rate1(1,$L$52,$L$51,$L$54,U740,$L$53,$L$50,Y740),\"\")","v":""},"","","","","","","","","","","",""]
[null,"","","",null,"","",null,"","","","","","","",null,null,{"$f":"IF(H741>0, rate1(1,$L$52,$L$51,$L$54,L741,$L$53,$L$50,P741),\"\")","v":""},null,null,null,null,null,null,null,{"$f":"IF(H741>0, rate1(1,$L$52,$L$51,$L$54,U741,$L$53,$L$50,Y741),\"\")","v":""},"","","","","","","","","","","",""]
[null,"","","",null,"","",null,"","","","","","","",null,null,{"$f":"IF(H742>0, rate1(1,$L$52,$L$51,$L$54,L742,$L$53,$L$50,P742),\"\")","v":""},null,null,null,null,null,null,null,{"$f":"IF(H742>0, rate1(1,$L$52,$L$51,$L$54,U742,$L$53,$L$50,Y742),\"\")","v":""},"","","","","","","","","","","",""]
[null,"","","",null,"","",null,"","","","","","","",null,null,{"$f":"IF(H743>0, rate1(1,$L$52,$L$51,$L$54,L743,$L$53,$L$50,P743),\"\")","v":""},null,null,null,null,null,null,null,{"$f":"IF(H743>0, rate1(1,$L$52,$L$51,$L$54,U743,$L$53,$L$50,Y743),\"\")","v":""},"","","","","","","","","","","",""]
[null,"","","",null,"","",null,"","","","","","","",null,null,{"$f":"IF(H744>0, rate1(1,$L$52,$L$51,$L$54,L744,$L$53,$L$50,P744),\"\")","v":""},null,null,null,null,null,null,null,{"$f":"IF(H744>0, rate1(1,$L$52,$L$51,$L$54,U744,$L$53,$L$50,Y744),\"\")","v":""},"","","","","","","","","","","",""]
[null,"","","",null,"","",null,"","","","","","","",null,null,{"$f":"IF(H745>0, rate1(1,$L$52,$L$51,$L$54,L745,$L$53,$L$50,P745),\"\")","v":""},null,null,null,null,null,null,null,{"$f":"IF(H745>0, rate1(1,$L$52,$L$51,$L$54,U745,$L$53,$L$50,Y745),\"\")","v":""},"","","","","","","","","","","",""]
[null,"","","",null,"","",null,"","","","","","","",null,null,{"$f":"IF(H746>0, rate1(1,$L$52,$L$51,$L$54,L746,$L$53,$L$50,P746),\"\")","v":""},null,null,null,null,null,null,null,{"$f":"IF(H746>0, rate1(1,$L$52,$L$51,$L$54,U746,$L$53,$L$50,Y746),\"\")","v":""},"","","","","","","","","","","",""]
[null,"","","",null,"","",null,"","","","","","","",null,null,{"$f":"IF(H747>0, rate1(1,$L$52,$L$51,$L$54,L747,$L$53,$L$50,P747),\"\")","v":""},null,null,null,null,null,null,null,{"$f":"IF(H747>0, rate1(1,$L$52,$L$51,$L$54,U747,$L$53,$L$50,Y747),\"\")","v":""},"","","","","","","","","","","",""]
[null,"","","",null,"","",null,"","","","","","","",null,null,{"$f":"IF(H748>0, rate1(1,$L$52,$L$51,$L$54,L748,$L$53,$L$50,P748),\"\")","v":""},null,null,null,null,null,null,null,{"$f":"IF(H748>0, rate1(1,$L$52,$L$51,$L$54,U748,$L$53,$L$50,Y748),\"\")","v":""},"","","","","","","","","","","",""]
[null,"","","",null,"","",null,"","","","","","","",null,null,{"$f":"IF(H749>0, rate1(1,$L$52,$L$51,$L$54,L749,$L$53,$L$50,P749),\"\")","v":""},null,null,null,null,null,null,null,{"$f":"IF(H749>0, rate1(1,$L$52,$L$51,$L$54,U749,$L$53,$L$50,Y749),\"\")","v":""},"","","","","","","","","","","",""]
[null,"","","",null,"","",null,"","","","","","","",null,null,{"$f":"IF(H750>0, rate1(1,$L$52,$L$51,$L$54,L750,$L$53,$L$50,P750),\"\")","v":""},null,null,null,null,null,null,null,{"$f":"IF(H750>0, rate1(1,$L$52,$L$51,$L$54,U750,$L$53,$L$50,Y750),\"\")","v":""},"","","","","","","","","","","",""]
[null,"","","",null,"","",null,"","","","","","","",null,null,{"$f":"IF(H751>0, rate1(1,$L$52,$L$51,$L$54,L751,$L$53,$L$50,P751),\"\")","v":""},null,null,null,null,null,null,null,{"$f":"IF(H751>0, rate1(1,$L$52,$L$51,$L$54,U751,$L$53,$L$50,Y751),\"\")","v":""},"","","","","","","","","","","",""]
[null,"","","",null,"","",null,"","","","","","","",null,null,{"$f":"IF(H752>0, rate1(1,$L$52,$L$51,$L$54,L752,$L$53,$L$50,P752),\"\")","v":""},null,null,null,null,null,null,null,{"$f":"IF(H752>0, rate1(1,$L$52,$L$51,$L$54,U752,$L$53,$L$50,Y752),\"\")","v":""},"","","","","","","","","","","",""]
[null,"","","",null,"","",null,"","","","","","","",null,null,{"$f":"IF(H753>0, rate1(1,$L$52,$L$51,$L$54,L753,$L$53,$L$50,P753),\"\")","v":""},null,null,null,null,null,null,null,{"$f":"IF(H753>0, rate1(1,$L$52,$L$51,$L$54,U753,$L$53,$L$50,Y753),\"\")","v":""},"","","","","","","","","","","",""]
[null,"","","",null,"","",null,"","","","","","","",null,null,{"$f":"IF(H754>0, rate1(1,$L$52,$L$51,$L$54,L754,$L$53,$L$50,P754),\"\")","v":""},null,null,null,null,null,null,null,{"$f":"IF(H754>0, rate1(1,$L$52,$L$51,$L$54,U754,$L$53,$L$50,Y754),\"\")","v":""},"","","","","","","","","","","",""]
[null,"","","",null,"","",null,"","","","","","","",null,null,{"$f":"IF(H755>0, rate1(1,$L$52,$L$51,$L$54,L755,$L$53,$L$50,P755),\"\")","v":""},null,null,null,null,null,null,null,{"$f":"IF(H755>0, rate1(1,$L$52,$L$51,$L$54,U755,$L$53,$L$50,Y755),\"\")","v":""},"","","","","","","","","","","",""]
[null,"","","",null,"","",null,"","","","","","","",null,null,{"$f":"IF(H756>0, rate1(1,$L$52,$L$51,$L$54,L756,$L$53,$L$50,P756),\"\")","v":""},null,null,null,null,null,null,null,{"$f":"IF(H756>0, rate1(1,$L$52,$L$51,$L$54,U756,$L$53,$L$50,Y756),\"\")","v":""},"","","","","","","","","","","",""]
[null,"","","",null,"","",null,"","","","","","","",null,null,{"$f":"IF(H757>0, rate1(1,$L$52,$L$51,$L$54,L757,$L$53,$L$50,P757),\"\")","v":""},null,null,null,null,null,null,null,{"$f":"IF(H757>0, rate1(1,$L$52,$L$51,$L$54,U757,$L$53,$L$50,Y757),\"\")","v":""},"","","","","","","","","","","",""]
[null,"","","",null,"","",null,"","","","","","","",null,null,{"$f":"IF(H758>0, rate1(1,$L$52,$L$51,$L$54,L758,$L$53,$L$50,P758),\"\")","v":""},null,null,null,null,null,null,null,{"$f":"IF(H758>0, rate1(1,$L$52,$L$51,$L$54,U758,$L$53,$L$50,Y758),\"\")","v":""},"","","","","","","","","","","",""]
[null,"","","",null,"","",null,"","","","","","","",null,null,{"$f":"IF(H759>0, rate1(1,$L$52,$L$51,$L$54,L759,$L$53,$L$50,P759),\"\")","v":""},null,null,null,null,null,null,null,{"$f":"IF(H759>0, rate1(1,$L$52,$L$51,$L$54,U759,$L$53,$L$50,Y759),\"\")","v":""},"","","","","","","","","","","",""]
[null,"","","",null,"","",null,"","","","","","","",null,null,{"$f":"IF(H760>0, rate1(1,$L$52,$L$51,$L$54,L760,$L$53,$L$50,P760),\"\")","v":""},null,null,null,null,null,null,null,{"$f":"IF(H760>0, rate1(1,$L$52,$L$51,$L$54,U760,$L$53,$L$50,Y760),\"\")","v":""},"","","","","","","","","","","",""]
[null,"","","",null,"","",null,"","","","","","","",null,null,{"$f":"IF(H761>0, rate1(1,$L$52,$L$51,$L$54,L761,$L$53,$L$50,P761),\"\")","v":""},null,null,null,null,null,null,null,{"$f":"IF(H761>0, rate1(1,$L$52,$L$51,$L$54,U761,$L$53,$L$50,Y761),\"\")","v":""},"","","","","","","","","","","",""]
[null,"","","",null,"","",null,"","","","","","","",null,null,{"$f":"IF(H762>0, rate1(1,$L$52,$L$51,$L$54,L762,$L$53,$L$50,P762),\"\")","v":""},null,null,null,null,null,null,null,{"$f":"IF(H762>0, rate1(1,$L$52,$L$51,$L$54,U762,$L$53,$L$50,Y762),\"\")","v":""},"","","","","","","","","","","",""]
[null,"","","",null,"","",null,"","","","","","","",null,null,{"$f":"IF(H763>0, rate1(1,$L$52,$L$51,$L$54,L763,$L$53,$L$50,P763),\"\")","v":""},null,null,null,null,null,null,null,{"$f":"IF(H763>0, rate1(1,$L$52,$L$51,$L$54,U763,$L$53,$L$50,Y763),\"\")","v":""},"","","","","","","","","","","",""]
[null,"","","",null,"","",null,"","","","","","","",null,null,{"$f":"IF(H764>0, rate1(1,$L$52,$L$51,$L$54,L764,$L$53,$L$50,P764),\"\")","v":""},null,null,null,null,null,null,null,{"$f":"IF(H764>0, rate1(1,$L$52,$L$51,$L$54,U764,$L$53,$L$50,Y764),\"\")","v":""},"","","","","","","","","","","",""]
[null,"","","",null,"","",null,"","","","","","","",null,null,{"$f":"IF(H765>0, rate1(1,$L$52,$L$51,$L$54,L765,$L$53,$L$50,P765),\"\")","v":""},null,null,null,null,null,null,null,{"$f":"IF(H765>0, rate1(1,$L$52,$L$51,$L$54,U765,$L$53,$L$50,Y765),\"\")","v":""},"","","","","","","","","","","",""]
[null,"","","",null,"","",null,"","","","","","","",null,null,{"$f":"IF(H766>0, rate1(1,$L$52,$L$51,$L$54,L766,$L$53,$L$50,P766),\"\")","v":""},null,null,null,null,null,null,null,{"$f":"IF(H766>0, rate1(1,$L$52,$L$51,$L$54,U766,$L$53,$L$50,Y766),\"\")","v":""},"","","","","","","","","","","",""]
[null,"","","",null,"","",null,"","","","","","","",null,null,{"$f":"IF(H767>0, rate1(1,$L$52,$L$51,$L$54,L767,$L$53,$L$50,P767),\"\")","v":""},null,null,null,null,null,null,null,{"$f":"IF(H767>0, rate1(1,$L$52,$L$51,$L$54,U767,$L$53,$L$50,Y767),\"\")","v":""},"","","","","","","","","","","",""]
[null,{"$f":"IF(H768>0, AF767,\"\")","v":""},{"$f":"IF(H768>0, AG767,\"\")","v":""},{"$f":"IF(H768>0, AH767,\"\")","v":""},null,{"$f":"IF(H768>0, (E768+E767)/2,\"\")","v":""},{"$f":"IF(H768>0, F768*$S$53*$C$55*(B768-C768+N768)^1.5,\"\")","v":""},null,{"$f":"IF(H768>0, (B768-C768)*B$19,\"\")","v":""},{"$f":"IF(H768>0, $B$7,\"\")","v":""},{"$f":"IF(H768>0, IF((1-S767-0.015)>0,1,-1),\"\")","v":""},{"$f":"IF(H768>0, D768+K768*H768,\"\")","v":""},{"$f":"IF(H768>0, (D768+L768)/2,\"\")","v":""},{"$f":"IF(H768>0, 2*($P$53*M768/$S$52/$S$51)^2-(B768-C768)*2,\"\")","v":""},{"$f":"IF(H768>0, wh(B768,$F$51,$F$52,$F$53),\"\")","v":""},null,null,{"$f":"IF(H768>0, rate1(1,$L$52,$L$51,$L$54,L768,$L$53,$L$50,P768),\"\")","v":""},null,null,null,null,null,null,null,{"$f":"IF(H768>0, rate1(1,$L$52,$L$51,$L$54,U768,$L$53,$L$50,Y768),\"\")","v":""},{"$f":"IF(H768>0, X768/O768/Z768,\"\")","v":""},{"$f":"IF(H768>0, W768/(1-AA768),\"\")","v":""},{"$f":"IF(H768>0, delta_z(N768,S768,H768,AE767,AB768),\"\")","v":""},{"$f":"IF(H768>0, H768/AC768*K768,\"\")","v":""},{"$f":"IF(H768>0, (AD768-AD767)/(AC768+AC767)*2,\"\")","v":""},{"$f":"IF(H768>0, B768-(AC768-N768),\"\")","v":""},{"$f":"IF(H768>0, C768-AC768,\"\")","v":""},{"$f":"IF(H768>0, $S$54*$S$53*$C$55*SQRT(AF768-AG768),\"\")","v":""},{"$f":"IF(H768>0, AC768/R768*1000000,\"\")","v":""},{"$f":"IF(H768>0, AJ767+AI768/3600,\"\")","v":""},{"$f":"IF(H768>0, AK767+AI767*G767/1000000,\"\")","v":""},{"$f":"IF(H768>0, AL767+AI767*J767/1000000,\"\")","v":""}]
[null,"","","",null,"","",null,"","","","","","","",null,null,{"$f":"IF(H769>0, rate1(1,$L$52,$L$51,$L$54,L769,$L$53,$L$50,P769),\"\")","v":""},null,null,null,null,null,null,null,{"$f":"IF(H769>0, rate1(1,$L$52,$L$51,$L$54,U769,$L$53,$L$50,Y769),\"\")","v":""},"","","","","","","","","","","",""]
[null,"","","",null,"","",null,"","","","","","","",null,null,{"$f":"IF(H770>0, rate1(1,$L$52,$L$51,$L$54,L770,$L$53,$L$50,P770),\"\")","v":""},null,null,null,null,null,null,null,{"$f":"IF(H770>0, rate1(1,$L$52,$L$51,$L$54,U770,$L$53,$L$50,Y770),\"\")","v":""},"","","","","","","","","","","",""]
[null,"","","",null,"","",null,"","","","","","","",null,null,{"$f":"IF(H771>0, rate1(1,$L$52,$L$51,$L$54,L771,$L$53,$L$50,P771),\"\")","v":""},null,null,null,null,null,null,null,{"$f":"IF(H771>0, rate1(1,$L$52,$L$51,$L$54,U771,$L$53,$L$50,Y771),\"\")","v":""},"","","","","","","","","","","",""]
[null,"","","",null,"","",null,"","","","","","","",null,null,{"$f":"IF(H772>0, rate1(1,$L$52,$L$51,$L$54,L772,$L$53,$L$50,P772),\"\")","v":""},null,null,null,null,null,null,null,{"$f":"IF(H772>0, rate1(1,$L$52,$L$51,$L$54,U772,$L$53,$L$50,Y772),\"\")","v":""},"","","","","","","","","","","",""]
[null,"","","",null,"","",null,"","","","","","","",null,null,{"$f":"IF(H773>0, rate1(1,$L$52,$L$51,$L$54,L773,$L$53,$L$50,P773),\"\")","v":""},null,null,null,null,null,null,null,{"$f":"IF(H773>0, rate1(1,$L$52,$L$51,$L$54,U773,$L$53,$L$50,Y773),\"\")","v":""},"","","","","","","","","","","",""]
[null,"","","",null,"","",null,"","","","","","","",null,null,{"$f":"IF(H774>0, rate1(1,$L$52,$L$51,$L$54,L774,$L$53,$L$50,P774),\"\")","v":""},null,null,null,null,null,null,null,{"$f":"IF(H774>0, rate1(1,$L$52,$L$51,$L$54,U774,$L$53,$L$50,Y774),\"\")","v":""},"","","","","","","","","","","",""]
[null,"","","",null,"","",null,"","","","","","","",null,null,{"$f":"IF(H775>0, rate1(1,$L$52,$L$51,$L$54,L775,$L$53,$L$50,P775),\"\")","v":""},null,null,null,null,null,null,null,{"$f":"IF(H775>0, rate1(1,$L$52,$L$51,$L$54,U775,$L$53,$L$50,Y775),\"\")","v":""},"","","","","","","","","","","",""]
[null,"","","",null,"","",null,"","","","","","","",null,null,{"$f":"IF(H776>0, rate1(1,$L$52,$L$51,$L$54,L776,$L$53,$L$50,P776),\"\")","v":""},null,null,null,null,null,null,null,{"$f":"IF(H776>0, rate1(1,$L$52,$L$51,$L$54,U776,$L$53,$L$50,Y776),\"\")","v":""},"","","","","","","","","","","",""]
[null,"","","",null,"","",null,"","","","","","","",null,null,{"$f":"IF(H777>0, rate1(1,$L$52,$L$51,$L$54,L777,$L$53,$L$50,P777),\"\")","v":""},null,null,null,null,null,null,null,{"$f":"IF(H777>0, rate1(1,$L$52,$L$51,$L$54,U777,$L$53,$L$50,Y777),\"\")","v":""},"","","","","","","","","","","",""]
[null,"","","",null,"","",null,"","","","","","","",null,null,{"$f":"IF(H778>0, rate1(1,$L$52,$L$51,$L$54,L778,$L$53,$L$50,P778),\"\")","v":""},null,null,null,null,null,null,null,{"$f":"IF(H778>0, rate1(1,$L$52,$L$51,$L$54,U778,$L$53,$L$50,Y778),\"\")","v":""},"","","","","","","","","","","",""]
[null,"","","",null,"","",null,"","","","","","","",null,null,{"$f":"IF(H779>0, rate1(1,$L$52,$L$51,$L$54,L779,$L$53,$L$50,P779),\"\")","v":""},null,null,null,null,null,null,null,{"$f":"IF(H779>0, rate1(1,$L$52,$L$51,$L$54,U779,$L$53,$L$50,Y779),\"\")","v":""},"","","","","","","","","","","",""]
[null,"","","",null,"","",null,"","","","","","","",null,null,{"$f":"IF(H780>0, rate1(1,$L$52,$L$51,$L$54,L780,$L$53,$L$50,P780),\"\")","v":""},null,null,null,null,null,null,null,{"$f":"IF(H780>0, rate1(1,$L$52,$L$51,$L$54,U780,$L$53,$L$50,Y780),\"\")","v":""},"","","","","","","","","","","",""]
[null,"","","",null,"","",null,"","","","","","","",null,null,{"$f":"IF(H781>0, rate1(1,$L$52,$L$51,$L$54,L781,$L$53,$L$50,P781),\"\")","v":""},null,null,null,null,null,null,null,{"$f":"IF(H781>0, rate1(1,$L$52,$L$51,$L$54,U781,$L$53,$L$50,Y781),\"\")","v":""},"","","","","","","","","","","",""]
[null,"","","",null,"","",null,"","","","","","","",null,null,{"$f":"IF(H782>0, rate1(1,$L$52,$L$51,$L$54,L782,$L$53,$L$50,P782),\"\")","v":""},null,null,null,null,null,null,null,{"$f":"IF(H782>0, rate1(1,$L$52,$L$51,$L$54,U782,$L$53,$L$50,Y782),\"\")","v":""},"","","","","","","","","","","",""]
[null,"","","",null,"","",null,"","","","","","","",null,null,{"$f":"IF(H783>0, rate1(1,$L$52,$L$51,$L$54,L783,$L$53,$L$50,P783),\"\")","v":""},null,null,null,null,null,null,null,{"$f":"IF(H783>0, rate1(1,$L$52,$L$51,$L$54,U783,$L$53,$L$50,Y783),\"\")","v":""},"","","","","","","","","","","",""]
[null,"","","",null,"","",null,"","","","","","","",null,null,{"$f":"IF(H784>0, rate1(1,$L$52,$L$51,$L$54,L784,$L$53,$L$50,P784),\"\")","v":""},null,null,null,null,null,null,null,{"$f":"IF(H784>0, rate1(1,$L$52,$L$51,$L$54,U784,$L$53,$L$50,Y784),\"\")","v":""},"","","","","","","","","","","",""]
[null,"","","",null,"","",null,"","","","","","","",null,null,{"$f":"IF(H785>0, rate1(1,$L$52,$L$51,$L$54,L785,$L$53,$L$50,P785),\"\")","v":""},null,null,null,null,null,null,null,{"$f":"IF(H785>0, rate1(1,$L$52,$L$51,$L$54,U785,$L$53,$L$50,Y785),\"\")","v":""},"","","","","","","","","","","",""]
[null,"","","",null,"","",null,"","","","","","","",null,null,{"$f":"IF(H786>0, rate1(1,$L$52,$L$51,$L$54,L786,$L$53,$L$50,P786),\"\")","v":""},null,null,null,null,null,null,null,{"$f":"IF(H786>0, rate1(1,$L$52,$L$51,$L$54,U786,$L$53,$L$50,Y786),\"\")","v":""},"","","","","","","","","","","",""]
[null,"","","",null,"","",null,"","","","","","","",null,null,{"$f":"IF(H787>0, rate1(1,$L$52,$L$51,$L$54,L787,$L$53,$L$50,P787),\"\")","v":""},null,null,null,null,null,null,null,{"$f":"IF(H787>0, rate1(1,$L$52,$L$51,$L$54,U787,$L$53,$L$50,Y787),\"\")","v":""},"","","","","","","","","","","",""]
[null,"","","",null,"","",null,"","","","","","","",null,null,{"$f":"IF(H788>0, rate1(1,$L$52,$L$51,$L$54,L788,$L$53,$L$50,P788),\"\")","v":""},null,null,null,null,null,null,null,{"$f":"IF(H788>0, rate1(1,$L$52,$L$51,$L$54,U788,$L$53,$L$50,Y788),\"\")","v":""},"","","","","","","","","","","",""]
[null,"","","",null,"","",null,"","","","","","","",null,null,{"$f":"IF(H789>0, rate1(1,$L$52,$L$51,$L$54,L789,$L$53,$L$50,P789),\"\")","v":""},null,null,null,null,null,null,null,{"$f":"IF(H789>0, rate1(1,$L$52,$L$51,$L$54,U789,$L$53,$L$50,Y789),\"\")","v":""},"","","","","","","","","","","",""]
[null,"","","",null,"","",null,"","","","","","","",null,null,{"$f":"IF(H790>0, rate1(1,$L$52,$L$51,$L$54,L790,$L$53,$L$50,P790),\"\")","v":""},null,null,null,null,null,null,null,{"$f":"IF(H790>0, rate1(1,$L$52,$L$51,$L$54,U790,$L$53,$L$50,Y790),\"\")","v":""},"","","","","","","","","","","",""]
[null,"","","",null,"","",null,"","","","","","","",null,null,{"$f":"IF(H791>0, rate1(1,$L$52,$L$51,$L$54,L791,$L$53,$L$50,P791),\"\")","v":""},null,null,null,null,null,null,null,{"$f":"IF(H791>0, rate1(1,$L$52,$L$51,$L$54,U791,$L$53,$L$50,Y791),\"\")","v":""},"","","","","","","","","","","",""]
[null,"","","",null,"","",null,"","","","","","","",null,null,{"$f":"IF(H792>0, rate1(1,$L$52,$L$51,$L$54,L792,$L$53,$L$50,P792),\"\")","v":""},null,null,null,null,null,null,null,{"$f":"IF(H792>0, rate1(1,$L$52,$L$51,$L$54,U792,$L$53,$L$50,Y792),\"\")","v":""},"","","","","","","","","","","",""]
[null,"","","",null,"","",null,"","","","","","","",null,null,{"$f":"IF(H793>0, rate1(1,$L$52,$L$51,$L$54,L793,$L$53,$L$50,P793),\"\")","v":""},null,null,null,null,null,null,null,{"$f":"IF(H793>0, rate1(1,$L$52,$L$51,$L$54,U793,$L$53,$L$50,Y793),\"\")","v":""},"","","","","","","","","","","",""]
[null,"","","",null,"","",null,"","","","","","","",null,null,{"$f":"IF(H794>0, rate1(1,$L$52,$L$51,$L$54,L794,$L$53,$L$50,P794),\"\")","v":""},null,null,null,null,null,null,null,{"$f":"IF(H794>0, rate1(1,$L$52,$L$51,$L$54,U794,$L$53,$L$50,Y794),\"\")","v":""},"","","","","","","","","","","",""]
[null,"","","",null,"","",null,"","","","","","","",null,null,{"$f":"IF(H795>0, rate1(1,$L$52,$L$51,$L$54,L795,$L$53,$L$50,P795),\"\")","v":""},null,null,null,null,null,null,null,{"$f":"IF(H795>0, rate1(1,$L$52,$L$51,$L$54,U795,$L$53,$L$50,Y795),\"\")","v":""},"","","","","","","","","","","",""]
[null,"","","",null,"","",null,"","","","","","","",null,null,{"$f":"IF(H796>0, rate1(1,$L$52,$L$51,$L$54,L796,$L$53,$L$50,P796),\"\")","v":""},null,null,null,null,null,null,null,{"$f":"IF(H796>0, rate1(1,$L$52,$L$51,$L$54,U796,$L$53,$L$50,Y796),\"\")","v":""},"","","","","","","","","","","",""]
[null,"","","",null,"","",null,"","","","","","","",null,null,{"$f":"IF(H797>0, rate1(1,$L$52,$L$51,$L$54,L797,$L$53,$L$50,P797),\"\")","v":""},null,null,null,null,null,null,null,{"$f":"IF(H797>0, rate1(1,$L$52,$L$51,$L$54,U797,$L$53,$L$50,Y797),\"\")","v":""},"","","","","","","","","","","",""]
[null,"","","",null,"","",null,"","","","","","","",null,null,{"$f":"IF(H798>0, rate1(1,$L$52,$L$51,$L$54,L798,$L$53,$L$50,P798),\"\")","v":""},null,null,null,null,null,null,null,{"$f":"IF(H798>0, rate1(1,$L$52,$L$51,$L$54,U798,$L$53,$L$50,Y798),\"\")","v":""},"","","","","","","","","","","",""]
[null,"","","",null,"","",null,"","","","","","","",null,null,{"$f":"IF(H799>0, rate1(1,$L$52,$L$51,$L$54,L799,$L$53,$L$50,P799),\"\")","v":""},null,null,null,null,null,null,null,{"$f":"IF(H799>0, rate1(1,$L$52,$L$51,$L$54,U799,$L$53,$L$50,Y799),\"\")","v":""},"","","","","","","","","","","",""]
[null,"","","",null,"","",null,"","","","","","","",null,null,{"$f":"IF(H800>0, rate1(1,$L$52,$L$51,$L$54,L800,$L$53,$L$50,P800),\"\")","v":""},null,null,null,null,null,null,null,{"$f":"IF(H800>0, rate1(1,$L$52,$L$51,$L$54,U800,$L$53,$L$50,Y800),\"\")","v":""},"","","","","","","","","","","",""]
[null,"","","",null,"","",null,"","","","","","","",null,null,{"$f":"IF(H801>0, rate1(1,$L$52,$L$51,$L$54,L801,$L$53,$L$50,P801),\"\")","v":""},null,null,null,null,null,null,null,{"$f":"IF(H801>0, rate1(1,$L$52,$L$51,$L$54,U801,$L$53,$L$50,Y801),\"\")","v":""},"","","","","","","","","","","",""]
[null,"","","",null,"","",null,"","","","","","","",null,null,{"$f":"IF(H802>0, rate1(1,$L$52,$L$51,$L$54,L802,$L$53,$L$50,P802),\"\")","v":""},null,null,null,null,null,null,null,{"$f":"IF(H802>0, rate1(1,$L$52,$L$51,$L$54,U802,$L$53,$L$50,Y802),\"\")","v":""},"","","","","","","","","","","",""]
[null,"","","",null,"","",null,"","","","","","","",null,null,{"$f":"IF(H803>0, rate1(1,$L$52,$L$51,$L$54,L803,$L$53,$L$50,P803),\"\")","v":""},null,null,null,null,null,null,null,{"$f":"IF(H803>0, rate1(1,$L$52,$L$51,$L$54,U803,$L$53,$L$50,Y803),\"\")","v":""},"","","","","","","","","","","",""]
[null,"","","",null,"","",null,"","","","","","","",null,null,{"$f":"IF(H804>0, rate1(1,$L$52,$L$51,$L$54,L804,$L$53,$L$50,P804),\"\")","v":""},null,null,null,null,null,null,null,{"$f":"IF(H804>0, rate1(1,$L$52,$L$51,$L$54,U804,$L$53,$L$50,Y804),\"\")","v":""},"","","","","","","","","","","",""]
[null,"","","",null,"","",null,"","","","","","","",null,null,{"$f":"IF(H805>0, rate1(1,$L$52,$L$51,$L$54,L805,$L$53,$L$50,P805),\"\")","v":""},null,null,null,null,null,null,null,{"$f":"IF(H805>0, rate1(1,$L$52,$L$51,$L$54,U805,$L$53,$L$50,Y805),\"\")","v":""},"","","","","","","","","","","",""]
[null,"","","",null,"","",null,"","","","","","","",null,null,{"$f":"IF(H806>0, rate1(1,$L$52,$L$51,$L$54,L806,$L$53,$L$50,P806),\"\")","v":""},null,null,null,null,null,null,null,{"$f":"IF(H806>0, rate1(1,$L$52,$L$51,$L$54,U806,$L$53,$L$50,Y806),\"\")","v":""},"","","","","","","","","","","",""]
[null,"","","",null,"","",null,"","","","","","","",null,null,{"$f":"IF(H807>0, rate1(1,$L$52,$L$51,$L$54,L807,$L$53,$L$50,P807),\"\")","v":""},null,null,null,null,null,null,null,{"$f":"IF(H807>0, rate1(1,$L$52,$L$51,$L$54,U807,$L$53,$L$50,Y807),\"\")","v":""},"","","","","","","","","","","",""]
[null,"","","",null,"","",null,"","","","","","","",null,null,{"$f":"IF(H808>0, rate1(1,$L$52,$L$51,$L$54,L808,$L$53,$L$50,P808),\"\")","v":""},null,null,null,null,null,null,null,{"$f":"IF(H808>0, rate1(1,$L$52,$L$51,$L$54,U808,$L$53,$L$50,Y808),\"\")","v":""},"","","","","","","","","","","",""]
[null,"","","",null,"","",null,"","","","","","","",null,null,{"$f":"IF(H809>0, rate1(1,$L$52,$L$51,$L$54,L809,$L$53,$L$50,P809),\"\")","v":""},null,null,null,null,null,null,null,{"$f":"IF(H809>0, rate1(1,$L$52,$L$51,$L$54,U809,$L$53,$L$50,Y809),\"\")","v":""},"","","","","","","","","","","",""]
[null,"","","",null,"","",null,"","","","","","","",null,null,{"$f":"IF(H810>0, rate1(1,$L$52,$L$51,$L$54,L810,$L$53,$L$50,P810),\"\")","v":""},null,null,null,null,null,null,null,{"$f":"IF(H810>0, rate1(1,$L$52,$L$51,$L$54,U810,$L$53,$L$50,Y810),\"\")","v":""},"","","","","","","","","","","",""]
[null,"","","",null,"","",null,"","","","","","","",null,null,{"$f":"IF(H811>0, rate1(1,$L$52,$L$51,$L$54,L811,$L$53,$L$50,P811),\"\")","v":""},null,null,null,null,null,null,null,{"$f":"IF(H811>0, rate1(1,$L$52,$L$51,$L$54,U811,$L$53,$L$50,Y811),\"\")","v":""},"","","","","","","","","","","",""]
[null,"","","",null,"","",null,"","","","","","","",null,null,{"$f":"IF(H812>0, rate1(1,$L$52,$L$51,$L$54,L812,$L$53,$L$50,P812),\"\")","v":""},null,null,null,null,null,null,null,{"$f":"IF(H812>0, rate1(1,$L$52,$L$51,$L$54,U812,$L$53,$L$50,Y812),\"\")","v":""},"","","","","","","","","","","",""]
[null,"","","",null,"","",null,"","","","","","","",null,null,{"$f":"IF(H813>0, rate1(1,$L$52,$L$51,$L$54,L813,$L$53,$L$50,P813),\"\")","v":""},null,null,null,null,null,null,null,{"$f":"IF(H813>0, rate1(1,$L$52,$L$51,$L$54,U813,$L$53,$L$50,Y813),\"\")","v":""},"","","","","","","","","","","",""]
[null,"","","",null,"","",null,"","","","","","","",null,null,{"$f":"IF(H814>0, rate1(1,$L$52,$L$51,$L$54,L814,$L$53,$L$50,P814),\"\")","v":""},null,null,null,null,null,null,null,{"$f":"IF(H814>0, rate1(1,$L$52,$L$51,$L$54,U814,$L$53,$L$50,Y814),\"\")","v":""},"","","","","","","","","","","",""]
[null,"","","",null,"","",null,"","","","","","","",null,null,{"$f":"IF(H815>0, rate1(1,$L$52,$L$51,$L$54,L815,$L$53,$L$50,P815),\"\")","v":""},null,null,null,null,null,null,null,{"$f":"IF(H815>0, rate1(1,$L$52,$L$51,$L$54,U815,$L$53,$L$50,Y815),\"\")","v":""},"","","","","","","","","","","",""]
[null,"","","",null,"","",null,"","","","","","","",null,null,{"$f":"IF(H816>0, rate1(1,$L$52,$L$51,$L$54,L816,$L$53,$L$50,P816),\"\")","v":""},null,null,null,null,null,null,null,{"$f":"IF(H816>0, rate1(1,$L$52,$L$51,$L$54,U816,$L$53,$L$50,Y816),\"\")","v":""},"","","","","","","","","","","",""]
[null,"","","",null,"","",null,"","","","","","","",null,null,{"$f":"IF(H817>0, rate1(1,$L$52,$L$51,$L$54,L817,$L$53,$L$50,P817),\"\")","v":""},null,null,null,null,null,null,null,{"$f":"IF(H817>0, rate1(1,$L$52,$L$51,$L$54,U817,$L$53,$L$50,Y817),\"\")","v":""},"","","","","","","","","","","",""]
[null,"","","",null,"","",null,"","","","","","","",null,null,{"$f":"IF(H818>0, rate1(1,$L$52,$L$51,$L$54,L818,$L$53,$L$50,P818),\"\")","v":""},null,null,null,null,null,null,null,{"$f":"IF(H818>0, rate1(1,$L$52,$L$51,$L$54,U818,$L$53,$L$50,Y818),\"\")","v":""},"","","","","","","","","","","",""]
[null,"","","",null,"","",null,"","","","","","","",null,null,{"$f":"IF(H819>0, rate1(1,$L$52,$L$51,$L$54,L819,$L$53,$L$50,P819),\"\")","v":""},null,null,null,null,null,null,null,{"$f":"IF(H819>0, rate1(1,$L$52,$L$51,$L$54,U819,$L$53,$L$50,Y819),\"\")","v":""},"","","","","","","","","","","",""]
[null,"","","",null,"","",null,"","","","","","","",null,null,{"$f":"IF(H820>0, rate1(1,$L$52,$L$51,$L$54,L820,$L$53,$L$50,P820),\"\")","v":""},null,null,null,null,null,null,null,{"$f":"IF(H820>0, rate1(1,$L$52,$L$51,$L$54,U820,$L$53,$L$50,Y820),\"\")","v":""},"","","","","","","","","","","",""]
[null,"","","",null,"","",null,"","","","","","","",null,null,{"$f":"IF(H821>0, rate1(1,$L$52,$L$51,$L$54,L821,$L$53,$L$50,P821),\"\")","v":""},null,null,null,null,null,null,null,{"$f":"IF(H821>0, rate1(1,$L$52,$L$51,$L$54,U821,$L$53,$L$50,Y821),\"\")","v":""},"","","","","","","","","","","",""]
[null,"","","",null,"","",null,"","","","","","","",null,null,{"$f":"IF(H822>0, rate1(1,$L$52,$L$51,$L$54,L822,$L$53,$L$50,P822),\"\")","v":""},null,null,null,null,null,null,null,{"$f":"IF(H822>0, rate1(1,$L$52,$L$51,$L$54,U822,$L$53,$L$50,Y822),\"\")","v":""},"","","","","","","","","","","",""]
[null,"","","",null,"","",null,"","","","","","","",null,null,{"$f":"IF(H823>0, rate1(1,$L$52,$L$51,$L$54,L823,$L$53,$L$50,P823),\"\")","v":""},null,null,null,null,null,null,null,{"$f":"IF(H823>0, rate1(1,$L$52,$L$51,$L$54,U823,$L$53,$L$50,Y823),\"\")","v":""},"","","","","","","","","","","",""]
[null,"","","",null,"","",null,"","","","","","","",null,null,{"$f":"IF(H824>0, rate1(1,$L$52,$L$51,$L$54,L824,$L$53,$L$50,P824),\"\")","v":""},null,null,null,null,null,null,null,{"$f":"IF(H824>0, rate1(1,$L$52,$L$51,$L$54,U824,$L$53,$L$50,Y824),\"\")","v":""},"","","","","","","","","","","",""]
[null,"","","",null,"","",null,"","","","","","","",null,null,{"$f":"IF(H825>0, rate1(1,$L$52,$L$51,$L$54,L825,$L$53,$L$50,P825),\"\")","v":""},null,null,null,null,null,null,null,{"$f":"IF(H825>0, rate1(1,$L$52,$L$51,$L$54,U825,$L$53,$L$50,Y825),\"\")","v":""},"","","","","","","","","","","",""]
[null,"","","",null,"","",null,"","","","","","","",null,null,{"$f":"IF(H826>0, rate1(1,$L$52,$L$51,$L$54,L826,$L$53,$L$50,P826),\"\")","v":""},null,null,null,null,null,null,null,{"$f":"IF(H826>0, rate1(1,$L$52,$L$51,$L$54,U826,$L$53,$L$50,Y826),\"\")","v":""},"","","","","","","","","","","",""]
[null,"","","",null,"","",null,"","","","","","","",null,null,{"$f":"IF(H827>0, rate1(1,$L$52,$L$51,$L$54,L827,$L$53,$L$50,P827),\"\")","v":""},null,null,null,null,null,null,null,{"$f":"IF(H827>0, rate1(1,$L$52,$L$51,$L$54,U827,$L$53,$L$50,Y827),\"\")","v":""},"","","","","","","","","","","",""]
[null,"","","",null,"","",null,"","","","","","","",null,null,{"$f":"IF(H828>0, rate1(1,$L$52,$L$51,$L$54,L828,$L$53,$L$50,P828),\"\")","v":""},null,null,null,null,null,null,null,{"$f":"IF(H828>0, rate1(1,$L$52,$L$51,$L$54,U828,$L$53,$L$50,Y828),\"\")","v":""},"","","","","","","","","","","",""]
[null,"","","",null,"","",null,"","","","","","","",null,null,{"$f":"IF(H829>0, rate1(1,$L$52,$L$51,$L$54,L829,$L$53,$L$50,P829),\"\")","v":""},null,null,null,null,null,null,null,{"$f":"IF(H829>0, rate1(1,$L$52,$L$51,$L$54,U829,$L$53,$L$50,Y829),\"\")","v":""},"","","","","","","","","","","",""]
[null,"","","",null,"","",null,"","","","","","","",null,null,{"$f":"IF(H830>0, rate1(1,$L$52,$L$51,$L$54,L830,$L$53,$L$50,P830),\"\")","v":""},null,null,null,null,null,null,null,{"$f":"IF(H830>0, rate1(1,$L$52,$L$51,$L$54,U830,$L$53,$L$50,Y830),\"\")","v":""},"","","","","","","","","","","",""]
[null,"","","",null,"","",null,"","","","","","","",null,null,{"$f":"IF(H831>0, rate1(1,$L$52,$L$51,$L$54,L831,$L$53,$L$50,P831),\"\")","v":""},null,null,null,null,null,null,null,{"$f":"IF(H831>0, rate1(1,$L$52,$L$51,$L$54,U831,$L$53,$L$50,Y831),\"\")","v":""},"","","","","","","","","","","",""]
[null,{"$f":"IF(H832>0, AF831,\"\")","v":""},{"$f":"IF(H832>0, AG831,\"\")","v":""},{"$f":"IF(H832>0, AH831,\"\")","v":""},null,{"$f":"IF(H832>0, (E832+E831)/2,\"\")","v":""},{"$f":"IF(H832>0, F832*$S$53*$C$55*(B832-C832+N832)^1.5,\"\")","v":""},null,{"$f":"IF(H832>0, (B832-C832)*B$19,\"\")","v":""},{"$f":"IF(H832>0, $B$7,\"\")","v":""},{"$f":"IF(H832>0, IF((1-S831-0.015)>0,1,-1),\"\")","v":""},{"$f":"IF(H832>0, D832+K832*H832,\"\")","v":""},{"$f":"IF(H832>0, (D832+L832)/2,\"\")","v":""},{"$f":"IF(H832>0, 2*($P$53*M832/$S$52/$S$51)^2-(B832-C832)*2,\"\")","v":""},{"$f":"IF(H832>0, wh(B832,$F$51,$F$52,$F$53),\"\")","v":""},null,null,{"$f":"IF(H832>0, rate1(1,$L$52,$L$51,$L$54,L832,$L$53,$L$50,P832),\"\")","v":""},null,null,null,null,null,null,null,{"$f":"IF(H832>0, rate1(1,$L$52,$L$51,$L$54,U832,$L$53,$L$50,Y832),\"\")","v":""},{"$f":"IF(H832>0, X832/O832/Z832,\"\")","v":""},{"$f":"IF(H832>0, W832/(1-AA832),\"\")","v":""},{"$f":"IF(H832>0, delta_z(N832,S832,H832,AE831,AB832),\"\")","v":""},{"$f":"IF(H832>0, H832/AC832*K832,\"\")","v":""},{"$f":"IF(H832>0, (AD832-AD831)/(AC832+AC831)*2,\"\")","v":""},{"$f":"IF(H832>0, B832-(AC832-N832),\"\")","v":""},{"$f":"IF(H832>0, C832-AC832,\"\")","v":""},{"$f":"IF(H832>0, $S$54*$S$53*$C$55*SQRT(AF832-AG832),\"\")","v":""},{"$f":"IF(H832>0, AC832/R832*1000000,\"\")","v":""},{"$f":"IF(H832>0, AJ831+AI832/3600,\"\")","v":""},{"$f":"IF(H832>0, AK831+AI831*G831/1000000,\"\")","v":""},{"$f":"IF(H832>0, AL831+AI831*J831/1000000,\"\")","v":""}]
[null,"","","",null,"","",null,"","","","","","","",null,null,{"$f":"IF(H833>0, rate1(1,$L$52,$L$51,$L$54,L833,$L$53,$L$50,P833),\"\")","v":""},null,null,null,null,null,null,null,{"$f":"IF(H833>0, rate1(1,$L$52,$L$51,$L$54,U833,$L$53,$L$50,Y833),\"\")","v":""},"","","","","","","","","","","",""]
[null,"","","",null,"","",null,"","","","","","","",null,null,{"$f":"IF(H834>0, rate1(1,$L$52,$L$51,$L$54,L834,$L$53,$L$50,P834),\"\")","v":""},null,null,null,null,null,null,null,{"$f":"IF(H834>0, rate1(1,$L$52,$L$51,$L$54,U834,$L$53,$L$50,Y834),\"\")","v":""},"","","","","","","","","","","",""]
[null,"","","",null,"","",null,"","","","","","","",null,null,{"$f":"IF(H835>0, rate1(1,$L$52,$L$51,$L$54,L835,$L$53,$L$50,P835),\"\")","v":""},null,null,null,null,null,null,null,{"$f":"IF(H835>0, rate1(1,$L$52,$L$51,$L$54,U835,$L$53,$L$50,Y835),\"\")","v":""},"","","","","","","","","","","",""]
[null,"","","",null,"","",null,"","","","","","","",null,null,{"$f":"IF(H836>0, rate1(1,$L$52,$L$51,$L$54,L836,$L$53,$L$50,P836),\"\")","v":""},null,null,null,null,null,null,null,{"$f":"IF(H836>0, rate1(1,$L$52,$L$51,$L$54,U836,$L$53,$L$50,Y836),\"\")","v":""},"","","","","","","","","","","",""]
[null,"","","",null,"","",null,"","","","","","","",null,null,{"$f":"IF(H837>0, rate1(1,$L$52,$L$51,$L$54,L837,$L$53,$L$50,P837),\"\")","v":""},null,null,null,null,null,null,null,{"$f":"IF(H837>0, rate1(1,$L$52,$L$51,$L$54,U837,$L$53,$L$50,Y837),\"\")","v":""},"","","","","","","","","","","",""]
[null,"","","",null,"","",null,"","","","","","","",null,null,{"$f":"IF(H838>0, rate1(1,$L$52,$L$51,$L$54,L838,$L$53,$L$50,P838),\"\")","v":""},null,null,null,null,null,null,null,{"$f":"IF(H838>0, rate1(1,$L$52,$L$51,$L$54,U838,$L$53,$L$50,Y838),\"\")","v":""},"","","","","","","","","","","",""]
[null,"","","",null,"","",null,"","","","","","","",null,null,{"$f":"IF(H839>0, rate1(1,$L$52,$L$51,$L$54,L839,$L$53,$L$50,P839),\"\")","v":""},null,null,null,null,null,null,null,{"$f":"IF(H839>0, rate1(1,$L$52,$L$51,$L$54,U839,$L$53,$L$50,Y839),\"\")","v":""},"","","","","","","","","","","",""]
[null,"","","",null,"","",null,"","","","","","","",null,null,{"$f":"IF(H840>0, rate1(1,$L$52,$L$51,$L$54,L840,$L$53,$L$50,P840),\"\")","v":""},null,null,null,null,null,null,null,{"$f":"IF(H840>0, rate1(1,$L$52,$L$51,$L$54,U840,$L$53,$L$50,Y840),\"\")","v":""},"","","","","","","","","","","",""]
[null,"","","",null,"","",null,"","","","","","","",null,null,{"$f":"IF(H841>0, rate1(1,$L$52,$L$51,$L$54,L841,$L$53,$L$50,P841),\"\")","v":""},null,null,null,null,null,null,null,{"$f":"IF(H841>0, rate1(1,$L$52,$L$51,$L$54,U841,$L$53,$L$50,Y841),\"\")","v":""},"","","","","","","","","","","",""]
[null,"","","",null,"","",null,"","","","","","","",null,null,{"$f":"IF(H842>0, rate1(1,$L$52,$L$51,$L$54,L842,$L$53,$L$50,P842),\"\")","v":""},null,null,null,null,null,null,null,{"$f":"IF(H842>0, rate1(1,$L$52,$L$51,$L$54,U842,$L$53,$L$50,Y842),\"\")","v":""},"","","","","","","","","","","",""]
[null,"","","",null,"","",null,"","","","","","","",null,null,{"$f":"IF(H843>0, rate1(1,$L$52,$L$51,$L$54,L843,$L$53,$L$50,P843),\"\")","v":""},null,null,null,null,null,null,null,{"$f":"IF(H843>0, rate1(1,$L$52,$L$51,$L$54,U843,$L$53,$L$50,Y843),\"\")","v":""},"","","","","","","","","","","",""]
[null,"","","",null,"","",null,"","","","","","","",null,null,{"$f":"IF(H844>0, rate1(1,$L$52,$L$51,$L$54,L844,$L$53,$L$50,P844),\"\")","v":""},null,null,null,null,null,null,null,{"$f":"IF(H844>0, rate1(1,$L$52,$L$51,$L$54,U844,$L$53,$L$50,Y844),\"\")","v":""},"","","","","","","","","","","",""]
[null,"","","",null,"","",null,"","","","","","","",null,null,{"$f":"IF(H845>0, rate1(1,$L$52,$L$51,$L$54,L845,$L$53,$L$50,P845),\"\")","v":""},null,null,null,null,null,null,null,{"$f":"IF(H845>0, rate1(1,$L$52,$L$51,$L$54,U845,$L$53,$L$50,Y845),\"\")","v":""},"","","","","","","","","","","",""]
[null,"","","",null,"","",null,"","","","","","","",null,null,{"$f":"IF(H846>0, rate1(1,$L$52,$L$51,$L$54,L846,$L$53,$L$50,P846),\"\")","v":""},null,null,null,null,null,null,null,{"$f":"IF(H846>0, rate1(1,$L$52,$L$51,$L$54,U846,$L$53,$L$50,Y846),\"\")","v":""},"","","","","","","","","","","",""]
[null,"","","",null,"","",null,"","","","","","","",null,null,{"$f":"IF(H847>0, rate1(1,$L$52,$L$51,$L$54,L847,$L$53,$L$50,P847),\"\")","v":""},null,null,null,null,null,null,null,{"$f":"IF(H847>0, rate1(1,$L$52,$L$51,$L$54,U847,$L$53,$L$50,Y847),\"\")","v":""},"","","","","","","","","","","",""]
[null,"","","",null,"","",null,"","","","","","","",null,null,{"$f":"IF(H848>0, rate1(1,$L$52,$L$51,$L$54,L848,$L$53,$L$50,P848),\"\")","v":""},null,null,null,null,null,null,null,{"$f":"IF(H848>0, rate1(1,$L$52,$L$51,$L$54,U848,$L$53,$L$50,Y848),\"\")","v":""},"","","","","","","","","","","",""]
[null,"","","",null,"","",null,"","","","","","","",null,null,{"$f":"IF(H849>0, rate1(1,$L$52,$L$51,$L$54,L849,$L$53,$L$50,P849),\"\")","v":""},null,null,null,null,null,null,null,{"$f":"IF(H849>0, rate1(1,$L$52,$L$51,$L$54,U849,$L$53,$L$50,Y849),\"\")","v":""},"","","","","","","","","","","",""]
[null,"","","",null,"","",null,"","","","","","","",null,null,{"$f":"IF(H850>0, rate1(1,$L$52,$L$51,$L$54,L850,$L$53,$L$50,P850),\"\")","v":""},null,null,null,null,null,null,null,{"$f":"IF(H850>0, rate1(1,$L$52,$L$51,$L$54,U850,$L$53,$L$50,Y850),\"\")","v":""},"","","","","","","","","","","",""]
[null,"","","",null,"","",null,"","","","","","","",null,null,{"$f":"IF(H851>0, rate1(1,$L$52,$L$51,$L$54,L851,$L$53,$L$50,P851),\"\")","v":""},null,null,null,null,null,null,null,{"$f":"IF(H851>0, rate1(1,$L$52,$L$51,$L$54,U851,$L$53,$L$50,Y851),\"\")","v":""},"","","","","","","","","","","",""]
[null,"","","",null,"","",null,"","","","","","","",null,null,{"$f":"IF(H852>0, rate1(1,$L$52,$L$51,$L$54,L852,$L$53,$L$50,P852),\"\")","v":""},null,null,null,null,null,null,null,{"$f":"IF(H852>0, rate1(1,$L$52,$L$51,$L$54,U852,$L$53,$L$50,Y852),\"\")","v":""},"","","","","","","","","","","",""]
[null,"","","",null,"","",null,"","","","","","","",null,null,{"$f":"IF(H853>0, rate1(1,$L$52,$L$51,$L$54,L853,$L$53,$L$50,P853),\"\")","v":""},null,null,null,null,null,null,null,{"$f":"IF(H853>0, rate1(1,$L$52,$L$51,$L$54,U853,$L$53,$L$50,Y853),\"\")","v":""},"","","","","","","","","","","",""]
[null,"","","",null,"","",null,"","","","","","","",null,null,{"$f":"IF(H854>0, rate1(1,$L$52,$L$51,$L$54,L854,$L$53,$L$50,P854),\"\")","v":""},null,null,null,null,null,null,null,{"$f":"IF(H854>0, rate1(1,$L$52,$L$51,$L$54,U854,$L$53,$L$50,Y854),\"\")","v":""},"","","","","","","","","","","",""]
[null,"","","",null,"","",null,"","","","","","","",null,null,{"$f":"IF(H855>0, rate1(1,$L$52,$L$51,$L$54,L855,$L$53,$L$50,P855),\"\")","v":""},null,null,null,null,null,null,null,{"$f":"IF(H855>0, rate1(1,$L$52,$L$51,$L$54,U855,$L$53,$L$50,Y855),\"\")","v":""},"","","","","","","","","","","",""]
[null,"","","",null,"","",null,"","","","","","","",null,null,{"$f":"IF(H856>0, rate1(1,$L$52,$L$51,$L$54,L856,$L$53,$L$50,P856),\"\")","v":""},null,null,null,null,null,null,null,{"$f":"IF(H856>0, rate1(1,$L$52,$L$51,$L$54,U856,$L$53,$L$50,Y856),\"\")","v":""},"","","","","","","","","","","",""]
[null,"","","",null,"","",null,"","","","","","","",null,null,{"$f":"IF(H857>0, rate1(1,$L$52,$L$51,$L$54,L857,$L$53,$L$50,P857),\"\")","v":""},null,null,null,null,null,null,null,{"$f":"IF(H857>0, rate1(1,$L$52,$L$51,$L$54,U857,$L$53,$L$50,Y857),\"\")","v":""},"","","","","","","","","","","",""]
[null,"","","",null,"","",null,"","","","","","","",null,null,{"$f":"IF(H858>0, rate1(1,$L$52,$L$51,$L$54,L858,$L$53,$L$50,P858),\"\")","v":""},null,null,null,null,null,null,null,{"$f":"IF(H858>0, rate1(1,$L$52,$L$51,$L$54,U858,$L$53,$L$50,Y858),\"\")","v":""},"","","","","","","","","","","",""]
[null,"","","",null,"","",null,"","","","","","","",null,null,{"$f":"IF(H859>0, rate1(1,$L$52,$L$51,$L$54,L859,$L$53,$L$50,P859),\"\")","v":""},null,null,null,null,null,null,null,{"$f":"IF(H859>0, rate1(1,$L$52,$L$51,$L$54,U859,$L$53,$L$50,Y859),\"\")","v":""},"","","","","","","","","","","",""]
[null,"","","",null,"","",null,"","","","","","","",null,null,{"$f":"IF(H860>0, rate1(1,$L$52,$L$51,$L$54,L860,$L$53,$L$50,P860),\"\")","v":""},null,null,null,null,null,null,null,{"$f":"IF(H860>0, rate1(1,$L$52,$L$51,$L$54,U860,$L$53,$L$50,Y860),\"\")","v":""},"","","","","","","","","","","",""]
[null,"","","",null,"","",null,"","","","","","","",null,null,{"$f":"IF(H861>0, rate1(1,$L$52,$L$51,$L$54,L861,$L$53,$L$50,P861),\"\")","v":""},null,null,null,null,null,null,null,{"$f":"IF(H861>0, rate1(1,$L$52,$L$51,$L$54,U861,$L$53,$L$50,Y861),\"\")","v":""},"","","","","","","","","","","",""]
[null,"","","",null,"","",null,"","","","","","","",null,null,{"$f":"IF(H862>0, rate1(1,$L$52,$L$51,$L$54,L862,$L$53,$L$50,P862),\"\")","v":""},null,null,null,null,null,null,null,{"$f":"IF(H862>0, rate1(1,$L$52,$L$51,$L$54,U862,$L$53,$L$50,Y862),\"\")","v":""},"","","","","","","","","","","",""]
[null,"","","",null,"","",null,"","","","","","","",null,null,{"$f":"IF(H863>0, rate1(1,$L$52,$L$51,$L$54,L863,$L$53,$L$50,P863),\"\")","v":""},null,null,null,null,null,null,null,{"$f":"IF(H863>0, rate1(1,$L$52,$L$51,$L$54,U863,$L$53,$L$50,Y863),\"\")","v":""},"","","","","","","","","","","",""]
[null,"","","",null,"","",null,"","","","","","","",null,null,{"$f":"IF(H864>0, rate1(1,$L$52,$L$51,$L$54,L864,$L$53,$L$50,P864),\"\")","v":""},null,null,null,null,null,null,null,{"$f":"IF(H864>0, rate1(1,$L$52,$L$51,$L$54,U864,$L$53,$L$50,Y864),\"\")","v":""},"","","","","","","","","","","",""]
[null,"","","",null,"","",null,"","","","","","","",null,null,{"$f":"IF(H865>0, rate1(1,$L$52,$L$51,$L$54,L865,$L$53,$L$50,P865),\"\")","v":""},null,null,null,null,null,null,null,{"$f":"IF(H865>0, rate1(1,$L$52,$L$51,$L$54,U865,$L$53,$L$50,Y865),\"\")","v":""},"","","","","","","","","","","",""]
[null,"","","",null,"","",null,"","","","","","","",null,null,{"$f":"IF(H866>0, rate1(1,$L$52,$L$51,$L$54,L866,$L$53,$L$50,P866),\"\")","v":""},null,null,null,null,null,null,null,{"$f":"IF(H866>0, rate1(1,$L$52,$L$51,$L$54,U866,$L$53,$L$50,Y866),\"\")","v":""},"","","","","","","","","","","",""]
[null,"","","",null,"","",null,"","","","","","","",null,null,{"$f":"IF(H867>0, rate1(1,$L$52,$L$51,$L$54,L867,$L$53,$L$50,P867),\"\")","v":""},null,null,null,null,null,null,null,{"$f":"IF(H867>0, rate1(1,$L$52,$L$51,$L$54,U867,$L$53,$L$50,Y867),\"\")","v":""},"","","","","","","","","","","",""]
[null,"","","",null,"","",null,"","","","","","","",null,null,{"$f":"IF(H868>0, rate1(1,$L$52,$L$51,$L$54,L868,$L$53,$L$50,P868),\"\")","v":""},null,null,null,null,null,null,null,{"$f":"IF(H868>0, rate1(1,$L$52,$L$51,$L$54,U868,$L$53,$L$50,Y868),\"\")","v":""},"","","","","","","","","","","",""]
[null,"","","",null,"","",null,"","","","","","","",null,null,{"$f":"IF(H869>0, rate1(1,$L$52,$L$51,$L$54,L869,$L$53,$L$50,P869),\"\")","v":""},null,null,null,null,null,null,null,{"$f":"IF(H869>0, rate1(1,$L$52,$L$51,$L$54,U869,$L$53,$L$50,Y869),\"\")","v":""},"","","","","","","","","","","",""]
[null,"","","",null,"","",null,"","","","","","","",null,null,{"$f":"IF(H870>0, rate1(1,$L$52,$L$51,$L$54,L870,$L$53,$L$50,P870),\"\")","v":""},null,null,null,null,null,null,null,{"$f":"IF(H870>0, rate1(1,$L$52,$L$51,$L$54,U870,$L$53,$L$50,Y870),\"\")","v":""},"","","","","","","","","","","",""]
[null,"","","",null,"","",null,"","","","","","","",null,null,{"$f":"IF(H871>0, rate1(1,$L$52,$L$51,$L$54,L871,$L$53,$L$50,P871),\"\")","v":""},null,null,null,null,null,null,null,{"$f":"IF(H871>0, rate1(1,$L$52,$L$51,$L$54,U871,$L$53,$L$50,Y871),\"\")","v":""},"","","","","","","","","","","",""]
[null,"","","",null,"","",null,"","","","","","","",null,null,{"$f":"IF(H872>0, rate1(1,$L$52,$L$51,$L$54,L872,$L$53,$L$50,P872),\"\")","v":""},null,null,null,null,null,null,null,{"$f":"IF(H872>0, rate1(1,$L$52,$L$51,$L$54,U872,$L$53,$L$50,Y872),\"\")","v":""},"","","","","","","","","","","",""]
[null,"","","",null,"","",null,"","","","","","","",null,null,{"$f":"IF(H873>0, rate1(1,$L$52,$L$51,$L$54,L873,$L$53,$L$50,P873),\"\")","v":""},null,null,null,null,null,null,null,{"$f":"IF(H873>0, rate1(1,$L$52,$L$51,$L$54,U873,$L$53,$L$50,Y873),\"\")","v":""},"","","","","","","","","","","",""]
[null,"","","",null,"","",null,"","","","","","","",null,null,{"$f":"IF(H874>0, rate1(1,$L$52,$L$51,$L$54,L874,$L$53,$L$50,P874),\"\")","v":""},null,null,null,null,null,null,null,{"$f":"IF(H874>0, rate1(1,$L$52,$L$51,$L$54,U874,$L$53,$L$50,Y874),\"\")","v":""},"","","","","","","","","","","",""]
[null,"","","",null,"","",null,"","","","","","","",null,null,{"$f":"IF(H875>0, rate1(1,$L$52,$L$51,$L$54,L875,$L$53,$L$50,P875),\"\")","v":""},null,null,null,null,null,null,null,{"$f":"IF(H875>0, rate1(1,$L$52,$L$51,$L$54,U875,$L$53,$L$50,Y875),\"\")","v":""},"","","","","","","","","","","",""]
[null,"","","",null,"","",null,"","","","","","","",null,null,{"$f":"IF(H876>0, rate1(1,$L$52,$L$51,$L$54,L876,$L$53,$L$50,P876),\"\")","v":""},null,null,null,null,null,null,null,{"$f":"IF(H876>0, rate1(1,$L$52,$L$51,$L$54,U876,$L$53,$L$50,Y876),\"\")","v":""},"","","","","","","","","","","",""]
[null,"","","",null,"","",null,"","","","","","","",null,null,{"$f":"IF(H877>0, rate1(1,$L$52,$L$51,$L$54,L877,$L$53,$L$50,P877),\"\")","v":""},null,null,null,null,null,null,null,{"$f":"IF(H877>0, rate1(1,$L$52,$L$51,$L$54,U877,$L$53,$L$50,Y877),\"\")","v":""},"","","","","","","","","","","",""]
[null,"","","",null,"","",null,"","","","","","","",null,null,{"$f":"IF(H878>0, rate1(1,$L$52,$L$51,$L$54,L878,$L$53,$L$50,P878),\"\")","v":""},null,null,null,null,null,null,null,{"$f":"IF(H878>0, rate1(1,$L$52,$L$51,$L$54,U878,$L$53,$L$50,Y878),\"\")","v":""},"","","","","","","","","","","",""]
[null,"","","",null,"","",null,"","","","","","","",null,null,{"$f":"IF(H879>0, rate1(1,$L$52,$L$51,$L$54,L879,$L$53,$L$50,P879),\"\")","v":""},null,null,null,null,null,null,null,{"$f":"IF(H879>0, rate1(1,$L$52,$L$51,$L$54,U879,$L$53,$L$50,Y879),\"\")","v":""},"","","","","","","","","","","",""]
[null,"","","",null,"","",null,"","","","","","","",null,null,{"$f":"IF(H880>0, rate1(1,$L$52,$L$51,$L$54,L880,$L$53,$L$50,P880),\"\")","v":""},null,null,null,null,null,null,null,{"$f":"IF(H880>0, rate1(1,$L$52,$L$51,$L$54,U880,$L$53,$L$50,Y880),\"\")","v":""},"","","","","","","","","","","",""]
[null,"","","",null,"","",null,"","","","","","","",null,null,{"$f":"IF(H881>0, rate1(1,$L$52,$L$51,$L$54,L881,$L$53,$L$50,P881),\"\")","v":""},null,null,null,null,null,null,null,{"$f":"IF(H881>0, rate1(1,$L$52,$L$51,$L$54,U881,$L$53,$L$50,Y881),\"\")","v":""},"","","","","","","","","","","",""]
[null,"","","",null,"","",null,"","","","","","","",null,null,{"$f":"IF(H882>0, rate1(1,$L$52,$L$51,$L$54,L882,$L$53,$L$50,P882),\"\")","v":""},null,null,null,null,null,null,null,{"$f":"IF(H882>0, rate1(1,$L$52,$L$51,$L$54,U882,$L$53,$L$50,Y882),\"\")","v":""},"","","","","","","","","","","",""]
[null,"","","",null,"","",null,"","","","","","","",null,null,{"$f":"IF(H883>0, rate1(1,$L$52,$L$51,$L$54,L883,$L$53,$L$50,P883),\"\")","v":""},null,null,null,null,null,null,null,{"$f":"IF(H883>0, rate1(1,$L$52,$L$51,$L$54,U883,$L$53,$L$50,Y883),\"\")","v":""},"","","","","","","","","","","",""]
[null,"","","",null,"","",null,"","","","","","","",null,null,{"$f":"IF(H884>0, rate1(1,$L$52,$L$51,$L$54,L884,$L$53,$L$50,P884),\"\")","v":""},null,null,null,null,null,null,null,{"$f":"IF(H884>0, rate1(1,$L$52,$L$51,$L$54,U884,$L$53,$L$50,Y884),\"\")","v":""},"","","","","","","","","","","",""]
[null,"","","",null,"","",null,"","","","","","","",null,null,{"$f":"IF(H885>0, rate1(1,$L$52,$L$51,$L$54,L885,$L$53,$L$50,P885),\"\")","v":""},null,null,null,null,null,null,null,{"$f":"IF(H885>0, rate1(1,$L$52,$L$51,$L$54,U885,$L$53,$L$50,Y885),\"\")","v":""},"","","","","","","","","","","",""]
[null,"","","",null,"","",null,"","","","","","","",null,null,{"$f":"IF(H886>0, rate1(1,$L$52,$L$51,$L$54,L886,$L$53,$L$50,P886),\"\")","v":""},null,null,null,null,null,null,null,{"$f":"IF(H886>0, rate1(1,$L$52,$L$51,$L$54,U886,$L$53,$L$50,Y886),\"\")","v":""},"","","","","","","","","","","",""]
[null,"","","",null,"","",null,"","","","","","","",null,null,{"$f":"IF(H887>0, rate1(1,$L$52,$L$51,$L$54,L887,$L$53,$L$50,P887),\"\")","v":""},null,null,null,null,null,null,null,{"$f":"IF(H887>0, rate1(1,$L$52,$L$51,$L$54,U887,$L$53,$L$50,Y887),\"\")","v":""},"","","","","","","","","","","",""]
[null,"","","",null,"","",null,"","","","","","","",null,null,{"$f":"IF(H888>0, rate1(1,$L$52,$L$51,$L$54,L888,$L$53,$L$50,P888),\"\")","v":""},null,null,null,null,null,null,null,{"$f":"IF(H888>0, rate1(1,$L$52,$L$51,$L$54,U888,$L$53,$L$50,Y888),\"\")","v":""},"","","","","","","","","","","",""]
[null,"","","",null,"","",null,"","","","","","","",null,null,{"$f":"IF(H889>0, rate1(1,$L$52,$L$51,$L$54,L889,$L$53,$L$50,P889),\"\")","v":""},null,null,null,null,null,null,null,{"$f":"IF(H889>0, rate1(1,$L$52,$L$51,$L$54,U889,$L$53,$L$50,Y889),\"\")","v":""},"","","","","","","","","","","",""]
[null,"","","",null,"","",null,"","","","","","","",null,null,{"$f":"IF(H890>0, rate1(1,$L$52,$L$51,$L$54,L890,$L$53,$L$50,P890),\"\")","v":""},null,null,null,null,null,null,null,{"$f":"IF(H890>0, rate1(1,$L$52,$L$51,$L$54,U890,$L$53,$L$50,Y890),\"\")","v":""},"","","","","","","","","","","",""]
[null,"","","",null,"","",null,"","","","","","","",null,null,{"$f":"IF(H891>0, rate1(1,$L$52,$L$51,$L$54,L891,$L$53,$L$50,P891),\"\")","v":""},null,null,null,null,null,null,null,{"$f":"IF(H891>0, rate1(1,$L$52,$L$51,$L$54,U891,$L$53,$L$50,Y891),\"\")","v":""},"","","","","","","","","","","",""]
[null,"","","",null,"","",null,"","","","","","","",null,null,{"$f":"IF(H892>0, rate1(1,$L$52,$L$51,$L$54,L892,$L$53,$L$50,P892),\"\")","v":""},null,null,null,null,null,null,null,{"$f":"IF(H892>0, rate1(1,$L$52,$L$51,$L$54,U892,$L$53,$L$50,Y892),\"\")","v":""},"","","","","","","","","","","",""]
[null,"","","",null,"","",null,"","","","","","","",null,null,{"$f":"IF(H893>0, rate1(1,$L$52,$L$51,$L$54,L893,$L$53,$L$50,P893),\"\")","v":""},null,null,null,null,null,null,null,{"$f":"IF(H893>0, rate1(1,$L$52,$L$51,$L$54,U893,$L$53,$L$50,Y893),\"\")","v":""},"","","","","","","","","","","",""]
[null,"","","",null,"","",null,"","","","","","","",null,null,{"$f":"IF(H894>0, rate1(1,$L$52,$L$51,$L$54,L894,$L$53,$L$50,P894),\"\")","v":""},null,null,null,null,null,null,null,{"$f":"IF(H894>0, rate1(1,$L$52,$L$51,$L$54,U894,$L$53,$L$50,Y894),\"\")","v":""},"","","","","","","","","","","",""]
[null,"","","",null,"","",null,"","","","","","","",null,null,{"$f":"IF(H895>0, rate1(1,$L$52,$L$51,$L$54,L895,$L$53,$L$50,P895),\"\")","v":""},null,null,null,null,null,null,null,{"$f":"IF(H895>0, rate1(1,$L$52,$L$51,$L$54,U895,$L$53,$L$50,Y895),\"\")","v":""},"","","","","","","","","","","",""]
[null,{"$f":"IF(H896>0, AF895,\"\")","v":""},{"$f":"IF(H896>0, AG895,\"\")","v":""},{"$f":"IF(H896>0, AH895,\"\")","v":""},null,{"$f":"IF(H896>0, (E896+E895)/2,\"\")","v":""},{"$f":"IF(H896>0, F896*$S$53*$C$55*(B896-C896+N896)^1.5,\"\")","v":""},null,{"$f":"IF(H896>0, (B896-C896)*B$19,\"\")","v":""},{"$f":"IF(H896>0, $B$7,\"\")","v":""},{"$f":"IF(H896>0, IF((1-S895-0.015)>0,1,-1),\"\")","v":""},{"$f":"IF(H896>0, D896+K896*H896,\"\")","v":""},{"$f":"IF(H896>0, (D896+L896)/2,\"\")","v":""},{"$f":"IF(H896>0, 2*($P$53*M896/$S$52/$S$51)^2-(B896-C896)*2,\"\")","v":""},{"$f":"IF(H896>0, wh(B896,$F$51,$F$52,$F$53),\"\")","v":""},null,null,{"$f":"IF(H896>0, rate1(1,$L$52,$L$51,$L$54,L896,$L$53,$L$50,P896),\"\")","v":""},null,null,null,null,null,null,null,{"$f":"IF(H896>0, rate1(1,$L$52,$L$51,$L$54,U896,$L$53,$L$50,Y896),\"\")","v":""},{"$f":"IF(H896>0, X896/O896/Z896,\"\")","v":""},{"$f":"IF(H896>0, W896/(1-AA896),\"\")","v":""},{"$f":"IF(H896>0, delta_z(N896,S896,H896,AE895,AB896),\"\")","v":""},{"$f":"IF(H896>0, H896/AC896*K896,\"\")","v":""},{"$f":"IF(H896>0, (AD896-AD895)/(AC896+AC895)*2,\"\")","v":""},{"$f":"IF(H896>0, B896-(AC896-N896),\"\")","v":""},{"$f":"IF(H896>0, C896-AC896,\"\")","v":""},{"$f":"IF(H896>0, $S$54*$S$53*$C$55*SQRT(AF896-AG896),\"\")","v":""},{"$f":"IF(H896>0, AC896/R896*1000000,\"\")","v":""},{"$f":"IF(H896>0, AJ895+AI896/3600,\"\")","v":""},{"$f":"IF(H896>0, AK895+AI895*G895/1000000,\"\")","v":""},{"$f":"IF(H896>0, AL895+AI895*J895/1000000,\"\")","v":""}]
[null,"","","",null,"","",null,"","","","","","","",null,null,{"$f":"IF(H897>0, rate1(1,$L$52,$L$51,$L$54,L897,$L$53,$L$50,P897),\"\")","v":""},null,null,null,null,null,null,null,{"$f":"IF(H897>0, rate1(1,$L$52,$L$51,$L$54,U897,$L$53,$L$50,Y897),\"\")","v":""},"","","","","","","","","","","",""]
[null,"","","",null,"","",null,"","","","","","","",null,null,{"$f":"IF(H898>0, rate1(1,$L$52,$L$51,$L$54,L898,$L$53,$L$50,P898),\"\")","v":""},null,null,null,null,null,null,null,{"$f":"IF(H898>0, rate1(1,$L$52,$L$51,$L$54,U898,$L$53,$L$50,Y898),\"\")","v":""},"","","","","","","","","","","",""]
[null,"","","",null,"","",null,"","","","","","","",null,null,{"$f":"IF(H899>0, rate1(1,$L$52,$L$51,$L$54,L899,$L$53,$L$50,P899),\"\")","v":""},null,null,null,null,null,null,null,{"$f":"IF(H899>0, rate1(1,$L$52,$L$51,$L$54,U899,$L$53,$L$50,Y899),\"\")","v":""},"","","","","","","","","","","",""]
[null,"","","",null,"","",null,"","","","","","","",null,null,{"$f":"IF(H900>0, rate1(1,$L$52,$L$51,$L$54,L900,$L$53,$L$50,P900),\"\")","v":""},null,null,null,null,null,null,null,{"$f":"IF(H900>0, rate1(1,$L$52,$L$51,$L$54,U900,$L$53,$L$50,Y900),\"\")","v":""},"","","","","","","","","","","",""]
[null,"","","",null,"","",null,"","","","","","","",null,null,{"$f":"IF(H901>0, rate1(1,$L$52,$L$51,$L$54,L901,$L$53,$L$50,P901),\"\")","v":""},null,null,null,null,null,null,null,{"$f":"IF(H901>0, rate1(1,$L$52,$L$51,$L$54,U901,$L$53,$L$50,Y901),\"\")","v":""},"","","","","","","","","","","",""]
[null,"","","",null,"","",null,"","","","","","","",null,null,{"$f":"IF(H902>0, rate1(1,$L$52,$L$51,$L$54,L902,$L$53,$L$50,P902),\"\")","v":""},null,null,null,null,null,null,null,{"$f":"IF(H902>0, rate1(1,$L$52,$L$51,$L$54,U902,$L$53,$L$50,Y902),\"\")","v":""},"","","","","","","","","","","",""]
[null,"","","",null,"","",null,"","","","","","","",null,null,{"$f":"IF(H903>0, rate1(1,$L$52,$L$51,$L$54,L903,$L$53,$L$50,P903),\"\")","v":""},null,null,null,null,null,null,null,{"$f":"IF(H903>0, rate1(1,$L$52,$L$51,$L$54,U903,$L$53,$L$50,Y903),\"\")","v":""},"","","","","","","","","","","",""]
[null,"","","",null,"","",null,"","","","","","","",null,null,{"$f":"IF(H904>0, rate1(1,$L$52,$L$51,$L$54,L904,$L$53,$L$50,P904),\"\")","v":""},null,null,null,null,null,null,null,{"$f":"IF(H904>0, rate1(1,$L$52,$L$51,$L$54,U904,$L$53,$L$50,Y904),\"\")","v":""},"","","","","","","","","","","",""]
[null,"","","",null,"","",null,"","","","","","","",null,null,{"$f":"IF(H905>0, rate1(1,$L$52,$L$51,$L$54,L905,$L$53,$L$50,P905),\"\")","v":""},null,null,null,null,null,null,null,{"$f":"IF(H905>0, rate1(1,$L$52,$L$51,$L$54,U905,$L$53,$L$50,Y905),\"\")","v":""},"","","","","","","","","","","",""]
[null,"","","",null,"","",null,"","","","","","","",null,null,{"$f":"IF(H906>0, rate1(1,$L$52,$L$51,$L$54,L906,$L$53,$L$50,P906),\"\")","v":""},null,null,null,null,null,null,null,{"$f":"IF(H906>0, rate1(1,$L$52,$L$51,$L$54,U906,$L$53,$L$50,Y906),\"\")","v":""},"","","","","","","","","","","",""]
[null,"","","",null,"","",null,"","","","","","","",null,null,{"$f":"IF(H907>0, rate1(1,$L$52,$L$51,$L$54,L907,$L$53,$L$50,P907),\"\")","v":""},null,null,null,null,null,null,null,{"$f":"IF(H907>0, rate1(1,$L$52,$L$51,$L$54,U907,$L$53,$L$50,Y907),\"\")","v":""},"","","","","","","","","","","",""]
[null,"","","",null,"","",null,"","","","","","","",null,null,{"$f":"IF(H908>0, rate1(1,$L$52,$L$51,$L$54,L908,$L$53,$L$50,P908),\"\")","v":""},null,null,null,null,null,null,null,{"$f":"IF(H908>0, rate1(1,$L$52,$L$51,$L$54,U908,$L$53,$L$50,Y908),\"\")","v":""},"","","","","","","","","","","",""]
[null,"","","",null,"","",null,"","","","","","","",null,null,{"$f":"IF(H909>0, rate1(1,$L$52,$L$51,$L$54,L909,$L$53,$L$50,P909),\"\")","v":""},null,null,null,null,null,null,null,{"$f":"IF(H909>0, rate1(1,$L$52,$L$51,$L$54,U909,$L$53,$L$50,Y909),\"\")","v":""},"","","","","","","","","","","",""]
[null,"","","",null,"","",null,"","","","","","","",null,null,{"$f":"IF(H910>0, rate1(1,$L$52,$L$51,$L$54,L910,$L$53,$L$50,P910),\"\")","v":""},null,null,null,null,null,null,null,{"$f":"IF(H910>0, rate1(1,$L$52,$L$51,$L$54,U910,$L$53,$L$50,Y910),\"\")","v":""},"","","","","","","","","","","",""]
[null,"","","",null,"","",null,"","","","","","","",null,null,{"$f":"IF(H911>0, rate1(1,$L$52,$L$51,$L$54,L911,$L$53,$L$50,P911),\"\")","v":""},null,null,null,null,null,null,null,{"$f":"IF(H911>0, rate1(1,$L$52,$L$51,$L$54,U911,$L$53,$L$50,Y911),\"\")","v":""},"","","","","","","","","","","",""]
[null,"","","",null,"","",null,"","","","","","","",null,null,{"$f":"IF(H912>0, rate1(1,$L$52,$L$51,$L$54,L912,$L$53,$L$50,P912),\"\")","v":""},null,null,null,null,null,null,null,{"$f":"IF(H912>0, rate1(1,$L$52,$L$51,$L$54,U912,$L$53,$L$50,Y912),\"\")","v":""},"","","","","","","","","","","",""]
[null,"","","",null,"","",null,"","","","","","","",null,null,{"$f":"IF(H913>0, rate1(1,$L$52,$L$51,$L$54,L913,$L$53,$L$50,P913),\"\")","v":""},null,null,null,null,null,null,null,{"$f":"IF(H913>0, rate1(1,$L$52,$L$51,$L$54,U913,$L$53,$L$50,Y913),\"\")","v":""},"","","","","","","","","","","",""]
[null,"","","",null,"","",null,"","","","","","","",null,null,{"$f":"IF(H914>0, rate1(1,$L$52,$L$51,$L$54,L914,$L$53,$L$50,P914),\"\")","v":""},null,null,null,null,null,null,null,{"$f":"IF(H914>0, rate1(1,$L$52,$L$51,$L$54,U914,$L$53,$L$50,Y914),\"\")","v":""},"","","","","","","","","","","",""]
[null,"","","",null,"","",null,"","","","","","","",null,null,{"$f":"IF(H915>0, rate1(1,$L$52,$L$51,$L$54,L915,$L$53,$L$50,P915),\"\")","v":""},null,null,null,null,null,null,null,{"$f":"IF(H915>0, rate1(1,$L$52,$L$51,$L$54,U915,$L$53,$L$50,Y915),\"\")","v":""},"","","","","","","","","","","",""]
[null,"","","",null,"","",null,"","","","","","","",null,null,{"$f":"IF(H916>0, rate1(1,$L$52,$L$51,$L$54,L916,$L$53,$L$50,P916),\"\")","v":""},null,null,null,null,null,null,null,{"$f":"IF(H916>0, rate1(1,$L$52,$L$51,$L$54,U916,$L$53,$L$50,Y916),\"\")","v":""},"","","","","","","","","","","",""]
[null,"","","",null,"","",null,"","","","","","","",null,null,{"$f":"IF(H917>0, rate1(1,$L$52,$L$51,$L$54,L917,$L$53,$L$50,P917),\"\")","v":""},null,null,null,null,null,null,null,{"$f":"IF(H917>0, rate1(1,$L$52,$L$51,$L$54,U917,$L$53,$L$50,Y917),\"\")","v":""},"","","","","","","","","","","",""]
[null,"","","",null,"","",null,"","","","","","","",null,null,{"$f":"IF(H918>0, rate1(1,$L$52,$L$51,$L$54,L918,$L$53,$L$50,P918),\"\")","v":""},null,null,null,null,null,null,null,{"$f":"IF(H918>0, rate1(1,$L$52,$L$51,$L$54,U918,$L$53,$L$50,Y918),\"\")","v":""},"","","","","","","","","","","",""]
[null,"","","",null,"","",null,"","","","","","","",null,null,{"$f":"IF(H919>0, rate1(1,$L$52,$L$51,$L$54,L919,$L$53,$L$50,P919),\"\")","v":""},null,null,null,null,null,null,null,{"$f":"IF(H919>0, rate1(1,$L$52,$L$51,$L$54,U919,$L$53,$L$50,Y919),\"\")","v":""},"","","","","","","","","","","",""]
[null,"","","",null,"","",null,"","","","","","","",null,null,{"$f":"IF(H920>0, rate1(1,$L$52,$L$51,$L$54,L920,$L$53,$L$50,P920),\"\")","v":""},null,null,null,null,null,null,null,{"$f":"IF(H920>0, rate1(1,$L$52,$L$51,$L$54,U920,$L$53,$L$50,Y920),\"\")","v":""},"","","","","","","","","","","",""]
[null,"","","",null,"","",null,"","","","","","","",null,null,{"$f":"IF(H921>0, rate1(1,$L$52,$L$51,$L$54,L921,$L$53,$L$50,P921),\"\")","v":""},null,null,null,null,null,null,null,{"$f":"IF(H921>0, rate1(1,$L$52,$L$51,$L$54,U921,$L$53,$L$50,Y921),\"\")","v":""},"","","","","","","","","","","",""]
[null,"","","",null,"","",null,"","","","","","","",null,null,{"$f":"IF(H922>0, rate1(1,$L$52,$L$51,$L$54,L922,$L$53,$L$50,P922),\"\")","v":""},null,null,null,null,null,null,null,{"$f":"IF(H922>0, rate1(1,$L$52,$L$51,$L$54,U922,$L$53,$L$50,Y922),\"\")","v":""},"","","","","","","","","","","",""]
[null,"","","",null,"","",null,"","","","","","","",null,null,{"$f":"IF(H923>0, rate1(1,$L$52,$L$51,$L$54,L923,$L$53,$L$50,P923),\"\")","v":""},null,null,null,null,null,null,null,{"$f":"IF(H923>0, rate1(1,$L$52,$L$51,$L$54,U923,$L$53,$L$50,Y923),\"\")","v":""},"","","","","","","","","","","",""]
[null,"","","",null,"","",null,"","","","","","","",null,null,{"$f":"IF(H924>0, rate1(1,$L$52,$L$51,$L$54,L924,$L$53,$L$50,P924),\"\")","v":""},null,null,null,null,null,null,null,{"$f":"IF(H924>0, rate1(1,$L$52,$L$51,$L$54,U924,$L$53,$L$50,Y924),\"\")","v":""},"","","","","","","","","","","",""]
[null,"","","",null,"","",null,"","","","","","","",null,null,{"$f":"IF(H925>0, rate1(1,$L$52,$L$51,$L$54,L925,$L$53,$L$50,P925),\"\")","v":""},null,null,null,null,null,null,null,{"$f":"IF(H925>0, rate1(1,$L$52,$L$51,$L$54,U925,$L$53,$L$50,Y925),\"\")","v":""},"","","","","","","","","","","",""]
[null,"","","",null,"","",null,"","","","","","","",null,null,{"$f":"IF(H926>0, rate1(1,$L$52,$L$51,$L$54,L926,$L$53,$L$50,P926),\"\")","v":""},null,null,null,null,null,null,null,{"$f":"IF(H926>0, rate1(1,$L$52,$L$51,$L$54,U926,$L$53,$L$50,Y926),\"\")","v":""},"","","","","","","","","","","",""]
[null,"","","",null,"","",null,"","","","","","","",null,null,{"$f":"IF(H927>0, rate1(1,$L$52,$L$51,$L$54,L927,$L$53,$L$50,P927),\"\")","v":""},null,null,null,null,null,null,null,{"$f":"IF(H927>0, rate1(1,$L$52,$L$51,$L$54,U927,$L$53,$L$50,Y927),\"\")","v":""},"","","","","","","","","","","",""]
[null,"","","",null,"","",null,"","","","","","","",null,null,{"$f":"IF(H928>0, rate1(1,$L$52,$L$51,$L$54,L928,$L$53,$L$50,P928),\"\")","v":""},null,null,null,null,null,null,null,{"$f":"IF(H928>0, rate1(1,$L$52,$L$51,$L$54,U928,$L$53,$L$50,Y928),\"\")","v":""},"","","","","","","","","","","",""]
[null,"","","",null,"","",null,"","","","","","","",null,null,{"$f":"IF(H929>0, rate1(1,$L$52,$L$51,$L$54,L929,$L$53,$L$50,P929),\"\")","v":""},null,null,null,null,null,null,null,{"$f":"IF(H929>0, rate1(1,$L$52,$L$51,$L$54,U929,$L$53,$L$50,Y929),\"\")","v":""},"","","","","","","","","","","",""]
[null,"","","",null,"","",null,"","","","","","","",null,null,{"$f":"IF(H930>0, rate1(1,$L$52,$L$51,$L$54,L930,$L$53,$L$50,P930),\"\")","v":""},null,null,null,null,null,null,null,{"$f":"IF(H930>0, rate1(1,$L$52,$L$51,$L$54,U930,$L$53,$L$50,Y930),\"\")","v":""},"","","","","","","","","","","",""]
[null,"","","",null,"","",null,"","","","","","","",null,null,{"$f":"IF(H931>0, rate1(1,$L$52,$L$51,$L$54,L931,$L$53,$L$50,P931),\"\")","v":""},null,null,null,null,null,null,null,{"$f":"IF(H931>0, rate1(1,$L$52,$L$51,$L$54,U931,$L$53,$L$50,Y931),\"\")","v":""},"","","","","","","","","","","",""]
[null,"","","",null,"","",null,"","","","","","","",null,null,{"$f":"IF(H932>0, rate1(1,$L$52,$L$51,$L$54,L932,$L$53,$L$50,P932),\"\")","v":""},null,null,null,null,null,null,null,{"$f":"IF(H932>0, rate1(1,$L$52,$L$51,$L$54,U932,$L$53,$L$50,Y932),\"\")","v":""},"","","","","","","","","","","",""]
[null,"","","",null,"","",null,"","","","","","","",null,null,{"$f":"IF(H933>0, rate1(1,$L$52,$L$51,$L$54,L933,$L$53,$L$50,P933),\"\")","v":""},null,null,null,null,null,null,null,{"$f":"IF(H933>0, rate1(1,$L$52,$L$51,$L$54,U933,$L$53,$L$50,Y933),\"\")","v":""},"","","","","","","","","","","",""]
[null,"","","",null,"","",null,"","","","","","","",null,null,{"$f":"IF(H934>0, rate1(1,$L$52,$L$51,$L$54,L934,$L$53,$L$50,P934),\"\")","v":""},null,null,null,null,null,null,null,{"$f":"IF(H934>0, rate1(1,$L$52,$L$51,$L$54,U934,$L$53,$L$50,Y934),\"\")","v":""},"","","","","","","","","","","",""]
[null,"","","",null,"","",null,"","","","","","","",null,null,{"$f":"IF(H935>0, rate1(1,$L$52,$L$51,$L$54,L935,$L$53,$L$50,P935),\"\")","v":""},null,null,null,null,null,null,null,{"$f":"IF(H935>0, rate1(1,$L$52,$L$51,$L$54,U935,$L$53,$L$50,Y935),\"\")","v":""},"","","","","","","","","","","",""]
[null,"","","",null,"","",null,"","","","","","","",null,null,{"$f":"IF(H936>0, rate1(1,$L$52,$L$51,$L$54,L936,$L$53,$L$50,P936),\"\")","v":""},null,null,null,null,null,null,null,{"$f":"IF(H936>0, rate1(1,$L$52,$L$51,$L$54,U936,$L$53,$L$50,Y936),\"\")","v":""},"","","","","","","","","","","",""]
[null,"","","",null,"","",null,"","","","","","","",null,null,{"$f":"IF(H937>0, rate1(1,$L$52,$L$51,$L$54,L937,$L$53,$L$50,P937),\"\")","v":""},null,null,null,null,null,null,null,{"$f":"IF(H937>0, rate1(1,$L$52,$L$51,$L$54,U937,$L$53,$L$50,Y937),\"\")","v":""},"","","","","","","","","","","",""]
[null,"","","",null,"","",null,"","","","","","","",null,null,{"$f":"IF(H938>0, rate1(1,$L$52,$L$51,$L$54,L938,$L$53,$L$50,P938),\"\")","v":""},null,null,null,null,null,null,null,{"$f":"IF(H938>0, rate1(1,$L$52,$L$51,$L$54,U938,$L$53,$L$50,Y938),\"\")","v":""},"","","","","","","","","","","",""]
[null,"","","",null,"","",null,"","","","","","","",null,null,{"$f":"IF(H939>0, rate1(1,$L$52,$L$51,$L$54,L939,$L$53,$L$50,P939),\"\")","v":""},null,null,null,null,null,null,null,{"$f":"IF(H939>0, rate1(1,$L$52,$L$51,$L$54,U939,$L$53,$L$50,Y939),\"\")","v":""},"","","","","","","","","","","",""]
[null,"","","",null,"","",null,"","","","","","","",null,null,{"$f":"IF(H940>0, rate1(1,$L$52,$L$51,$L$54,L940,$L$53,$L$50,P940),\"\")","v":""},null,null,null,null,null,null,null,{"$f":"IF(H940>0, rate1(1,$L$52,$L$51,$L$54,U940,$L$53,$L$50,Y940),\"\")","v":""},"","","","","","","","","","","",""]
[null,"","","",null,"","",null,"","","","","","","",null,null,{"$f":"IF(H941>0, rate1(1,$L$52,$L$51,$L$54,L941,$L$53,$L$50,P941),\"\")","v":""},null,null,null,null,null,null,null,{"$f":"IF(H941>0, rate1(1,$L$52,$L$51,$L$54,U941,$L$53,$L$50,Y941),\"\")","v":""},"","","","","","","","","","","",""]
[null,"","","",null,"","",null,"","","","","","","",null,null,{"$f":"IF(H942>0, rate1(1,$L$52,$L$51,$L$54,L942,$L$53,$L$50,P942),\"\")","v":""},null,null,null,null,null,null,null,{"$f":"IF(H942>0, rate1(1,$L$52,$L$51,$L$54,U942,$L$53,$L$50,Y942),\"\")","v":""},"","","","","","","","","","","",""]
[null,"","","",null,"","",null,"","","","","","","",null,null,{"$f":"IF(H943>0, rate1(1,$L$52,$L$51,$L$54,L943,$L$53,$L$50,P943),\"\")","v":""},null,null,null,null,null,null,null,{"$f":"IF(H943>0, rate1(1,$L$52,$L$51,$L$54,U943,$L$53,$L$50,Y943),\"\")","v":""},"","","","","","","","","","","",""]
[null,"","","",null,"","",null,"","","","","","","",null,null,{"$f":"IF(H944>0, rate1(1,$L$52,$L$51,$L$54,L944,$L$53,$L$50,P944),\"\")","v":""},null,null,null,null,null,null,null,{"$f":"IF(H944>0, rate1(1,$L$52,$L$51,$L$54,U944,$L$53,$L$50,Y944),\"\")","v":""},"","","","","","","","","","","",""]
[null,"","","",null,"","",null,"","","","","","","",null,null,{"$f":"IF(H945>0, rate1(1,$L$52,$L$51,$L$54,L945,$L$53,$L$50,P945),\"\")","v":""},null,null,null,null,null,null,null,{"$f":"IF(H945>0, rate1(1,$L$52,$L$51,$L$54,U945,$L$53,$L$50,Y945),\"\")","v":""},"","","","","","","","","","","",""]
[null,"","","",null,"","",null,"","","","","","","",null,null,{"$f":"IF(H946>0, rate1(1,$L$52,$L$51,$L$54,L946,$L$53,$L$50,P946),\"\")","v":""},null,null,null,null,null,null,null,{"$f":"IF(H946>0, rate1(1,$L$52,$L$51,$L$54,U946,$L$53,$L$50,Y946),\"\")","v":""},"","","","","","","","","","","",""]
[null,"","","",null,"","",null,"","","","","","","",null,null,{"$f":"IF(H947>0, rate1(1,$L$52,$L$51,$L$54,L947,$L$53,$L$50,P947),\"\")","v":""},null,null,null,null,null,null,null,{"$f":"IF(H947>0, rate1(1,$L$52,$L$51,$L$54,U947,$L$53,$L$50,Y947),\"\")","v":""},"","","","","","","","","","","",""]
[null,"","","",null,"","",null,"","","","","","","",null,null,{"$f":"IF(H948>0, rate1(1,$L$52,$L$51,$L$54,L948,$L$53,$L$50,P948),\"\")","v":""},null,null,null,null,null,null,null,{"$f":"IF(H948>0, rate1(1,$L$52,$L$51,$L$54,U948,$L$53,$L$50,Y948),\"\")","v":""},"","","","","","","","","","","",""]
[null,"","","",null,"","",null,"","","","","","","",null,null,{"$f":"IF(H949>0, rate1(1,$L$52,$L$51,$L$54,L949,$L$53,$L$50,P949),\"\")","v":""},null,null,null,null,null,null,null,{"$f":"IF(H949>0, rate1(1,$L$52,$L$51,$L$54,U949,$L$53,$L$50,Y949),\"\")","v":""},"","","","","","","","","","","",""]
[null,"","","",null,"","",null,"","","","","","","",null,null,{"$f":"IF(H950>0, rate1(1,$L$52,$L$51,$L$54,L950,$L$53,$L$50,P950),\"\")","v":""},null,null,null,null,null,null,null,{"$f":"IF(H950>0, rate1(1,$L$52,$L$51,$L$54,U950,$L$53,$L$50,Y950),\"\")","v":""},"","","","","","","","","","","",""]
[null,"","","",null,"","",null,"","","","","","","",null,null,{"$f":"IF(H951>0, rate1(1,$L$52,$L$51,$L$54,L951,$L$53,$L$50,P951),\"\")","v":""},null,null,null,null,null,null,null,{"$f":"IF(H951>0, rate1(1,$L$52,$L$51,$L$54,U951,$L$53,$L$50,Y951),\"\")","v":""},"","","","","","","","","","","",""]
[null,"","","",null,"","",null,"","","","","","","",null,null,{"$f":"IF(H952>0, rate1(1,$L$52,$L$51,$L$54,L952,$L$53,$L$50,P952),\"\")","v":""},null,null,null,null,null,null,null,{"$f":"IF(H952>0, rate1(1,$L$52,$L$51,$L$54,U952,$L$53,$L$50,Y952),\"\")","v":""},"","","","","","","","","","","",""]
[null,"","","",null,"","",null,"","","","","","","",null,null,{"$f":"IF(H953>0, rate1(1,$L$52,$L$51,$L$54,L953,$L$53,$L$50,P953),\"\")","v":""},null,null,null,null,null,null,null,{"$f":"IF(H953>0, rate1(1,$L$52,$L$51,$L$54,U953,$L$53,$L$50,Y953),\"\")","v":""},"","","","","","","","","","","",""]
[null,"","","",null,"","",null,"","","","","","","",null,null,{"$f":"IF(H954>0, rate1(1,$L$52,$L$51,$L$54,L954,$L$53,$L$50,P954),\"\")","v":""},null,null,null,null,null,null,null,{"$f":"IF(H954>0, rate1(1,$L$52,$L$51,$L$54,U954,$L$53,$L$50,Y954),\"\")","v":""},"","","","","","","","","","","",""]
[null,"","","",null,"","",null,"","","","","","","",null,null,{"$f":"IF(H955>0, rate1(1,$L$52,$L$51,$L$54,L955,$L$53,$L$50,P955),\"\")","v":""},null,null,null,null,null,null,null,{"$f":"IF(H955>0, rate1(1,$L$52,$L$51,$L$54,U955,$L$53,$L$50,Y955),\"\")","v":""},"","","","","","","","","","","",""]
[null,"","","",null,"","",null,"","","","","","","",null,null,{"$f":"IF(H956>0, rate1(1,$L$52,$L$51,$L$54,L956,$L$53,$L$50,P956),\"\")","v":""},null,null,null,null,null,null,null,{"$f":"IF(H956>0, rate1(1,$L$52,$L$51,$L$54,U956,$L$53,$L$50,Y956),\"\")","v":""},"","","","","","","","","","","",""]
[null,"","","",null,"","",null,"","","","","","","",null,null,{"$f":"IF(H957>0, rate1(1,$L$52,$L$51,$L$54,L957,$L$53,$L$50,P957),\"\")","v":""},null,null,null,null,null,null,null,{"$f":"IF(H957>0, rate1(1,$L$52,$L$51,$L$54,U957,$L$53,$L$50,Y957),\"\")","v":""},"","","","","","","","","","","",""]
[null,"","","",null,"","",null,"","","","","","","",null,null,{"$f":"IF(H958>0, rate1(1,$L$52,$L$51,$L$54,L958,$L$53,$L$50,P958),\"\")","v":""},null,null,null,null,null,null,null,{"$f":"IF(H958>0, rate1(1,$L$52,$L$51,$L$54,U958,$L$53,$L$50,Y958),\"\")","v":""},"","","","","","","","","","","",""]
[null,"","","",null,"","",null,"","","","","","","",null,null,{"$f":"IF(H959>0, rate1(1,$L$52,$L$51,$L$54,L959,$L$53,$L$50,P959),\"\")","v":""},null,null,null,null,null,null,null,{"$f":"IF(H959>0, rate1(1,$L$52,$L$51,$L$54,U959,$L$53,$L$50,Y959),\"\")","v":""},"","","","","","","","","","","",""]
[null,{"$f":"IF(H960>0, AF959,\"\")","v":""},{"$f":"IF(H960>0, AG959,\"\")","v":""},{"$f":"IF(H960>0, AH959,\"\")","v":""},null,{"$f":"IF(H960>0, (E960+E959)/2,\"\")","v":""},{"$f":"IF(H960>0, F960*$S$53*$C$55*(B960-C960+N960)^1.5,\"\")","v":""},null,{"$f":"IF(H960>0, (B960-C960)*B$19,\"\")","v":""},{"$f":"IF(H960>0, $B$7,\"\")","v":""},{"$f":"IF(H960>0, IF((1-S959-0.015)>0,1,-1),\"\")","v":""},{"$f":"IF(H960>0, D960+K960*H960,\"\")","v":""},{"$f":"IF(H960>0, (D960+L960)/2,\"\")","v":""},{"$f":"IF(H960>0, 2*($P$53*M960/$S$52/$S$51)^2-(B960-C960)*2,\"\")","v":""},{"$f":"IF(H960>0, wh(B960,$F$51,$F$52,$F$53),\"\")","v":""},null,null,{"$f":"IF(H960>0, rate1(1,$L$52,$L$51,$L$54,L960,$L$53,$L$50,P960),\"\")","v":""},null,null,null,null,null,null,null,{"$f":"IF(H960>0, rate1(1,$L$52,$L$51,$L$54,U960,$L$53,$L$50,Y960),\"\")","v":""},{"$f":"IF(H960>0, X960/O960/Z960,\"\")","v":""},{"$f":"IF(H960>0, W960/(1-AA960),\"\")","v":""},{"$f":"IF(H960>0, delta_z(N960,S960,H960,AE959,AB960),\"\")","v":""},{"$f":"IF(H960>0, H960/AC960*K960,\"\")","v":""},{"$f":"IF(H960>0, (AD960-AD959)/(AC960+AC959)*2,\"\")","v":""},{"$f":"IF(H960>0, B960-(AC960-N960),\"\")","v":""},{"$f":"IF(H960>0, C960-AC960,\"\")","v":""},{"$f":"IF(H960>0, $S$54*$S$53*$C$55*SQRT(AF960-AG960),\"\")","v":""},{"$f":"IF(H960>0, AC960/R960*1000000,\"\")","v":""},{"$f":"IF(H960>0, AJ959+AI960/3600,\"\")","v":""},{"$f":"IF(H960>0, AK959+AI959*G959/1000000,\"\")","v":""},{"$f":"IF(H960>0, AL959+AI959*J959/1000000,\"\")","v":""}]
[null,"","","",null,"","",null,"","","","","","","",null,null,{"$f":"IF(H961>0, rate1(1,$L$52,$L$51,$L$54,L961,$L$53,$L$50,P961),\"\")","v":""},null,null,null,null,null,null,null,{"$f":"IF(H961>0, rate1(1,$L$52,$L$51,$L$54,U961,$L$53,$L$50,Y961),\"\")","v":""},"","","","","","","","","","","",""]
[null,"","","",null,"","",null,"","","","","","","",null,null,{"$f":"IF(H962>0, rate1(1,$L$52,$L$51,$L$54,L962,$L$53,$L$50,P962),\"\")","v":""},null,null,null,null,null,null,null,{"$f":"IF(H962>0, rate1(1,$L$52,$L$51,$L$54,U962,$L$53,$L$50,Y962),\"\")","v":""},"","","","","","","","","","","",""]
[null,"","","",null,"","",null,"","","","","","","",null,null,{"$f":"IF(H963>0, rate1(1,$L$52,$L$51,$L$54,L963,$L$53,$L$50,P963),\"\")","v":""},null,null,null,null,null,null,null,{"$f":"IF(H963>0, rate1(1,$L$52,$L$51,$L$54,U963,$L$53,$L$50,Y963),\"\")","v":""},"","","","","","","","","","","",""]
[null,"","","",null,"","",null,"","","","","","","",null,null,{"$f":"IF(H964>0, rate1(1,$L$52,$L$51,$L$54,L964,$L$53,$L$50,P964),\"\")","v":""},null,null,null,null,null,null,null,{"$f":"IF(H964>0, rate1(1,$L$52,$L$51,$L$54,U964,$L$53,$L$50,Y964),\"\")","v":""},"","","","","","","","","","","",""]
[null,"","","",null,"","",null,"","","","","","","",null,null,{"$f":"IF(H965>0, rate1(1,$L$52,$L$51,$L$54,L965,$L$53,$L$50,P965),\"\")","v":""},null,null,null,null,null,null,null,{"$f":"IF(H965>0, rate1(1,$L$52,$L$51,$L$54,U965,$L$53,$L$50,Y965),\"\")","v":""},"","","","","","","","","","","",""]
[null,"","","",null,"","",null,"","","","","","","",null,null,{"$f":"IF(H966>0, rate1(1,$L$52,$L$51,$L$54,L966,$L$53,$L$50,P966),\"\")","v":""},null,null,null,null,null,null,null,{"$f":"IF(H966>0, rate1(1,$L$52,$L$51,$L$54,U966,$L$53,$L$50,Y966),\"\")","v":""},"","","","","","","","","","","",""]
[null,"","","",null,"","",null,"","","","","","","",null,null,{"$f":"IF(H967>0, rate1(1,$L$52,$L$51,$L$54,L967,$L$53,$L$50,P967),\"\")","v":""},null,null,null,null,null,null,null,{"$f":"IF(H967>0, rate1(1,$L$52,$L$51,$L$54,U967,$L$53,$L$50,Y967),\"\")","v":""},"","","","","","","","","","","",""]
[null,"","","",null,"","",null,"","","","","","","",null,null,{"$f":"IF(H968>0, rate1(1,$L$52,$L$51,$L$54,L968,$L$53,$L$50,P968),\"\")","v":""},null,null,null,null,null,null,null,{"$f":"IF(H968>0, rate1(1,$L$52,$L$51,$L$54,U968,$L$53,$L$50,Y968),\"\")","v":""},"","","","","","","","","","","",""]
[null,"","","",null,"","",null,"","","","","","","",null,null,{"$f":"IF(H969>0, rate1(1,$L$52,$L$51,$L$54,L969,$L$53,$L$50,P969),\"\")","v":""},null,null,null,null,null,null,null,{"$f":"IF(H969>0, rate1(1,$L$52,$L$51,$L$54,U969,$L$53,$L$50,Y969),\"\")","v":""},"","","","","","","","","","","",""]
[null,"","","",null,"","",null,"","","","","","","",null,null,{"$f":"IF(H970>0, rate1(1,$L$52,$L$51,$L$54,L970,$L$53,$L$50,P970),\"\")","v":""},null,null,null,null,null,null,null,{"$f":"IF(H970>0, rate1(1,$L$52,$L$51,$L$54,U970,$L$53,$L$50,Y970),\"\")","v":""},"","","","","","","","","","","",""]
[null,"","","",null,"","",null,"","","","","","","",null,null,{"$f":"IF(H971>0, rate1(1,$L$52,$L$51,$L$54,L971,$L$53,$L$50,P971),\"\")","v":""},null,null,null,null,null,null,null,{"$f":"IF(H971>0, rate1(1,$L$52,$L$51,$L$54,U971,$L$53,$L$50,Y971),\"\")","v":""},"","","","","","","","","","","",""]
[null,"","","",null,"","",null,"","","","","","","",null,null,{"$f":"IF(H972>0, rate1(1,$L$52,$L$51,$L$54,L972,$L$53,$L$50,P972),\"\")","v":""},null,null,null,null,null,null,null,{"$f":"IF(H972>0, rate1(1,$L$52,$L$51,$L$54,U972,$L$53,$L$50,Y972),\"\")","v":""},"","","","","","","","","","","",""]
[null,"","","",null,"","",null,"","","","","","","",null,null,{"$f":"IF(H973>0, rate1(1,$L$52,$L$51,$L$54,L973,$L$53,$L$50,P973),\"\")","v":""},null,null,null,null,null,null,null,{"$f":"IF(H973>0, rate1(1,$L$52,$L$51,$L$54,U973,$L$53,$L$50,Y973),\"\")","v":""},"","","","","","","","","","","",""]
[null,"","","",null,"","",null,"","","","","","","",null,null,{"$f":"IF(H974>0, rate1(1,$L$52,$L$51,$L$54,L974,$L$53,$L$50,P974),\"\")","v":""},null,null,null,null,null,null,null,{"$f":"IF(H974>0, rate1(1,$L$52,$L$51,$L$54,U974,$L$53,$L$50,Y974),\"\")","v":""},"","","","","","","","","","","",""]
[null,"","","",null,"","",null,"","","","","","","",null,null,{"$f":"IF(H975>0, rate1(1,$L$52,$L$51,$L$54,L975,$L$53,$L$50,P975),\"\")","v":""},null,null,null,null,null,null,null,{"$f":"IF(H975>0, rate1(1,$L$52,$L$51,$L$54,U975,$L$53,$L$50,Y975),\"\")","v":""},"","","","","","","","","","","",""]
[null,"","","",null,"","",null,"","","","","","","",null,null,{"$f":"IF(H976>0, rate1(1,$L$52,$L$51,$L$54,L976,$L$53,$L$50,P976),\"\")","v":""},null,null,null,null,null,null,null,{"$f":"IF(H976>0, rate1(1,$L$52,$L$51,$L$54,U976,$L$53,$L$50,Y976),\"\")","v":""},"","","","","","","","","","","",""]
[null,"","","",null,"","",null,"","","","","","","",null,null,{"$f":"IF(H977>0, rate1(1,$L$52,$L$51,$L$54,L977,$L$53,$L$50,P977),\"\")","v":""},null,null,null,null,null,null,null,{"$f":"IF(H977>0, rate1(1,$L$52,$L$51,$L$54,U977,$L$53,$L$50,Y977),\"\")","v":""},"","","","","","","","","","","",""]
[null,"","","",null,"","",null,"","","","","","","",null,null,{"$f":"IF(H978>0, rate1(1,$L$52,$L$51,$L$54,L978,$L$53,$L$50,P978),\"\")","v":""},null,null,null,null,null,null,null,{"$f":"IF(H978>0, rate1(1,$L$52,$L$51,$L$54,U978,$L$53,$L$50,Y978),\"\")","v":""},"","","","","","","","","","","",""]
[null,"","","",null,"","",null,"","","","","","","",null,null,{"$f":"IF(H979>0, rate1(1,$L$52,$L$51,$L$54,L979,$L$53,$L$50,P979),\"\")","v":""},null,null,null,null,null,null,null,{"$f":"IF(H979>0, rate1(1,$L$52,$L$51,$L$54,U979,$L$53,$L$50,Y979),\"\")","v":""},"","","","","","","","","","","",""]
[null,"","","",null,"","",null,"","","","","","","",null,null,{"$f":"IF(H980>0, rate1(1,$L$52,$L$51,$L$54,L980,$L$53,$L$50,P980),\"\")","v":""},null,null,null,null,null,null,null,{"$f":"IF(H980>0, rate1(1,$L$52,$L$51,$L$54,U980,$L$53,$L$50,Y980),\"\")","v":""},"","","","","","","","","","","",""]
[null,"","","",null,"","",null,"","","","","","","",null,null,{"$f":"IF(H981>0, rate1(1,$L$52,$L$51,$L$54,L981,$L$53,$L$50,P981),\"\")","v":""},null,null,null,null,null,null,null,{"$f":"IF(H981>0, rate1(1,$L$52,$L$51,$L$54,U981,$L$53,$L$50,Y981),\"\")","v":""},"","","","","","","","","","","",""]
[null,"","","",null,"","",null,"","","","","","","",null,null,{"$f":"IF(H982>0, rate1(1,$L$52,$L$51,$L$54,L982,$L$53,$L$50,P982),\"\")","v":""},null,null,null,null,null,null,null,{"$f":"IF(H982>0, rate1(1,$L$52,$L$51,$L$54,U982,$L$53,$L$50,Y982),\"\")","v":""},"","","","","","","","","","","",""]
[null,"","","",null,"","",null,"","","","","","","",null,null,{"$f":"IF(H983>0, rate1(1,$L$52,$L$51,$L$54,L983,$L$53,$L$50,P983),\"\")","v":""},null,null,null,null,null,null,null,{"$f":"IF(H983>0, rate1(1,$L$52,$L$51,$L$54,U983,$L$53,$L$50,Y983),\"\")","v":""},"","","","","","","","","","","",""]
[null,"","","",null,"","",null,"","","","","","","",null,null,{"$f":"IF(H984>0, rate1(1,$L$52,$L$51,$L$54,L984,$L$53,$L$50,P984),\"\")","v":""},null,null,null,null,null,null,null,{"$f":"IF(H984>0, rate1(1,$L$52,$L$51,$L$54,U984,$L$53,$L$50,Y984),\"\")","v":""},"","","","","","","","","","","",""]
[null,"","","",null,"","",null,"","","","","","","",null,null,{"$f":"IF(H985>0, rate1(1,$L$52,$L$51,$L$54,L985,$L$53,$L$50,P985),\"\")","v":""},null,null,null,null,null,null,null,{"$f":"IF(H985>0, rate1(1,$L$52,$L$51,$L$54,U985,$L$53,$L$50,Y985),\"\")","v":""},"","","","","","","","","","","",""]
[null,"","","",null,"","",null,"","","","","","","",null,null,{"$f":"IF(H986>0, rate1(1,$L$52,$L$51,$L$54,L986,$L$53,$L$50,P986),\"\")","v":""},null,null,null,null,null,null,null,{"$f":"IF(H986>0, rate1(1,$L$52,$L$51,$L$54,U986,$L$53,$L$50,Y986),\"\")","v":""},"","","","","","","","","","","",""]
[null,"","","",null,"","",null,"","","","","","","",null,null,{"$f":"IF(H987>0, rate1(1,$L$52,$L$51,$L$54,L987,$L$53,$L$50,P987),\"\")","v":""},null,null,null,null,null,null,null,{"$f":"IF(H987>0, rate1(1,$L$52,$L$51,$L$54,U987,$L$53,$L$50,Y987),\"\")","v":""},"","","","","","","","","","","",""]
[null,"","","",null,"","",null,"","","","","","","",null,null,{"$f":"IF(H988>0, rate1(1,$L$52,$L$51,$L$54,L988,$L$53,$L$50,P988),\"\")","v":""},null,null,null,null,null,null,null,{"$f":"IF(H988>0, rate1(1,$L$52,$L$51,$L$54,U988,$L$53,$L$50,Y988),\"\")","v":""},"","","","","","","","","","","",""]
[null,"","","",null,"","",null,"","","","","","","",null,null,{"$f":"IF(H989>0, rate1(1,$L$52,$L$51,$L$54,L989,$L$53,$L$50,P989),\"\")","v":""},null,null,null,null,null,null,null,{"$f":"IF(H989>0, rate1(1,$L$52,$L$51,$L$54,U989,$L$53,$L$50,Y989),\"\")","v":""},"","","","","","","","","","","",""]
[null,"","","",null,"","",null,"","","","","","","",null,null,{"$f":"IF(H990>0, rate1(1,$L$52,$L$51,$L$54,L990,$L$53,$L$50,P990),\"\")","v":""},null,null,null,null,null,null,null,{"$f":"IF(H990>0, rate1(1,$L$52,$L$51,$L$54,U990,$L$53,$L$50,Y990),\"\")","v":""},"","","","","","","","","","","",""]
[null,"","","",null,"","",null,"","","","","","","",null,null,{"$f":"IF(H991>0, rate1(1,$L$52,$L$51,$L$54,L991,$L$53,$L$50,P991),\"\")","v":""},null,null,null,null,null,null,null,{"$f":"IF(H991>0, rate1(1,$L$52,$L$51,$L$54,U991,$L$53,$L$50,Y991),\"\")","v":""},"","","","","","","","","","","",""]
[null,"","","",null,"","",null,"","","","","","","",null,null,{"$f":"IF(H992>0, rate1(1,$L$52,$L$51,$L$54,L992,$L$53,$L$50,P992),\"\")","v":""},null,null,null,null,null,null,null,{"$f":"IF(H992>0, rate1(1,$L$52,$L$51,$L$54,U992,$L$53,$L$50,Y992),\"\")","v":""},"","","","","","","","","","","",""]
[null,"","","",null,"","",null,"","","","","","","",null,null,{"$f":"IF(H993>0, rate1(1,$L$52,$L$51,$L$54,L993,$L$53,$L$50,P993),\"\")","v":""},null,null,null,null,null,null,null,{"$f":"IF(H993>0, rate1(1,$L$52,$L$51,$L$54,U993,$L$53,$L$50,Y993),\"\")","v":""},"","","","","","","","","","","",""]
[null,"","","",null,"","",null,"","","","","","","",null,null,{"$f":"IF(H994>0, rate1(1,$L$52,$L$51,$L$54,L994,$L$53,$L$50,P994),\"\")","v":""},null,null,null,null,null,null,null,{"$f":"IF(H994>0, rate1(1,$L$52,$L$51,$L$54,U994,$L$53,$L$50,Y994),\"\")","v":""},"","","","","","","","","","","",""]
[null,"","","",null,"","",null,"","","","","","","",null,null,{"$f":"IF(H995>0, rate1(1,$L$52,$L$51,$L$54,L995,$L$53,$L$50,P995),\"\")","v":""},null,null,null,null,null,null,null,{"$f":"IF(H995>0, rate1(1,$L$52,$L$51,$L$54,U995,$L$53,$L$50,Y995),\"\")","v":""},"","","","","","","","","","","",""]
[null,"","","",null,"","",null,"","","","","","","",null,null,{"$f":"IF(H996>0, rate1(1,$L$52,$L$51,$L$54,L996,$L$53,$L$50,P996),\"\")","v":""},null,null,null,null,null,null,null,{"$f":"IF(H996>0, rate1(1,$L$52,$L$51,$L$54,U996,$L$53,$L$50,Y996),\"\")","v":""},"","","","","","","","","","","",""]
[null,"","","",null,"","",null,"","","","","","","",null,null,{"$f":"IF(H997>0, rate1(1,$L$52,$L$51,$L$54,L997,$L$53,$L$50,P997),\"\")","v":""},null,null,null,null,null,null,null,{"$f":"IF(H997>0, rate1(1,$L$52,$L$51,$L$54,U997,$L$53,$L$50,Y997),\"\")","v":""},"","","","","","","","","","","",""]
[null,"","","",null,"","",null,"","","","","","","",null,null,{"$f":"IF(H998>0, rate1(1,$L$52,$L$51,$L$54,L998,$L$53,$L$50,P998),\"\")","v":""},null,null,null,null,null,null,null,{"$f":"IF(H998>0, rate1(1,$L$52,$L$51,$L$54,U998,$L$53,$L$50,Y998),\"\")","v":""},"","","","","","","","","","","",""]
[null,"","","",null,"","",null,"","","","","","","",null,null,{"$f":"IF(H999>0, rate1(1,$L$52,$L$51,$L$54,L999,$L$53,$L$50,P999),\"\")","v":""},null,null,null,null,null,null,null,{"$f":"IF(H999>0, rate1(1,$L$52,$L$51,$L$54,U999,$L$53,$L$50,Y999),\"\")","v":""},"","","","","","","","","","","",""]
[null,"","","",null,"","",null,"","","","","","","",null,null,null,null,null,null,null,null,null,null,null,"","","","","","","","","","","",""]

{"sheet":"W.H curve","index":1,"n_rows":56,"n_cols":27,"rows_kept":56,"cut":false,"hidden":false,"merged":[[11,1,11,4],[8,12,8,14],[7,14,7,15],[5,1,5,2],[5,3,5,4],[5,14,5,15],[6,1,6,2],[6,3,6,4],[6,14,6,15],[0,0,0,18],[1,0,1,18],[2,0,2,18],[10,12,10,15],[10,1,10,4],[3,1,3,4],[4,1,4,2],[4,3,4,4],[5,6,7,10]]}
["The Breach Evolution of Avalanche Lake Spreadsheet(V1.0)"]
[" Copy Right：Chen ZuYu（Email：chenzuyu@cashq.ac.cn）"]
["                            Disclaimer: The author assumes No responsibility and makes no guarantees, expressed or implied, about its quality, reliability, or any other characteristic."]
[null,null,null,null,null,null,null,null,null,null,null,null,null,null,null,null,null,null,null,null,null,null,null,null,null,"H","W (1000000m3)"]
[null,null,null,null,null,null,null,null,null,null,null,null,null,null,null,null,null,null,null,null,null,null,null,null,null,667,0]
[null,"water elevation",null,"Reservoir capacity",null,null,"W=a1(H-Hr)2+b1(H-Hr)+c1",null,null,null,null,null,"a1",{"$f":"'W.H curve'!G47","v":6.3133333333333375E-2},"W~H curve coefficient",null,null,null,null,null,null,null,null,null,null,670,214]
[null,"H",null,"W (1000000m3)",null,null,null,null,null,null,null,null,"b1",{"$f":"G46","v":1.9633333333333303},"W~H curve coefficient",null,null,null,null,null,null,null,null,null,null,680,1280]
[null,"h1",700,"W1",44,null,null,null,null,null,null,null,"c1",{"$f":"G45","v":44.000000000000028},"W~H curve coefficient",null,null,null,null,null,null,null,null,null,null,690,2345]
[null,"h2",720,"W2",108.52,null,null,null,null,null,null,null,null,null,null,null,null,null,null,null,null,null,null,null,null,700,4302]
[null,"h3",750,"W3",300,null,null,null,null,null,null,null,null,null,null,null,null,null,null,null,null,null,null,null,null,710,7130]
[null,"Elevations of dead Water Hr(m)",null,null,null,null,null,null,null,null,null,null,null,null,null,null,null,null,null,null,null,null,null,null,null,720,11039]
[null,700,null,null,null,null,null,null,null,null,null,null,null,null,null,null,null,null,null,null,null,null,null,null,null,730,16000]
[null,null,null,null,null,null,null,null,null,null,null,null,null,null,null,null,null,null,null,null,null,null,null,null,null,740,22395]
[null,null,null,null,null,null,null,null,null,null,null,null,null,null,null,null,null,null,null,null,null,null,null,null,null,750,30190]
[null,null,null,null,null,null,null,null,null,null,null,null,null,null,null,null,null,null,null,null,null,null,null,null,null,752,31611]
[]
[]
[]
[]
[]
[]
[]
[]
[]
[]
[]
[]
[]
[null,"h","h2","W",null,"SUMMARY OUTPUT"]
[null,{"$f":"C8-$B$12","v":0},{"$f":"IF(B30<>\"\",B30^2,\"\")","v":0},{"$f":"E8","v":44}]
[null,{"$f":"C9-$B$12","v":20},{"$f":"IF(B31<>\"\",B31^2,\"\")","v":400},{"$f":"E9","v":108.52},null,"回归统计"]
[null,{"$f":"C10-$B$12","v":50},{"$f":"IF(B32<>\"\",B32^2,\"\")","v":2500},{"$f":"E10","v":300},null,"Multiple R",1]
[null,null,null,null,null,"R Square",1]
[null,null,null,null,null,"Adjusted R Square",65535]
[null,null,null,null,null,"标准误差",0]
[null,null,null,null,null,"观测值",3]
[]
[null,null,null,null,null,"方差分析"]
[null,null,null,null,null,null,"df","SS","MS","F","Significance F"]
[null,null,null,null,null,"回归分析",2,35454.473599999998,17727.236799999999,{"$error":"#NUM!"},{"$error":"#NUM!"}]
[null,null,null,null,null,"残差",0,0,65535]
[null,null,null,null,null,"总计",2,35454.473599999998]
[]
[null,null,null,null,null,null,"Coefficients","标准误差","t Stat","P-value","Lower 95%","Upper 95%"]
[null,null,null,null,null,"Intercept",44.000000000000028,0,65535,{"$error":"#NUM!"},44.000000000000028,44.000000000000028]
[null,null,null,null,null,"X Variable 1",1.9633333333333303,0,65535,{"$error":"#NUM!"},1.9633333333333303,1.9633333333333303]
[null,null,null,null,null,"X Variable 2",6.3133333333333375E-2,0,65535,{"$error":"#NUM!"},6.3133333333333375E-2,6.3133333333333375E-2]
[]
[]
[]
[null,null,null,null,null,"RESIDUAL OUTPUT"]
[]
[null,null,null,null,null,"观测值","预测 Y","残差","标准残差"]
[null,null,null,null,null,1,44.000000000000028,-2.8421709430404007E-14,-1.2649110640673518]
[null,null,null,null,null,2,108.51999999999998,1.4210854715202004E-14,0.63245553203367588]
[null,null,null,null,null,3,300,0,0]

{"sheet":"erosion model","index":2,"n_rows":55,"n_cols":6,"rows_kept":55,"cut":false,"hidden":false,"merged":[[16,3,16,4],[17,3,17,4],[18,3,18,4],[8,12,8,14],[10,1,10,4],[10,12,10,15],[11,1,11,4],[7,3,7,4],[8,3,8,4],[5,3,5,4],[5,6,7,10],[5,14,5,15],[6,3,6,4],[6,14,6,15],[7,14,7,15],[0,0,0,18],[1,0,1,18],[2,0,2,18],[3,1,3,4],[4,1,4,2],[4,3,4,4]]}
["The Breach Evolution of Avalanche Lake Spreadsheet(V1.0)"]
[" Copy Right：Chen ZuYu（Email：chenzuyu@cashq.ac.cn）"]
["                            Disclaimer: The author assumes No responsibility and makes no guarantees, expressed or implied, about its quality, reliability, or any other characteristic."]
[]
[]
[null,"Vc",2.7,"The incipient velocity,m/s"]
[null,"a2",1.1000000000000001,"Erosion coefficient"]
[null,"b2",6.9999999999999999E-4,"Erosion coefficient"]
[null,"zc",0,"Erosion coefficient"]
[]
[]
[]
[]
[]
[]
[]
[null,"Vc",2.6,"The incipient velocity,m/s"]
[null,"a2",8,"Erosion coefficient"]
[null,"b2",1.3,"Erosion coefficient"]
[]
[]
[]
[]
[]
[]
[]
[]
[]
[null,1,{"$f":"B29/($C$7+$C$8*B29)","v":0.90851276460434272},{"$f":"1/$C$8","v":1428.5714285714287},{"$f":"B29/$C$7","v":0.90909090909090906},{"$f":"$C$18*B29^$C$19","v":8}]
[null,200,{"$f":"B30/($C$7+$C$8*B30)","v":161.29032258064515},{"$f":"1/$C$8","v":1428.5714285714287},{"$f":"B30/$C$7","v":181.81818181818181},{"$f":"$C$18*B30^$C$19","v":7842.0387030318398}]
[null,400,289.85507246376807,1428.5714285714287,363.63636363636363,19309.364276944529]
[null,600,394.73684210526318,1428.5714285714287,545.45454545454538,32710.457057681077]
[null,800,481.92771084337346,1428.5714285714287,727.27272727272725,47545.23190960427]
[null,1000,555.55555555555554,1428.5714285714287,909.09090909090901,63546.258777942523]
[null,1200,618.5567010309278,1428.5714285714287,1090.9090909090908,80542.592929045626]
[null,1400,673.07692307692309,1428.5714285714287,1272.7272727272725,98413.897907476538]
[null,1600,720.72072072072081,1428.5714285714287,1454.5454545454545,117070.09329339561]
[null,1800,762.71186440677957,1428.5714285714287,1636.3636363636363,136440.79574725006]
[null,2000,800,1428.5714285714287,1818.181818181818,156469.24296686845]
[null,2200,833.33333333333326,1428.5714285714287,1999.9999999999998,177108.52740368294]
[null,2400,863.30935251798553,1428.5714285714287,2181.8181818181815,198319.12664181678]
[null,2600,890.41095890410963,1428.5714285714287,2363.6363636363635,220067.21092723263]
[null,2800,915.03267973856202,1428.5714285714287,2545.454545454545,242323.44120857364]
[null,3000,937.5,1428.5714285714287,2727.272727272727,265062.09005683055]
[null,3200,958.08383233532936,1428.5714285714287,2909.090909090909,288260.38265586458]
[null,3400,977.0114942528736,1428.5714285714287,3090.9090909090905,311897.99226544978]
[null,3600,994.47513812154693,1428.5714285714287,3272.7272727272725,335956.64687312313]
[null,3800,1010.6382978723403,1428.5714285714287,3454.545454545454,360419.81764064363]
[null,4000,1025.6410256410256,1428.5714285714287,3636.363636363636,385272.46867793723]
[null,4200,1039.6039603960396,1428.5714285714287,3818.181818181818,410500.85357739322]
[null,4400,1052.6315789473686,1428.5714285714287,3999.9999999999995,436092.34813757968]
[null,4600,1064.8148148148148,1428.5714285714287,4181.8181818181811,462035.31147176196]
[null,4800,1076.2331838565021,1428.5714285714287,4363.6363636363631,488318.96964903094]
[null,5000,1086.9565217391305,1428.5714285714287,4545.454545454545,514933.31741808995]
[null,5200,1097.0464135021095,1428.5714285714287,4727.272727272727,541869.03458691912]

{"sheet":"calculation2","index":3,"n_rows":208,"n_cols":38,"rows_kept":208,"cut":false,"hidden":false,"merged":[[28,4,28,6],[55,3,55,6],[18,2,18,5],[20,0,20,5],[23,2,23,5],[24,2,24,5],[25,2,25,5],[22,2,22,5],[7,15,8,15],[7,13,7,14],[15,0,15,5],[16,2,16,5],[17,2,17,5],[13,0,13,5],[9,0,9,5],[10,2,10,5],[11,2,11,5],[12,2,12,5],[7,11,7,12],[7,2,7,5],[7,8,8,8],[7,9,8,9],[7,10,8,10],[6,2,6,5],[0,0,0,17],[1,0,1,17],[2,0,2,17],[4,0,4,5],[4,7,4,11],[4,13,4,16],[5,2,5,5],[5,7,5,9],[5,10,5,11],[5,13,5,14],[5,15,5,16]]}
["Dam Breach Analysis DB-IWHR 2014"]
[" Copy Right：Chen ZuYu（Email：chenzuyu@cashq.ac.cn）"]
["                            Disclaimer: The author assumes No responsibility and makes no guarantees, expressed or implied, about its quality, reliability, or any other characteristic."]
[]
[]
["Z0",740,"Elevations of channel bed,m"]
["Qin",80,"Inflow flow,m3/s"]
["Hr",700,"Elevations of dead Water,m",null,null,null,null,null,"Stage","Bottom fh (m)","Breach  B (m)","Center",null,"Toe of Slope"]
[null,null,null,null,null,null,null,null,null,null,null,"x","y","x","y"]
[null,null,null,null,null,null,null,null,1,{"$f":"B6","v":740},16,"-","-","-","-"]
["a1",6.3133333333333375E-2,"W~H curve coefficient",null,null,null,null,null,{"$f":"IF(J11=\"\",\"\",I10+1)","v":2},736.5,{"$f":"K10","v":16},"-","-","-","-"]
["b1",1.9633333333333303,"W~H curve coefficient",null,null,null,null,null,3,735.5,{"$f":"IF(J12=\"\",\"\",K11+(-N12)*2)","v":22.6},13.423,778.3,-3.3,{"$f":"IF(J12=\"\",\"\",J11)","v":736.5}]
["c1",44.000000000000028,"W~H curve coefficient",null,null,null,null,null,4,733,{"$f":"IF(J13=\"\",\"\",K12+(-N13)*2)","v":31.6},6.0030000000000001,794.1,-4.5,{"$f":"IF(J13=\"\",\"\",J12)","v":735.5}]
["   Note: obtained by water storage capacity curve worksheet",null,null,null,null,null,null,null,5,731,{"$f":"IF(J14=\"\",\"\",K13+(-N14)*2)","v":43.8},-4.3769999999999998,788.6,-6.1,733]
[null,null,null,null,null,null,null,null,6,727,{"$f":"IF(J15=\"\",\"\",K14+(-N15)*2)","v":62},-8.6839999999999993,814.6,-9.1,731]
[null,null,null,null,null,null,null,null,7,724,{"$f":"IF(J16=\"\",\"\",K15+(-N16)*2)","v":88.2},-19.376999999999999,826.6,-13.1,727]
["mq",0.36,"Broad-crested weir flow coefficient"]
["mb",0.9,"Lateral shrinkage coefficient",null,null,null,null,null,{"$f":"IF(J18=\"\",\"\",I17+1)","v":""},null,{"$f":"IF(J18=\"\",\"\",$P$11-N18)","v":""},null,null,null,""]
["m",0.8,"Ratio of tailwater",null,null,null,null,null,"",null,"",null,null,null,""]
[null,null,null,null,null,null,null,null,"",null,"",null,null,null,""]
[null,null,null,null,null,null,null,null,"",null,"",null,null,null,""]
["Vc",2.6,"The incipient velocity,m/s",null,null,null,null,null,"",null,"",null,null,null,""]
["a2",1.1000000000000001,"Erosion coefficient",null,null,null,null,null,"",null,"",null,null,null,""]
["b2",6.9999999999999999E-4,"Erosion coefficient",null,null,null,null,null,"",null,"",null,null,null,""]
["zc",0,"Erosion coefficient",null,null,null,null,null,"",null,"",null,null,null,""]
[null,null,null,null,null,null,null,null,"Do not modify the cells filling with pink"]
[]
[]
[null,null,null,"表  1 "]
[null,"Qp",{"$f":"MAX(G56:G329)","v":86.897131283814673},"m3/s","The peak flow"]
[null,"tp",{"$f":"INDEX(AJ62:AJ208,MATCH(MAX(G62:G208),G62:G208,0))","v":0.23857112591761506},"h","The peak time"]
[null,"Error",{"$f":"IF(Calculation!H13>0,err(Calculation!H13,B8,B11,B12),\"\")","v":1.3325403491977741E-3},null,"error"]
[]
[]
[]
[]
[]
[]
[]
[]
[]
[]
[]
[]
[]
[]
[]
[null,null,null,"图  1",null,null,null,null,null,null,null,"图  2"]
[]
[null,null,null,null,null,null,null,null,null,null,"Tc",30]
[null,"Z0",{"$f":"B6","v":740},null,"Hr",{"$f":"B8","v":700},"Ho",742.5,null,null,"Vc",{"$f":"B22","v":2.6},null,null,"mq",{"$f":"B17","v":0.36},null,"c2",{"$f":"1-27.8*(P53-0.67)^3","v":0.93892339999999996},{"$f":"(S54*S53*C55)^2","v":2.8341735671955877},null,null,"Methods",5]
[null,"B",{"$f":"K10","v":16},null,"a1*2",{"$f":"B11*2","v":0.12626666666666675},"H1",704.5,null,null,"a2",{"$f":"B23","v":1.1000000000000001},null,null,"mb",{"$f":"B18","v":0.9},null,"c1",{"$f":"P51*P52*4.427","v":1.434348}]
[null,"Qin",{"$f":"B7","v":80},null,"b1",{"$f":"B12","v":1.9633333333333303},null,null,null,null,"b2",{"$f":"B24","v":6.9999999999999999E-4},{"$f":"1/L53","v":1428.5714285714287},null,"m",{"$f":"B19","v":0.8},null,"c2*mq*mb",{"$f":"P51*P52*S51","v":0.30421118159999999}]
[null,"g",9.8000000000000007,null,"c1",{"$f":"B13","v":44.000000000000028},null,null,null,null,"zc",{"$f":"B25","v":0},null,null,"s/dz",{"$f":"B26","v":0},null,"m-1",{"$f":"1/P53","v":1.25}]
[null,"Sqrt(2g)",{"$f":"SQRT(2*C54)","v":4.4271887242357311},null,"Dq",{"$f":"(H51-[1]Calculation!F50)^2*0.063+[1]Calculation!F52*(H51-[1]Calculation!F50)+44","v":271.67901639555089},{"$f":"($H$52-[1]Calculation!$F$50)^2*0.063+[1]Calculation!$F$52*($H$52-[1]Calculation!$F$50)+44","v":57.334189971293625},{"$f":"F55-G55","v":214.34482642425726},null,null,"n",2.5000000000000001E-2,null,null,null,null,null,"mmqmb",{"$f":"S53*S54","v":0.38026397699999998}]
[null,null,null,null,null,null,null,null,null,null,null,null,null,null,null,null,null,null,null,null,-7.9]
["Symbols","Ho","zo","Vo","B","B平均","Q","dV","h","Qin","Index","V1","Va1","s1","E1","Tau1","A1","D1","A/DE_1","dz1","V2","Va2","s2","A2","Tau2","D2","A/DE_2","dz2","dz","dv/dz","d2z/dz2","H1","z1","V1","dt","T","SumQout","SumQin"]
["Unit","m","m","m/s","m","m","m3","m/s","m",null,null,"m/s","m/s"]
["The formula",null,null,"eq. (22)",null,null,"eq.(21)",null,null,null,null,null,null,"eq.(24)",null,null,null,null,null,null,null,null,null,null,null,null,null,null,"eq.(21)",null,null,null,null,null,"eq.(21)"]
["Initial value",null,null,null,null,null,null,null,null,null,null,{"$f":"(1-$P$54)*O61*R61+C53","v":2376.0216774909909},{"$f":"M61*(B61-C61+N61/2)/$S$54","v":5.1941244583715536},{"$f":"L60/M60","v":457.44411720082542},null,{"$f":"((1-$P$54)*O61*R61+C53)/(M61*(B61-C61+N61/2)/$S$54)","v":457.44411720082542}]
[null,{"$f":"(D61/$C$55/$S$54/$S$53)^2+C61","v":742.38517502182799},{"$f":"B6","v":740},{"$f":"$L$51","v":2.6},{"$f":"K10","v":16},{"$f":"E61","v":16},{"$f":"F61*$S$53*$C$55*(B61-C61+N61)^1.5","v":86.897131283814673},0.08,{"$f":"(B61-C61)*B$19","v":1.9081400174623924},{"$f":"B$7","v":80},1,{"$f":"D61+H61*K61","v":2.68},{"$f":"(D61+L61)/2","v":2.64},{"$f":"2*($P$53*M61/$S$52/$S$51)^2-(B61-C61)*2","v":0.14832842071102093},{"$f":"wh(B61,$F$51,$F$52,$F$53)","v":7.3151680994228148},{"$f":"$C$54*$L$55*$L$55*M61*M61/(($B$19*(B61-C61))^0.333)*1000","v":34.424745400577798},{"$f":"M61/$S$54*(B61-C61+N61/2)*E61-$C$53","v":3.105991333944857},{"$f":"rate1(1,$L$52,$L$51,$L$54,L61,$L$53,$L$50,P61)","v":313.87134872159027},{"$f":"Q61/O61/R61","v":1.3527709099589039E-3},{"$f":"N61/(1-S61)","v":0.14852934689076996},{"$f":"L61-K61*H61","v":2.6},{"$f":"(D61+U61)/2","v":2.6},{"$f":"2*($P$53*V61/$S$52/$S$51)^2-(B61-C61)*2","v":4.0673135563107365E-4},{"$f":"V61/$S$54*(B61-C61+W61/2)*F61-$C$53","v":-0.61460726380677499},{"$f":"$C$54*$L$55*$L$55*V61*V61/(($B$19*(B61-C61))^0.333)*1000","v":33.389474131643986},{"$f":"rate1(1,$L$52,$L$51,$L$54,U61,$L$53,$L$50,Y61)","v":253.46350359299683},{"$f":"X61/O61/Z61","v":-3.3148046886443609E-4},-1.0000000000000001E-5,{"$f":"delta_z(N61,S61,H61,AE61,AB61)","v":0.14852934689076996},{"$f":"H61/AC61*K61","v":0.53861409663931825},{"$f":"AD61","v":0.53861409663931825},{"$f":"B61-(AC61-N61)","v":742.3849740956482},{"$f":"C61-AC61","v":739.85147065310923},{"$f":"$S$54*$S$53*$C$55*SQRT(AF61-AG61)","v":2.6796246918632058},{"$f":"AC61/R61*1000000","v":473.21728311849921},{"$f":"AI61/3600","v":0.13144924531069421}]
[null,{"$f":"AF61","v":742.3849740956482},739.85147065310923,2.6796246918632058,{"$f":"CalBreachWidth(C62,B62,I62,E61)","v":0},{"$f":"(E62+E61)/2","v":8},{"$f":"F62*$S$53*$C$55*(B62-C62+N62)^1.5","v":47.439241226449859},{"$f":"dv(S61)","v":0.08},{"$f":"(B62-C62)*B$19","v":2.0268027540311779},{"$f":"B$7","v":80},{"$f":"IF((1-S61-0.015)>0,1,-1)","v":1},{"$f":"D62+K62*H62","v":2.7596246918632059},2.7196246918632059,{"$f":"2*($P$53*M62/$S$52/$S$51)^2-(B62-C62)*2","v":0.15284921778699001},{"$f":"wh(B62,$F$51,$F$52,$F$53)","v":7.3151427291438473},{"$f":"$C$54*$L$55*$L$55*M62*M62/(($B$19*(B62-C62))^0.333)*1000","v":35.80600099257088},{"$f":"M62/$S$54*(B62-C62+N62/2)*E62-$C$53","v":-80},{"$f":"rate1(1,$L$52,$L$51,$L$54,L62,$L$53,$L$50,P62)","v":385.41712967055707},-2.8375019586214877E-2,0.14863178789435358,{"$f":"D62-K62*H62","v":2.5996246918632058},2.6396246918632058,{"$f":"2*($P$53*V62/$S$52/$S$51)^2-(B62-C62)*2","v":-0.14972682134188098},{"$f":"V62/$S$54*(B62-C62+W62/2)*F62-$C$53","v":-38.464723606257941},{"$f":"$C$54*$L$55*$L$55*V62*V62/(($B$19*(B62-C62))^0.333)*1000","v":33.730457578370206},{"$f":"rate1(1,$L$52,$L$51,$L$54,U62,$L$53,$L$50,Y62)","v":274.07022205174758},-1.9185713734378752E-2,{"$f":"W62/(1-AA62)","v":-0.14690828111519522},{"$f":"delta_z(N62,S62,H62,AE61,AB62)","v":0.14863178789435358},0.53824286939792065,{"$f":"(AD62-AD61)/(AC62+AC61)*2","v":-2.4984912085897881E-3},742.38919152554081,739.70283886521486,{"$f":"$S$54*$S$53*$C$55*SQRT(AF62-AG62)","v":2.7592734011078641},385.63877018491507,{"$f":"AJ61+AI62/3600","v":0.23857112591761506},{"$f":"AK61+AI62*G61/1000000","v":3.3510902840887404E-2},{"$f":"AL61+AI62*J62/1000000","v":3.0851101614793205E-2}]
[null,742.38919152554081,739.70283886521486,2.7592734011078641,{"$f":"CalBreachWidth(C63,B63,I63,E62)","v":0},0,0,0.08,2.1490821282607615,{"$f":"IF(H63>0, $B$7,\"\")","v":80},1,2.8392734011078642,2.7992734011078642,0.15737214175985148,7.3156752499582867,37.201159365964941,-80,448.92737133319218,-2.4359001555826813E-2,0.15362987148141424,2.679273401107864,2.7192734011078641,-0.15419761616783223,-80,35.105211108989174,350.30427435566543,-3.1216925790793201E-2,-0.14952975684488995,0.15362987148141424,0.52073206355365731,-0.11586521347382756,742.3929337958192,739.54920899373349,2.83894516791886,342.21542568272304,0.33363096638503814,{"$f":"AK62+AI63*G62/1000000","v":4.9745342971262325E-2},{"$f":"AL62+AI63*J63/1000000","v":5.8228335669411047E-2}]
[null,742.3929337958192,739.54920899373349,2.83894516791886,0,0,0,0.08,2.2749798416685736,{"$f":"IF(H64>0, $B$7,\"\")","v":80},1,2.9189451679188601,2.87894516791886,0.16189713880245904,7.316147773952105,38.609960278159527,-80,505.66596219812089,-2.1624386599272613E-2,0.15847031543694193,2.7589451679188599,2.7989451679188599,-0.158668941522639,-80,36.493990038791459,417.73295369675441,-2.6176331457448757E-2,-0.15462151743188821,0.15847031543694193,0.50482640726384731,-0.10192660534337225,742.39636061918475,739.39073867829654,2.9186391105870642,313.3893267169384,0.42068355713974326,4.9745342971262325E-2,8.3299481806766121E-2]
[null,742.39636061918475,739.39073867829654,2.9186391105870642,0,0,0,0.08,2.4044975527105636,80,1,2.9986391105870642,2.9586391105870642,0.1664241594882041,7.3165804675157275,40.032155585020995,-80,556.64589405333447,-1.9642774172617356E-2,0.1632181031472007,2.8386391105870641,2.8786391105870641,-0.16314074727267514,-80,37.896528753878783,477.77917097668598,-2.2885195201483327E-2,-0.15949076987133479,0.1632181031472007,0.49014170890008935,-9.1297650244234391E-2,742.39956667552576,739.22752057514936,2.9983544172783598,293.21711502925797,0.50213275575898164,4.9745342971262325E-2,0.10675685100910676]
[null,742.39956667552576,739.22752057514936,2.9983544172783598,0,0,0,0.08,2.5376368803011249,80,1,3.0783544172783599,3.0383544172783599,0.17095315832710245,7.3169852855630531,41.46750836955156,-80,602.68850404492514,-1.8141153483935784E-2,0.16790712932300675,2.9183544172783598,2.9583544172783598,-0.16761298723779117,-80,39.31257410569529,531.57597035921356,-2.0568018993586804E-2,-0.16423499866582086,0.16790712932300675,0.47645386067021722,-8.2674751952668976E-2,742.40261270452982,739.05961344582636,3.0780903388581344,278.59686752958333,0.57952077451719919,4.9745342971262325E-2,0.12904460041147342]
[null,742.40261270452982,739.05961344582636,3.0780903388581344,0,0,0,0.08,2.6743994069627663,80,{"$f":"IF((1-S66-0.015)>0,1,-1)","v":1},3.1580903388581345,3.1180903388581345,0.17548409336134263,7.3173698974919654,42.915792154450827,-80,644.46669456542861,-1.6964243564154602E-2,0.17255679781456576,2.9980903388581344,3.0380903388581344,-0.17208561878552686,-80,40.741884506230868,580.0366858357736,-1.8848618100492015E-2,-0.16890204857553581,0.17255679781456576,0.46361546466555426,-7.5417070540194461E-2,742.4055400000766,738.88705664801182,3.1578461826124018,267.75130393809229,0.6538961367222248,4.9745342971262325E-2,0.15046470472652079]
[null,742.4055400000766,738.88705664801182,3.1578461826124018,0,0,0,0.08,2.8147866816518219,80,1,3.2378461826124019,3.1978461826124018,0.18001692581138418,7.3177395173430053,44.376790188549528,-80,682.53696757957198,-1.6017209723968969E-2,0.17717901241091288,3.0778461826124017,3.1178461826124018,-0.17655860247601662,-80,42.184229110880757,623.90567010653217,-1.7522420900930601E-2,-0.17351814451389563,0.17717901241091288,0.45152074679400689,-6.9164881135562101E-2,742.40837791347712,738.70987763560095,3.2376213067346526,259.58888796782554,0.72600416115773192,4.9745342971262325E-2,0.17123181576394683]
[null,742.40837791347712,738.70987763560095,3.2376213067346526,0,0,0,0.08,2.9588002223009426,80,1,3.3176213067346527,3.2776213067346527,0.18455161976525147,7.3180978512083783,45.850294798525184,-80,717.36351048344613,-1.5238860476764428E-2,0.18178147719698648,3.1576213067346526,3.1976213067346526,-0.18103190175016248,-80,43.639387078455265,663.79559454399953,-1.6468627597459234E-2,-0.17809885798251565,0.18178147719698648,0.4400888431185343,-6.3694495669759724E-2,742.41114805604536,738.52809615840397,3.3174151154692573,253.40217970451295,0.79639365552009667,4.9745342971262325E-2,0.19150399014030786]
[null,742.41114805604536,738.52809615840397,3.3174151154692573,0,0,0,0.08,3.1064415181131153,80,1,3.3974151154692573,3.3574151154692573,0.18908814190481937,7.3184476278766617,47.336106798492111,-80,749.33654253618431,-1.4587944607150904E-2,0.18636939548698703,3.2374151154692572,3.2774151154692572,-0.18550548265496314,-80,45.107146899321528,700.21529168226209,-1.5611312841182766E-2,-0.18265401370531184,0.18636939548698703,0.42925502758088779,-5.8855302765757261E-2,742.41386680246319,738.34172676291701,3.3972270548199437,248.71254090479317,0.86548047243809478,4.9745342971262325E-2,0.21140099341269131]
[null,742.41386680246319,738.34172676291701,3.3972270548199437,0,0,0,0.08,3.2577120316369474,80,1,3.4772270548199438,3.4372270548199437,0.19362646126394267,7.3187909149243522,48.834034951053368,-80,778.78645611808224,-1.4035641167521975E-2,0.19094640602672364,3.3172270548199436,3.3572270548199437,-0.18997931360079168,-80,46.587305783905627,733.59082388222248,-1.4900359830501954E-2,-0.18719011355215209,0.19094640602672364,0.41896572794778714,-5.453945788552813E-2,742.41654685770038,738.15078035689032,3.477056608746008,245.18454902067751,0.93358729161050524,4.9745342971262325E-2,0.23101575733434551]
[null,742.41654685770038,738.15078035689032,3.477056608746008,0,0,0,0.08,3.4126132006480479,80,1,3.557056608746008,3.517056608746008,0.19816654901413067,7.3191293165656353,50.343895474237414,-80,805.99483563495608,-1.3561205822156802E-2,0.1955151281203453,3.3970566087460079,3.4370566087460079,-0.1944533651462006,-80,48.079669104825236,764.28162549867534,-1.4301353706507531E-2,-0.19171162932556482,0.1955151281203453,0.40917549843384832,-5.0665997254014529E-2,742.41919827859419,737.95526522877003,3.5569032957816589,242.57615492823857,1.0009695568683492,4.9745342971262325E-2,0.2504218497286046]
[null,742.41919827859419,737.95526522877003,3.5569032957816589,0,{"$f":"(E73+E72)/2","v":0},0,0.08,3.5711464398593309,80,1,3.6369032957816589,3.5969032957816589,0.20270837827401422,7.3194641026438276,51.865511589471687,-80,831.20312957870931,-1.3149327195479498E-2,0.20007749384302081,3.4769032957816588,3.5169032957816588,-0.19892760980672719,-80,49.584049886824161,792.5930117553429,-1.3789879237682181E-2,-0.19622173576669605,0.20007749384302081,0.39984507234365579,-4.717189134562054E-2,742.42182916302522,737.75518773492706,3.6367666660229485,240.70830188576045,1.0678329740588381,4.9745342971262325E-2,0.26967851387946545]
[null,742.42182916302522,737.75518773492706,3.6367666660229485,0,0,0,0.08,3.733313142478528,80,1,3.7167666660229486,3.6767666660229485,0.20725192393960157,7.3197962956513187,53.398713106340104,-80,854.61953869489719,-1.2788457785548579E-2,0.20463495841249588,3.5567666660229484,3.5967666660229485,-0.20340202188443257,-80,51.100268339417759,818.78597363724305,-1.3348135221166872E-2,-0.20072274750872202,0.20463495841249588,0.39094004573128138,-4.4006684562066259E-2,742.42444612855229,737.55055277651456,3.7166462984356774,239.44568213944314,1.1343456635420168,4.9745342971262325E-2,0.28883416845062093]
[null,742.42444612855229,737.55055277651456,3.7166462984356774,0,0,0,0.08,3.8991146816301807,80,1,3.7966462984356775,3.7566462984356774,0.21179716253255165,7.3201267311652032,54.943336040406201,-80,876.42453401663067,-1.2469724562251662E-2,0.20918863783716954,3.6366462984356773,3.6766462984356774,-0.20787657731558795,-80,52.628151427812199,843.08492158074557,-1.2962837146104095E-2,-0.20521639066370309,0.20918863783716954,0.38242994852460033,-4.1129105656637313E-2,742.42705465324764,737.34136413867736,3.7965417984439997,238.68414189464036,1.2006468140683058,4.9745342971262325E-2,0.30792889980219218]
[null,742.42705465324764,737.34136413867736,3.7965417984439997,0,0,0,0.08,4.0685524116562197,80,1,3.8765417984439998,3.8365417984439998,0.21634407206432726,7.3204561008834022,56.499222260822442,-80,896.77531238335621,-1.2186197221272831E-2,0.21373940156292462,3.7165417984439997,3.7565417984439997,-0.2123512535342833,-80,54.167532478199831,865.68386202446186,-1.2623870328731307E-2,-0.20970397771222501,0.21373940156292462,0.3742875642722715,-3.8504821122186464E-2,742.42965932374909,737.12762473711439,3.8764527957653327,238.34220078479888,1.2668529809529721,4.9745342971262325E-2,0.32699627586497609]
[null,742.42965932374909,737.12762473711439,3.8764527957653327,0,0,0,0.08,4.2416276693077632,80,1,3.9564527957653328,3.9164527957653328,0.22089263191420727,7.3207849839453862,58.066219164834713,-80,915.809420599634,-1.1932384212081175E-2,0.21828793638835906,3.7964527957653327,3.8364527957653327,-0.21682602934994044,-80,55.718250814005891,886.75136461015563,-1.232339786298777E-2,-0.21418652360269422,0.21828793638835906,0.36648841582189362,-3.6104883951845329E-2,742.43226401927495,736.90933680072601,3.9563789424619662,238.35519866724366,1.3330627583605397,4.9745342971262325E-2,0.34606469175835558]
[null,742.43226401927495,736.90933680072601,3.9563789424619662,0,0,0,0.08,4.4183417748391554,80,1,4.0363789424619663,3.9963789424619662,0.22544282271951488,7.3211138701671175,59.644179376624137,-80,933.64772366114789,-1.1703877903700054E-2,0.22283479152678889,3.8763789424619661,3.9163789424619662,-0.22130088483702259,-80,57.280151420066481,906.43458743343422,-1.2055253753873365E-2,-0.21866482488597586,0.22283479152678889,0.35901036571473854,-3.3904623969379856E-2,742.43487205046767,736.68650200919922,4.0363199111842061,238.67116673618446,1.3993603046761465,4.9745342971262325E-2,0.36515838509725035]
[null,742.43487205046767,736.68650200919922,4.0363199111842061,0,0,0,0.08,4.5986960330147673,80,1,4.1163199111842061,4.0763199111842061,0.22999462627663725,7.3214431775723856,61.232960468225187,-80,950.39685141807092,-1.1497099820108363E-2,0.22738041099429857,3.956319911184206,3.996319911184206,-0.22577580123570229,-80,58.853084632074989,924.86256225574118,-1.1814520249170599E-2,-0.2231395149183098,0.22738041099429857,0.35183329843662725,-3.1882829535393703E-2,742.43748626575007,736.45912159820489,4.1162753935824776,239.24785804480322,1.4658180430219252,4.9745342971262325E-2,0.38429821374083462]
[null,742.43748626575007,736.45912159820489,4.1162753935824776,0,0,0,0.08,4.7826917340361437,80,1,4.1962753935824777,4.1562753935824777,0.23454802545158948,7.321773265822042,62.832424700493661,-80,966.15122749015302,-1.1309114499063128E-2,0.23192515729255475,4.0362753935824776,4.0762753935824776,-0.23025076086195817,-80,60.436905848921214,942.14889360629206,-1.1597227284610545E-2,-0.22761110316604066,0.23192515729255475,0.34493886275168717,-3.0021128246519542E-2,742.44010913390912,736.22719644091228,4.196245098869416,240.05057458245429,1.5324987581837179,4.9745342971262325E-2,0.40350225970743098]
[null,742.44010913390912,736.22719644091228,4.196245098869416,0,0,0,0.08,4.9703301543974705,80,1,4.2762450988694161,4.236245098869416,0.23910300409899676,7.3221044466415917,64.442438782331379,-80,980.9947612922316,-1.113749133629019E-2,0.23646932899600537,4.1162450988694159,4.156245098869416,-0.23472574702622317,-80,62.031475265823723,958.3939901766604,-1.1400134774242834E-2,-0.23208000370557288,0.23646932899600537,0.33831025926136671,-2.8303507766898987E-2,742.44274280901209,735.99072711191627,4.2762287525154656,241.05055228277899,1.5994572449289344,4.9745342971262325E-2,0.42278630389005328]
[null,742.44274280901209,735.99072711191627,4.2762287525154656,0,0,0,0.08,5.1616125576766541,80,1,4.3562287525154657,4.3162287525154657,0.24365954698862424,7.3224369920179271,66.062873646565805,-80,995.00226662913963,-1.0980200578166498E-2,0.24101317399616579,4.1962287525154656,4.2362287525154656,-0.23920074395960356,-80,63.63665762638658,973.68692034895776,-1.122057227532927E-2,-0.23654655622895629,0.24101317399616579,0.33193206277293663,-2.6715938064581411E-2,742.44538918200453,735.74971393792009,4.3562260950632474,242.22374368318597,1.6667416181742638,4.9745342971262325E-2,0.44216420338470819]
[null,742.44538918200453,735.74971393792009,4.3562260950632474,0,0,0,0.08,5.3565401952675531,80,1,4.4362260950632475,4.3962260950632475,0.24821763973861088,7.3227711407144396,67.693604241043928,-80,1008.2406570203888,-1.0835534005502405E-2,0.24555689960268029,4.2762260950632474,4.3162260950632474,-0.24367573674672371,-80,65.252321991904452,988.10696365648801,-1.1056319130114428E-2,-0.24101104175519691,0.24555689960268029,0.32579007199326437,-2.524606881078361E-2,742.44804992214051,735.50415703831743,4.4362368810478241,243.54988850416356,1.7343943649809759,4.9745342971262325E-2,0.46164819446504129]
[null,742.44804992214051,735.50415703831743,4.4362368810478241,0,0,0,0.08,5.5551143070584663,80,1,4.5162368810478242,4.4762368810478241,0.25277726875461859,7.3231071035022755,69.334509333648171,-80,1020.7699576711259,-1.070204373045943E-2,0.25010068033663824,4.356236881047824,4.3962368810478241,-0.24815071126467814,-80,66.87834152641679,1001.7249147227533,-1.0905513644690697E-2,-0.24547369453946535,0.25010068033663824,0.31987118104724516,-2.3882983678949667E-2,742.45072651055852,735.25405635798074,4.5162608780119626,245.01179571079842,1.8024531971228643,4.9745342971262325E-2,0.48124913812190517]
[null,742.45072651055852,735.25405635798074,4.5162608780119626,0,0,0,0.08,5.7573361220622248,80,1,4.5962608780119627,4.5562608780119627,0.25733842117438854,7.3234450673998568,70.9854713300806,-80,1032.6441660565133,-1.0578494457965437E-2,0.25464466400743541,4.4362608780119626,4.4762608780119626,-0.25262565412728044,-80,68.514593296174937,1014.6041845222502,-1.0766583416786222E-2,-0.24993471121028452,0.25464466400743541,0.31416326869375938,-2.2616998521911361E-2,742.45342026772551,734.99941169397334,4.5962978656063687,246.59478296369858,1.870951747946114,4.9745342971262325E-2,0.50097672075900102]
[null,742.45342026772551,734.99941169397334,4.5962978656063687,0,0,0,0.08,5.9632068590017298,80,1,4.6762978656063687,4.6362978656063687,0.26190108481707597,7.3237851991381406,72.646376103367245,-80,1043.911986874584,-1.0463825878226017E-2,0.25918897649745104,4.5162978656063686,4.5562978656063686,-0.25710055263411924,-80,70.160958082312206,1026.8017347593079,-1.0638191281795155E-2,-0.2543942578580351,0.25918897649745104,0.30865510208450841,-2.1439493933634663E-2,742.45613237604516,734.74022271747594,4.6763476347664747,248.28623462160715,1.9399201464521159,4.9745342971262325E-2,0.52083961952872959]
[null,742.45613237604516,734.74022271747594,4.6763476347664747,0,0,0,0.08,6.1727277268553742,80,1,4.7563476347664748,4.7163476347664748,0.26646524813688011,7.3241276480153026,74.317112834145092,-80,1054.6174622361973,-1.0357122767835375E-2,0.2637337255632034,4.5963476347664747,4.6363476347664747,-0.26157539472398916,-80,71.817320205636491,1038.3688741166945,-1.0519192939768099E-2,-0.25885247559031799,0.2637337255632034,0.30333625261297165,-2.0342775138952867E-2,742.4588638986188,734.47648899191279,4.7564099869577614,250.07525003804301,2.0093854936849054,4.9745342971262325E-2,0.540845639531773]
[null,742.4588638986188,734.47648899191279,4.7564099869577614,0,0,0,0.08,6.3858999253648108,80,1,4.8364099869577615,4.7964099869577614,0.27103090018053422,7.324472548265601,75.997573860872293,-80,1064.8005140927223,-1.0257591017113392E-2,0.268279003880252,4.6764099869577613,4.7164099869577614,-0.26605016893216593,-80,73.483567362558531,1049.3519396028692,-1.0408603420992205E-2,-0.26330948492657941,0.268279003880252,0.29819702191718478,-1.9319953870889802E-2,742.46161579491911,734.20820998803254,4.8364847334832461,251.95236133863324,2.0793722607234146,4.9745342971262325E-2,0.5610018284388637]
[null,742.46161579491911,734.20820998803254,4.8364847334832461,0,0,0,0.08,6.6027246455092614,80,1,4.9164847334832462,4.8764847334832462,0.27559803054833409,7.3248200210384535,77.687654539198036,-80,1074.4974128223091,-1.0164538257213257E-2,0.27282489150115058,4.7564847334832461,4.7964847334832461,-0.27052486435120571,-80,75.159590471279316,1059.7928818693208,-1.0305570311667513E-2,-0.26776538930469518,0.27282489150115058,0.29322837648654437,-1.8364848130092301E-2,742.46438893396635,733.93538509653138,4.9165716948467182,253.90930517416515,2.1499026232717937,4.9745342971262325E-2,0.58131457285279686]
[null,742.46438893396635,733.93538509653138,4.9165716948467182,0,0,0,0.08,6.8232030699479767,80,1,4.9965716948467183,4.9565716948467182,0.28016662935824499,7.3251701760621515,79.387253109784211,-80,1083.7411834292554,-1.0077358089332274E-2,0.27737145785369316,4.8365716948467181,4.8765716948467182,-0.27499947059489571,-80,76.845283527427199,1069.7297699100643,-1.0209352201623336E-2,-0.27222027790137676,0.27737145785369316,0.28842188961705678,-1.7471896624263843E-2,742.46718410547089,733.65801363867763,4.9966707001668107,255.9388367765203,2.220996744598605,4.9745342971262325E-2,0.60178967979491849]
[null,742.46718410547089,733.65801363867763,4.9966707001668107,0,0,0,0.08,7.0473363734346099,80,1,5.0766707001668108,5.0366707001668107,0.28473668721294842,7.3255231130507914,81.096270573950406,-80,1092.5619588255597,{"$f":"Q91/O91/R91","v":-9.9955171582174589E-3},0.28191876337639615,4.9166707001668106,4.9566707001668107,-0.27947397776510741,-80,78.540543468426876,1079.1972277934346,-1.0119301203344876E-2,-0.27667422791760626,0.28191876337639615,0.28376968968606814,-1.6636085361037452E-2,742.47000202930747,733.37609487530119,5.076781586636895,258.03457744350015,2.2926730161106885,4.9745342971262325E-2,0.62243244599039849]
[null,742.47000202930747,733.37609487530119,5.076781586636895,0,0,0,0.08,7.2751257232050195,80,1,5.1567815866368951,5.1167815866368951,0.28930819516936879,7.3258789229005563,82.814610576559303,-80,1100.9872880570313,-9.9185444890367049E-3,0.2864668608652422,4.996781586636895,5.036781586636895,-0.28394837642121473,-80,80.245270045935413,1088.2268138586767,-1.0034848672526546E-2,-0.28112730644334077,0.2864668608652422,0.27926441389544554,-1.5852884374525512E-2,742.47284336361156,733.0896280144359,5.156904199026541,260.19088864394149,2.364948262956228,4.9745342971262325E-2,0.64324771708191375]
[null,{"$f":"AF92","v":742.47284336361156},{"$f":"AG92","v":733.0896280144359},{"$f":"AH92","v":5.156904199026541},0,0,0,0.08,7.5065722793405261,80,1,5.236904199026541,5.196904199026541,0.293881144710749,7.3262376887120197,84.542179295613252,-80,1109.0424060298913,-9.846022638436619E-3,0.2910157965893872,5.0769041990265409,5.1169041990265409,-0.28842265755177721,-80,81.959365705744545,1096.8473510201436,-9.9554934664340417E-3,-0.28557957198869671,0.2910157965893872,0.27489916677230108,-1.5118192959716425E-2,742.47570871173298,732.79861221784654,5.2370383892209569,262.40276747500997,2.4378379205881751,4.9745342971262325E-2,0.66423993847991458]
[null,{"$f":"AF93","v":742.47570871173298},732.79861221784654,5.2370383892209569,0,0,0,0.08,7.7416771951091512,80,1,5.317038389220957,5.2770383892209569,0.29845552772049189,7.326599486668151,86.278885338085274,-80,1116.7504702265549,-9.7775803096701083E-3,0.29556561122001151,5.1570383892209568,5.1970383892209568,-0.29289681254866196,-80,83.682735474606687,1105.0852153702501,-9.8807922290803894E-3,-0.29003107574920733,{"$f":"delta_z(N94,S94,H94,AE93,AB94)","v":0.29556561122001151},0.27066748282989539,-1.442829208722797E-2,742.4785986282335,732.50304660662653,5.3171840157947319,264.66575936166851,2.5113561870775274,4.9745342971262325E-2,0.68541319922884802]
[null,742.4785986282335,732.50304660662653,5.3171840157947319,0,0,0,{"$f":"dv(S94)","v":0.08},7.9804416172855781,80,1,5.3971840157947319,5.3571840157947319,0.30303133645838898,7.3269643867916168,88.024639641537604,-80,1124.1327690234305,-9.7128861568222466E-3,0.30011634060825887,5.2371840157947318,5.2771840157947318,-0.29737083318270763,-80,85.415286853479472,1112.9645890891643,-9.8103513065169092E-3,-0.29448186265664844,0.30011634060825887,0.26656329288122238,-1.3779802916896868E-2,742.48151362408362,732.20293026601826,5.3973409436170803,266.97588476935817,2.5855161550690156,4.9745342971262325E-2,0.70677127001039664]
[null,742.48151362408362,732.20293026601826,5.3973409436170803,0,0,0,0.08,8.2228666864522904,80,1,5.4773409436170803,5.4373409436170803,0.30760856353823485,7.3273324536009588,89.779355381129903,-80,1131.2089055019196,-9.6516435606366652E-3,0.30466801643923713,5.3173409436170802,5.3573409436170802,-0.30184471158150217,-80,87.156929716738262,1120.5076827006635,-9.7438199818565049E-3,-0.29893197225700857,0.30466801643923713,0.26258089357389164,-1.3169650507405531E-2,742.48445417118262,731.89826224957903,5.4775090434857665,269.32957737285079,2.6603299265614742,4.9745342971262325E-2,0.72831763620022472]
[null,742.48445417118262,731.89826224957903,5.4775090434857665,0,0,0,0.08,8.4689535372828697,80,1,5.5575090434857666,5.5175090434857665,0.31218720190730664,7.3277037466813262,91.542947881645802,-80,1137.9969600465947,-9.5935862027497331E-3,0.30922066678483462,5.3975090434857664,5.4375090434857665,-0.30631844020859944,-80,88.907576216936874,1127.7349309170618,-9.6808847853956086E-3,-0.30338143944728285,0.30922066678483462,0.25871491977496608,-1.2595031980788166E-2,742.4874207063051,731.58904158279415,5.5576881917872072,271.72363164500348,2.7358087131295306,4.9745342971262325E-2,0.75005552673182496]
[null,742.4874207063051,731.58904158279415,5.5576881917872072,0,0,0,0.08,8.7187032988087605,80,1,5.6376881917872073,5.5976881917872072,0.31676724482722918,7.3280783211827911,93.31533453419722,-80,1144.5136345284707,-9.5384742995434074E-3,0.31377431657274324,5.4776881917872071,5.5176881917872072,-0.31079201184427063,-80,90.667140694733732,1134.6651656584611,-9.6212646856851415E-3,-0.30783029509687104,0.31377431657274324,0.25496031948635722,-1.2053388514860137E-2,742.49041363455956,731.27526726622136,5.6378782701805212,274.15515823192044,2.8119629237495083,4.9745342971262325E-2,0.77198793939037857]
[null,742.49041363455956,731.27526726622136,5.6378782701805212,0,0,0,0.08,8.9721170946705566,80,1,5.7178782701805213,5.6778782701805213,0.32134868585611898,7.3284562282570542,95.096434717294684,-80,1150.7743804577008,-9.4860913837294149E-3,0.31832898798599374,5.5578782701805212,5.5978782701805212,-0.31526541956765541,-80,92.435539593631901,1141.3157692863867,-9.5647070064596162E-3,-0.31227856657397807,0.31832898798599374,0.25131233101372452,-1.1542380640390149E-2,742.49343333242973,730.95693827823538,5.7180791653036991,276.62154579717344,2.8888022420265007,4.9745342971262325E-2,0.79411766305415243]
[null,742.49343333242973,730.95693827823538,5.7180791653036991,0,0,0,0.08,9.2291960433554774,80,1,5.7980791653036992,5.7580791653036991,0.32593151883213167,7.3288375154414611,96.886169722000091,-80,1156.7935131439183,-9.4362415429521951E-3,0.32288470080481357,5.638079165303699,5.678079165303699,-0.31973865674006774,-80,94.212691379214093,1147.7028106381422,-9.5109839447695497E-3,-0.3167262781932848,0.32288470080481357,0.24776646214761552,-1.1059866400531007E-2,742.49648015045705,730.63405357743056,5.7982907684998173,279.12042826665044,2.9663356943227925,4.9745342971262325E-2,0.81644729731548449]
[null,742.49648015045705,730.63405357743056,5.7982907684998173,0,0,0,0.08,9.4899412584211866,80,1,5.8782907684998174,5.8382907684998173,0.33051573785801835,7.3292222269977101,98.684462680892125,-80,1162.5843136118021,-9.3887470414691383E-3,0.32744147269995239,5.7182907684998172,5.7582907684998172,-0.32421171698950246,-80,95.998516462571189,1153.841166069247,-9.4598895895400617E-3,-0.32117345159829114,0.32744147269995239,0.24431847114646707,-1.0603881995295964E-2,742.49955441561508,730.30661210473056,5.8785129755618968,281.64965660227222,3.0445717100456458,4.9745342971262325E-2,0.83897926984366622]
[null,742.49955441561508,730.30661210473056,5.8785129755618968,0,0,0,0.08,9.7543538487076162,80,1,5.9585129755618969,5.9185129755618968,0.33510133728672287,7.3296104042116648,100.49123850060511,-80,1168.1591197746452,-9.3434462643276466E-3,0.33199931948531847,5.7985129755618967,5.8385129755618967,-0.3286845941962504,-80,97.792937127654938,1159.744627393675,-9.411237358630772E-3,-0.3256201060891033,0.33199931948531847,0.24096434933667907,-1.0172624592036631E-2,742.50265643341652,729.9746127852452,5.9587456864947459,284.20727439029537,3.1235181751540613,4.9745342971262325E-2,0.86171585179488985]
[null,742.50265643341652,729.9746127852452,5.9587456864947459,0,0,0,0.08,10.022434918537057,80,1,6.038745686494746,5.9987456864947459,0.33968831170807334,7.3300020856593928,102.30642379771299,-80,1173.5294081617137,-9.3001919341648524E-3,0.33655825533641698,5.8787456864947458,5.9187456864947459,-0.33315728247929144,-80,99.595877462300649,1165.4259983444481,-9.3648577874483937E-3,-0.33006625890421831,0.33655825533641698,0.23770030516717999,-9.7644370280881247E-3,742.50578648978819,729.6380545299088,6.0389888052924929,286.79149665590558,3.2031824797807018,4.9745342971262325E-2,0.88465917152736229]
[null,742.50578648978819,729.6380545299088,6.0389888052924929,0,0,0,0.08,10.294185567903515,80,1,6.118988805292493,6.078988805292493,0.34427665593615231,7.3303973074439233,104.1299468377504,-80,1178.7058673197955,-9.2588495593784095E-3,0.34111829297950313,5.9589888052924929,5.9989888052924929,-0.33762977618381385,-80,101.40726329268679,1170.8971809517025,-9.3205966141281498E-3,-0.33451192546394909,0.34111829297950313,0.23452274957534155,-9.3777941696076544E-3,742.50894485274489,729.29693623692924,6.1192422397307551,289.40069141689787,3.2835715607298401,4.9745342971262325E-2,0.90781122684071414]
[null,742.50894485274489,729.29693623692924,6.1192422397307551,0,0,0,0.08,10.569606892652519,80,1,6.1992422397307552,6.1592422397307551,0.34886636499767931,7.3307961034065885,105.96173747718288,-80,1183.6984638601296,-9.219296079398507E-3,0.34567944385620714,6.039242239730755,6.0792422397307551,-0.34210206986936953,-80,103.22702212102226,1176.1692530445589,-9.2783131159119795E-3,-0.33895711958102914,0.34567944385620714,0.23142828253703665,-9.0112907260355042E-3,742.51213177388638,728.95125679307307,6.1995059011718876,292.0333635721048,3.3646919394998691,4.9745342971262325E-2,0.93117389592648248]
[null,742.51213177388638,728.95125679307307,6.1995059011718876,0,0,0,0.08,10.848699984650649,80,1,6.2795059011718877,6.2395059011718876,0.3534574341210508,7.3311985053160544,107.80172710813738,-80,1188.5165019946835,-9.1814186784715552E-3,0.35024171826697442,6.1195059011718875,6.1595059011718876,-0.34657415829883931,-80,105.05508306625097,1181.2525379210579,-9.2378786591143982E-3,-0.34340185364356512,0.35024171826697442,0.22841368068843071,-8.6636303440139999E-3,742.51534748974041,728.60101507480613,6.279779704382908,294.68814078657289,3.4465497563850285,4.9745342971262325E-2,0.95474894718940828]
[null,742.51534748974041,728.60101507480613,6.279779704382908,0,0,0,0.08,11.131465931947425,80,1,6.3597797043829081,6.319779704382908,0.35804985872603723,7.3316045430378889,109.6498486057411,-80,1193.1686772970181,-9.1451137440076019E-3,0.35480512549641563,6.1997797043829079,6.239779704382908,-0.35104603642816912,-80,106.89137680760446,1186.1566670925586,-9.1991754313655669E-3,-0.34784613877445969,0.35480512549641563,0.22547588591926412,-8.333615830361742E-3,742.51859222297003,728.24620994930967,6.3600635673646408,297.36376109049769,3.5291508011323889,4.9745342971262325E-2,0.97853804807664813]
[null,742.51859222297003,728.24620994930967,6.3600635673646408,0,0,0,0.08,11.417905818928284,80,1,6.4400635673646409,6.4000635673646409,0.36264363441422276,7.3320142446870156,111.50603627790358,-80,1197.6631253296405,-9.1102859493556072E-3,0.3593696739232552,6.2800635673646408,6.3200635673646408,-0.35551769939664979,-80,108.73583553081964,1190.890636891131,-9.162095329958847E-3,-0.35228998497055974,0.3593696739232552,0.22261199484819166,-8.0201403729160473E-3,742.52186618346104,727.88684027538636,6.4403574111913899,300.05906195395607,3.6125005405640431,4.9745342971262325E-2,1.0025427730329646]
[null,742.52186618346104,727.88684027538636,6.4403574111913899,0,0,0,0.08,11.708020726459745,80,1,6.52035741119139,6.48035741119139,0.36723875695995645,7.332427636765015,113.37022581740224,-80,1202.0074656996192,-9.0768474440126399E-3,0.3639353711168487,6.3603574111913899,6.4003574111913899,-0.35998914251785408,-80,110.58839287686617,1195.4628596276432,-9.126538984337856E-3,-0.35673340122456271,0.3639353711168487,0.21981924910045197,-7.7221796443707755E-3,742.52516956930413,727.52290490426947,6.5206611598605244,302.77297063627049,3.6966041435185626,4.9745342971262325E-2,1.0267646106838662]
[null,742.52516956930413,727.52290490426947,6.5206611598605244,0,0,0,0.08,12.001811732027727,80,1,6.6006611598605245,6.5606611598605244,0.37183522230190746,7.3328447442841345,115.24235425614242,-80,1206.2088420351452,-9.0447171368740562E-3,0.36850222392222193,6.4406611598605243,6.4806611598605244,-0.36446036127110659,-80,112.44898389304115,1199.8812099016832,-9.0924148942195925E-3,-0.36117639563202147,0.36850222392222193,0.21709502631627328,-7.4387846900004452E-3,742.52850256768386,727.15440268034729,6.6009747401511829,305.50449563980641,3.7814665034185087,4.9745342971262325E-2,1.0512049703350506]
[null,742.52850256768386,727.15440268034729,6.6009747401511829,0,0,0,0.08,12.299279909869256,80,1,6.680974740151183,6.6409747401511829,0.37643302653510702,7.3332655908795488,117.12235992146628,-80,1210.2739583160183,-9.0138200602937271E-3,0.37307023853510074,6.5209747401511828,6.5609747401511829,-0.36893135129345822,-80,114.31754498629094,1204.1530665899024,-9.0596386677104686E-3,-0.3656189754855011,0.37307023853510074,0.21443683182590056,-7.169075511688639E-3,742.53186535568386,726.7813324418122,6.6812980814912892,308.25271912335677,3.8670922587305521,4.9745342971262325E-2,1.075865187864919]
[null,742.53186535568386,726.7813324418122,6.6812980814912892,0,0,0,0.08,12.600426331097333,80,1,6.7612980814912893,6.7212980814912893,0.38103216590344857,7.3336901989110164,119.01018239439185,-80,1214.2091119393654,-8.9840868045268935E-3,0.37763942056825212,6.6012980814912892,6.6412980814912892,-0.37340210837221477,-80,116.19401387863047,1208.2853509750832,-9.0281323461445517E-3,-0.37006114735770335,0.37763942056825212,0.21184229093355819,-6.912235271999273E-3,742.53525810101905,726.40369302124395,6.7616311158324791,311.01679015163779,3.9534858115504514,4.9745342971262325E-2,1.1007465310770501]
[null,742.53525810101905,726.40369302124395,6.7616311158324791,0,0,0,0.08,12.905252063820081,80,1,6.8416311158324792,6.8016311158324791,0.38563263679269966,7.3341185895553398,120.9057624696791,-80,1218.0202238570703,-8.9554530136370779E-3,0.38220977511034615,6.681631115832479,6.7216311158324791,-0.37787262843775693,-80,118.07832956454482,1212.2845614226499,-8.997823804347516E-3,-0.37450291717480388,0.38220977511034615,0.20930914175835388,-6.6675050512938405E-3,742.53868096270139,726.02148324613358,6.8419737775323135,313.79591867531821,4.0406513445158172,4.9745342971262325E-2,1.1258502045710757]
[null,742.53868096270139,726.02148324613358,6.8419737775323135,0,0,0,0.08,13.213758173254247,80,1,6.9219737775323136,6.8819737775323135,0.39023443572384764,7.3345507828904299,122.80904211762122,-80,1221.7128660823735,-8.9278589352173796E-3,0.38678130677815326,6.7619737775323134,6.8019737775323135,-0.38234290755696065,-80,119.97043227026168,1216.1568049631308,-8.9686462166810952E-3,-0.37894429028159371,0.38678130677815326,0.20683522858535075,-6.4341790984822926E-3,742.54213409164709,725.63470193935541,6.9223260032432652,316.58937015080488,4.1285928362243745,4.9745342971262325E-2,1.15117735418314]
[null,742.54213409164709,725.63470193935541,6.9223260032432652,0,0,0,0.08,13.525945721833342,80,1,7.0023260032432653,6.9623260032432652,0.39483755934681852,7.3349867979719727,124.71996444746711,-80,1225.2922868291178,-8.9012490173448582E-3,0.39135401976296946,6.8423260032432651,6.8823260032432652,-0.38681294192683424,-80,121.87026341479066,1219.9078260972183,-8.9405375806063028E-3,-0.3833852714991452,0.39135401976296946,0.20441849568442769,-6.2116005236920553E-3,742.54561763123093,725.24334791959245,7.002687731808023,319.39646072182336,4.2173140753137695,4.9745342971262325E-2,1.176729071040886]
[null,742.54561763123093,725.24334791959245,7.002687731808023,0,0,0,0.08,13.841815769310779,80,1,7.082687731808023,7.042687731808023,0.39944200443466116,7.3354266529034255,126.63847367238753,-80,1228.7634335174189,-8.8755715470906597E-3,0.39592791787209669,6.9226877318080229,6.9626877318080229,-0.39128272786862794,-80,123.77776557263344,1223.5430331036137,-8.9134402906686106E-3,-0.38782586517620299,0.39592791787209669,0.20205698155855673,-5.9991573869070764E-3,742.54913171779344,724.84742000172037,7.0830589041607412,322.21655289556111,4.306818673340314,4.9745342971262325E-2,1.2025063952725308]
[null,742.54913171779344,724.84742000172037,7.0830589041607412,0,0,0,0.08,14.161369372858463,80,1,7.1630589041607413,7.1230589041607413,0.40404776787789842,7.3358703649000523,128.56451507590467,-80,1232.1309738535685,-8.8507783256749403E-3,0.40050300456572041,7.0030589041607412,7.0430589041607412,-0.39575226182224554,-80,125.69288243807617,1227.0675220980568,-8.8873007567911669E-3,-0.3922660752349465,0.40050300456572041,0.19974881358692137,-5.7962791413729174E-3,742.55267648110566,724.44691699715463,7.1634394632337637,325.04905165489151,4.3971100765777837,4.9745342971262325E-2,1.2285103194049221]
[null,742.55267648110566,724.44691699715463,7.1634394632337637,0,0,0,0.08,14.484607587160827,80,1,7.2434394632337638,7.2034394632337637,0.40865484667941132,7.3363179503476088,130.49803497970649,-80,1235.3993151691936,-8.8268243760077358E-3,0.4050792829900986,7.0834394632337636,7.1234394632337636,-0.40022154034088686,-80,127.61555879097786,1230.4860990641239,-8.862069061594844E-3,-0.3967059052117578,0.4050792829900986,0.19749220303116674,-5.6024333965964167E-3,742.55625204479497,724.04183771416456,7.2438293538693967,327.89340095645196,4.488191576843465,4.9745342971262325E-2,1.2547417914814383]
[null,742.55625204479497,724.04183771416456,7.2438293538693967,0,0,0,0.08,14.811531464504334,80,1,7.3238293538693968,7.2838293538693968,0.41326323794941544,7.3367694248561124,132.43898071277184,-80,1238.5726221846776,-8.8036676789132618E-3,0.40965675600710727,7.1638293538693967,7.2038293538693967,-0.40469056008609527,-80,129.54574046397448,1233.803300052029,-8.8376986521711172E-3,-0.40114535829377762,0.40965675600710727,0.19528544037636245,-5.417122967876626E-3,742.55985852673723,723.63218095815751,7.3242285227366795,330.74908057028352,4.5800663214463215,4.9745342971262325E-2,1.2812017179270609]
[null,742.55985852673723,723.63218095815751,7.3242285227366795,0,0,0,0.08,15.142142054863781,80,1,7.4042285227366795,7.3642285227366795,0.41787293890065769,7.337224803309355,134.38730058174684,-80,1241.654833344257,-8.7812689348106335E-3,0.41423542622068793,7.2442285227366794,7.2842285227366794,-0.40915931782311077,-80,131.48337431103184,1237.0234097203081,-8.8141460623357513E-3,-0.40558443735168281,0.41423542622068793,0.19312689098053923,-5.2398831846820638E-3,742.56349603941715,723.21794553193683,7.4046369182525007,333.61560322283094,4.6727373223415523,4.9745342971262325E-2,1.3078909661848874]
[null,742.56349603941715,723.21794553193683,7.4046369182525007,0,0,0,0.08,15.476440405984249,80,1,7.4846369182525008,7.4446369182525007,0.42248394684416013,7.3376840999104056,136.34294384250032,-80,1244.6496758546625,-8.75959134803256E-3,0.41881529600088707,7.3246369182525006,7.3646369182525007,-0.41362781041629404,-80,133.42840817726949,1240.1504783764465,-8.7913706619065224E-3,-0.41002314496891173,0.41881529600088707,0.19101499100890182,-5.0702794326986638E-3,742.56716469026037,722.79913023593599,7.4850544905069203,336.49251201009599,4.7662074645665786,4.9745342971262325E-2,1.334810367145695]
[null,742.56716469026037,722.79913023593599,7.4850544905069203,0,0,0,0.08,15.814427563459503,80,1,7.5650544905069204,7.5250544905069203,0.42709625918496386,7.3381473282235428,138.30586067280265,-80,1247.5606795454632,-8.7386004313143376E-3,0.42339636750526544,7.4050544905069202,7.4450544905069203,-0.41809603482490587,-80,135.38079086999471,1243.1883376559811,-8.7693344299885241E-3,-0.41446148346802558,0.42339636750526544,0.18894824363131812,-4.9079049059467137E-3,742.5708645819401,722.37573386843076,7.5654811911925304,339.37937805119498,4.8604795140252435,4.9745342971262325E-2,1.3619607173897905]
[null,742.5708645819401,722.37573386843076,7.5654811911925304,0,0,0,0.08,16.156104570807475,80,1,7.6454811911925304,7.6054811911925304,0.43170987341817124,7.3386145012129704,140.27600214607457,-80,1250.3911896571578,-8.7182638282879716E-3,0.42797864269825531,7.4854811911925303,7.5254811911925303,-0.42256398809909967,-80,137.34047213088766,1246.1406149650022,-8.7480017496292944E-3,-0.41889945493441466,0.42797864269825531,0.18692521546315499,-4.7523785497991739E-3,742.57459581266005,721.94775522573252,7.6459169735373873,342.27579835683417,4.9555561246799193,4.9745342971262325E-2,1.3893427812583372]
[null,742.57459581266005,721.94775522573252,7.6459169735373873,0,0,0,0.08,16.501472469542023,80,1,7.7259169735373874,7.6859169735373873,0.43632478712503797,7.3390856312785431,142.25332020614823,-80,1253.1443786522891,-8.6985511520779411E-3,0.43256212336846595,7.5659169735373872,7.6059169735373873,-0.42703166737626219,-80,139.30740260927456,1249.0107467980547,-8.7273392215321838E-3,-0.42333706123779347,0.43256212336846595,0.18494453323148277,-4.6033431762340241E-3,742.57835847641661,721.51519310236404,7.7263617922414918,345.18139388988095,5.0514398452048859,4.9745342971262325E-2,1.4169572927695278]
[null,742.57835847641661,721.51519310236404,7.7263617922414918,0,0,0,0.08,16.850532299242058,80,1,7.8063617922414918,{"$f":"(D125+L125)/2","v":7.7663617922414918},0.44094099796961927,7.3395607302888708,144.23776764299583,-80,1255.8232571353299,{"$f":"Q125/O125/R125","v":-8.679433838321364E-3},{"$f":"N125/(1-S125)","v":0.43714681114465609},7.6463617922414917,{"$f":"(D125+U125)/2","v":7.6863617922414917},-0.43149906987717657,-80,141.28153383644164,1251.8019910320324,{"$f":"X125/O125/Z125","v":-8.707315494797304E-3},-0.42777430405123518,0.43714681114465609,{"$f":"H125/AC125*K125","v":0.18300488064987219},-4.4604637359427152E-3,{"$f":"B125-(AC125-N125)","v":742.58215266324157},{"$f":"C125-AC125","v":721.07804629121938},7.8068156034165108,{"$f":"AC125/R125*1000000","v":348.0958077984921},5.1481331251489113,4.9745342971262325E-2,1.4448049573934072]
[null,{"$f":"AF125","v":742.58215266324157},721.07804629121938,7.8068156034165108,0,{"$f":"(E126+E125)/2","v":0},{"$f":"F126*$S$53*$C$55*(B126-C126+N126)^1.5","v":0},0.08,{"$f":"(B126-C126)*B$19","v":17.203285097617755},80,{"$f":"IF((1-S125-0.015)>0,1,-1)","v":1},{"$f":"D126+K126*H126","v":7.8868156034165109},7.8468156034165109,{"$f":"2*($P$53*M126/$S$52/$S$51)^2-(B126-C126)*2","v":0.44555850369523142},{"$f":"wh(B126,$F$51,$F$52,$F$53)","v":7.3400398096119694},{"$f":"$C$54*$L$55*$L$55*M126*M126/(($B$19*(B126-C126))^0.333)*1000","v":146.22929806937759},{"$f":"M126/$S$54*(B126-C126+N126/2)*E126-$C$53","v":-80},{"$f":"rate1(1,$L$52,$L$51,$L$54,L126,$L$53,$L$50,P126)","v":1258.4306839586066},-8.6608850111321491E-3,0.44173270750983273,{"$f":"D126-K126*H126","v":7.7268156034165107},7.7668156034165108,{"$f":"2*($P$53*V126/$S$52/$S$51)^2-(B126-C126)*2","v":-0.43596619290277516},{"$f":"V126/$S$54*(B126-C126+W126/2)*F126-$C$53","v":-80},{"$f":"$C$54*$L$55*$L$55*V126*V126/(($B$19*(B126-C126))^0.333)*1000","v":143.26281820093459},{"$f":"rate1(1,$L$52,$L$51,$L$54,U126,$L$53,$L$50,Y126)","v":1254.5174382865098},-8.6879011129032263E-3,{"$f":"W126/(1-AA126)","v":-0.43221118486874477},{"$f":"delta_z(N126,S126,H126,AE125,AB126)","v":0.44173270750983273},0.18110499548693537,{"$f":"(AD126-AD125)/(AC126+AC125)*2","v":-4.3234257315392429E-3},742.585978459427,720.63631358370958,{"$f":"$S$54*$S$53*$C$55*SQRT(AF126-AG126)","v":7.8872783645285232},351.01870380360384,{"$f":"AJ125+AI126/3600","v":5.2456383206499124},4.9745342971262325E-2,1.4728864536976956]
[null,742.585978459427,720.63631358370958,7.8872783645285232,{"$f":"CalBreachWidth(C127,B127,I127,E126)","v":0},0,0,{"$f":"dv(S126)","v":0.08},17.559731900573933,80,1,7.9672783645285232,7.9272783645285232,0.45017730212124718,7.3405228801436495,148.22786589836403,-80,1260.969375583976,-8.6428793606997435E-3,0.44631981381416136,7.8072783645285231,7.8472783645285231,-0.44043303383085686,-80,145.25120892479748,1257.1600224319566,-8.6690683733534508E-3,-0.43664770502096228,0.44631981381416136,0.17924366681446591,-4.1919337601663848E-3,742.58983594773406,720.18999376989541,7.9677500343436449,353.94976472562087,5.3439576997403631,{"$f":"AK126+AI127*G126/1000000","v":4.9745342971262325E-2},{"$f":"AL126+AI127*J127/1000000","v":1.5012024348757451}]
[null,742.58983594773406,720.18999376989541,7.9677500343436449,0,0,0,0.08,17.919873742270919,{"$f":"IF(H128>0, $B$7,\"\")","v":80},1,8.047750034343645,8.0077500343436441,0.45479739114011863,7.3410099523338879,150.23342632169263,-80,1263.4419147632402,-8.6253930313621666E-3,0.45090813128673346,7.8877500343436449,7.9277500343436449,-0.44489959011297486,-80,147.24666004070562,1259.7325303192777,-8.6507911995951405E-3,-0.44108386568938568,0.45090813128673346,0.17741973242245176,-4.0657101731467757E-3,742.59372520758745,719.73908563860869,8.0482305728763741,356.88869113641078,5.4430934472782546,4.9745342971262325E-2,1.529753530166658]
[null,742.59372520758745,719.73908563860869,8.0482305728763741,0,0,0,0.08,18.283711655183016,80,1,8.1282305728763742,8.0882305728763733,0.45941876871440002,7.3415010362113762,152.24593528892052,-80,1265.8507585942834,-8.6084035191233126E-3,0.45549766104609829,7.968230572876374,8.008230572876375,-0.4493658592715164,-80,149.24912636995134,1262.2376107969842,-8.6330450239773347E-3,-0.44551966791930164,0.45549766104609829,0.17563207638930919,-3.9444938420829159E-3,742.5976463152557,719.28358797756255,8.1287199413404458,359.83520012416358,5.5430476695349666,4.9745342971262325E-2,1.5585403461765912]
[null,742.5976463152557,719.28358797756255,8.1287199413404458,0,0,0,0.08,18.651246670154524,80,1,8.2087199413404459,8.168719941340445,0.46404143287397659,7.3419961414062866,154.26534948733419,-80,1268.1982460045338,-8.5918895776988143E-3,0.46008840410988477,8.0487199413404458,8.0887199413404467,-0.45383183889691736,-80,151.25856350124056,1264.6777830759381,-8.6158066806555113E-3,-0.44995511263151172,0.46008840410988477,0.17387962679644775,-3.8280390223345939E-3,742.60159934401975,718.82349957345264,8.2092181021020973,362.78902416037562,5.6438223984684042,4.9745342971262325E-2,1.5875634681094213]
[null,742.60159934401975,718.82349957345264,8.2092181021020973,0,0,0,0.08,19.022479816453689,80,1,8.2892181021020974,8.2492181021020983,0.46866538171354222,7.3424952771715608,156.2916263225838,-80,1270.4866047085445,-8.5758311322744665E-3,0.46468036140366009,8.1292181021020973,8.1692181021020964,-0.45829752664507595,-80,153.2749277702645,1267.0554444959296,-8.5990543074709325E-3,-0.45439020063304969,0.46468036140366009,0.1721613535772073,-3.7161143051501226E-3,742.60558436432962,718.35881921204896,8.2897250186355969,365.74991005927205,5.7454195957070908,4.9745342971262325E-2,1.616823460914163]
[null,742.60558436432962,718.35881921204896,8.2897250186355969,0,0,0,0.08,19.39741212182453,80,1,8.3697250186355969,8.329725018635596,0.47329061338990641,7.3429984524026866,158.32472390000783,-80,1272.7179576821854,-8.5602092002495245E-3,0.46927353376870595,8.2097250186355968,8.2497250186355977,-0.4627629202346526,-80,155.29817624001041,1269.3728777432561,-8.5827672559405377E-3,-0.45882493262669505,0.46927353376870595,0.17047626649115513,-3.6085016503757407E-3,742.60960144395085,717.88954567828023,8.3702406554808544,368.71761802066897,5.8478411562683874,4.9745342971262325E-2,1.6463208703558165]
[null,742.60960144395085,717.88954567828023,8.3702406554808544,0,0,0,0.08,19.776044612536499,80,1,8.4502406554808545,8.4102406554808553,0.47791712611987691,7.3435056756561945,160.36460100661802,-80,1274.8943291920541,-8.5450058183142632E-3,0.47386792196953476,8.2902406554808543,8.3302406554808535,-0.46722801744496678,-80,157.32826668177557,1271.6322575639147,-8.5669260085865749E-3,-0.46325930922008934,0.47386792196953476,0.16882341321500816,-3.504995493710349E-3,742.61365064810116,717.41567775631074,8.4507649782030594,371.69192074910376,5.9510889120320272,4.9745342971262325E-2,1.6760562240157448]
[null,742.61365064810116,717.41567775631074,8.4507649782030594,0,0,0,0.08,20.158378313432333,80,1,8.5307649782030595,8.4907649782030603,0.4825449181776591,7.3440169551669063,162.41121709371288,-80,1277.0176504152439,-8.5302039752797373E-3,0.47846352670017495,8.3707649782030593,8.4107649782030585,-0.47169281611330405,-80,159.36515755685659,1273.8356570129363,-8.5515121029179041E-3,-0.46769333093337334,0.47846352670017495,0.16720187754276056,-3.4054019207549742E-3,742.61773203957864,716.93721422961062,8.5312979533542794,374.67260264147046,6.0551646349879915,4.9745342971262325E-2,1.7060300322270625]
[null,742.61773203957864,716.93721422961062,8.5312979533542794,0,0,0,0.08,20.544414247974419,80,1,8.6112979533542795,8.5712979533542786,0.48717398789305122,7.3445322988641299,164.46453226009805,-80,1279.0897646814792,-8.5157875501377135E-3,0.48306034859055852,8.4512979533542794,8.4912979533542803,-0.47615731413313256,-80,161.4088079988822,1275.9850532767152,-8.5365080614474391E-3,-0.47212699820691229,0.48306034859055852,0.16561077768734012,-3.30953790396384E-3,742.62184567888119,716.45415388102003,8.6118395484367252,377.65945903792834,6.1600700402763051,4.9745342971262325E-2,1.7362427889500969]
[null,742.62184567888119,716.45415388102003,8.6118395484367252,0,0,0,0.08,20.934153438288924,80,1,8.6918395484367252,8.6518395484367261,0.49180433364912091,7.3450517143867318,166.52450723587842,-80,1281.1124323667918,-8.5017412548825597E-3,0.48765838821177143,8.5318395484367251,8.5718395484367242,-0.4806215094518862,-80,163.45917779675833,1278.0823331018798,-8.5218973271947163E-3,-0.47656031140785249,0.48765838821177143,0.16404926467759035,-3.217230595328966E-3,742.62599162431854,715.96649549280824,8.6923897318677295,380.65229552947721,6.2658067890344933,4.9745342971262325E-2,1.766694972592455]
[null,742.62599162431854,715.96649549280824,8.6923897318677295,0,0,0,0.08,21.327596905208249,80,1,8.7723897318677295,8.7323897318677304,0.49643595388037198,7.345575209097289,168.59110336680249,-80,1283.0873354653888,-8.4880505816737149E-3,0.49225764608121891,8.6123897318677294,8.6523897318677285,-0.48508540006874767,-80,165.51622737820276,1280.1292978612885,-8.5076642041789132E-3,-0.48099327083600529,0.49225764608121891,0.16251652084404716,-3.1283166718443526E-3,742.63016993211772,715.47423784672696,8.7729484729464282,383.6509273179538,6.372376491067258,4.9745342971262325E-2,1.7973870467778914]
[null,742.63016993211772,715.47423784672696,8.7729484729464282,0,0,0,0.08,21.724745668312607,80,1,8.8529484729464283,8.8129484729464274,0.50106884707079757,7.3461027900953981,170.66428259913798,-80,1285.016081864052,-8.474701753959606E-3,0.49685812266716106,8.6929484729464281,8.7329484729464291,-0.48954898403302138,-80,167.57991779384318,1282.1276682850437,-8.4937938024581185E-3,-0.48542587672970189,0.49685812266716106,0.16101175838799958,-3.0426417282816086E-3,742.63438065652133,714.9773797240598,8.853515741821786,386.65517862345797,6.4797807073515523,4.9745342971262325E-2,1.828319461067768]
[null,742.63438065652133,714.9773797240598,8.853515741821786,0,0,0,0.08,22.125600745969223,80,1,8.9335157418217861,8.8935157418217869,0.50570301175209664,7.3466344642300934,172.74400746504801,-80,1286.9002093413294,-8.4616816812213991E-3,0.50145981839293263,8.773515741821786,8.8135157418217851,-0.49401225944243521,-80,169.65021070184952,1284.0790888820034,-8.4802719873153815E-3,-0.48985812927101946,0.50145981839293263,0.15953421802843992,-2.9600597140239486E-3,742.63862384988045,714.47591990566684,8.9340915094622311,389.66488213533933,6.5880209523891464,4.9745342971262325E-2,1.8594926516385952]
[null,742.63862384988045,714.47591990566684,8.9340915094622311,0,0,0,0.08,22.530163155370886,80,1,9.0140915094622311,8.9740915094622302,0.51033844650203264,7.3471702381115715,174.83024106845545,-80,1288.7411893119111,-8.4489779170278112E-3,0.50606273364087018,8.854091509462231,8.8940915094622319,-0.49847522444092363,-80,171.72706835308782,1285.9851320750824,-8.4670853322313267E-3,-0.49429002858998122,0.50606273364087018,0.1580831677219931,-2.8804324102080013E-3,742.6428995627416,713.96985717202597,9.0146757476264696,392.67987850304439,6.6970986964177701,4.9745342971262325E-2,1.8909070419188387]
[null,742.6428995627416,713.96985717202597,9.0146757476264696,0,0,0,0.08,22.93843391257251,80,1,9.0946757476264697,9.0546757476264688,0.51497514994269267,7.3477101181221736,176.92294707136833,-80,1290.5404303348616,-8.436578620122365E-3,0.51066686875574308,8.9346757476264695,8.9746757476264705,-0.502937877217569,-80,173.81045357676021,1287.8473020716538,-8.4542210753187838E-3,-0.49872157476943713,0.51066686875574308,0.15665790145133693,-2.8036289438146886E-3,742.64720784392853,713.45919030327025,9.09526842883567,395.70001586330648,6.8070153674909104,4.9745342971262325E-2,1.9225630431879033]
[null,742.64720784392853,713.45919030327025,9.09526842883567,0,0,0,0.08,23.350414032526626,80,1,9.1752684288356701,9.1352684288356691,0.51961312073903798,7.3482541104267094,179.02208968065045,-80,1292.2992814028514,-8.4244725182905864E-3,0.51527222404810624,9.0152684288356699,9.0552684288356708,-0.50740021600454099,-80,175.90032976652293,1289.6670384885745,-8.4416670789260028E-3,-0.50315276784852359,0.51527222404810624,0.15525773807774884,-2.7295253361707822E-3,742.65154874061943,712.94391807922216,9.1758695263468812,398.72514940096085,6.9177723534356215,4.9745342971262325E-2,1.9544610551399801]
[null,742.65154874061943,712.94391807922216,9.1758695263468812,0,0,0,0.08,23.766104529117822,80,1,9.2558695263468813,9.2158695263468822,0.52425235759730526,7.3488022209822139,181.12763363522012,-80,1294.0190350281136,-8.4126488747785118E-3,0.51987879979717044,9.0958695263468812,9.1358695263468803,-0.51186223907593842,-80,177.99666086705562,1291.4457197497356,-8.4294117921431631E-3,-0.50758360782662615,0.51987879979717044,0.15388202025397424,-2.6580040826588219E-3,742.65592229841957,712.42403927942496,9.2564790141275459,401.75514094031519,7.02937100369682,4.9745342971262325E-2,1.9866014664152054]
[null,742.65592229841957,712.42403927942496,9.2564790141275459,0,0,0,0.08,24.18550641519569,80,1,9.336479014127546,9.2964790141275451,0.52889285926355711,7.3493544555471111,183.23954419365614,-80,1295.7009301395874,-8.4010974570551296E-3,0.52448659625351224,9.1764790141275459,9.2164790141275468,-0.51632394474593468,-80,180.09941136106576,1293.1846662725629,-8.4174442159719916E-3,-0.51201409466628978,0.52448659625351224,0.1525301133936543,-2.5889537616474848E-3,742.66032856142965,711.89955268317146,9.337096866831093,404.78985856482228,7.1418126310759371,4.9745342971262325E-2,2.0189846551003914]
[null,742.66032856142965,711.89955268317146,9.337096866831093,0,0,0,0.08,24.608620702606551,80,1,9.417096866831093,9.3770968668310921,0.53353462452252387,7.3499108196898515,185.35778712219681,-80,1297.3461548045389,-8.3898085077303321E-3,0.52909561364178925,9.2570968668310929,9.2970968668310938,-0.52078533136797489,-80,182.20854625670756,1294.885143458547,-8.405753870940752E-3,-0.51644422829684367,0.52909561364178925,0.15120140469386309,-2.5222686702791757E-3,742.66476757231044,711.37045706952972,9.4177230597736514,407.82917626291038,7.2550985133711903,4.9745342971262325E-2,2.051610989201424]
[null,742.66476757231044,711.37045706952972,9.4177230597736514,0,0,0,0.08,25.035448402224574,80,1,9.4977230597736515,9.4577230597736524,0.53817765219606173,7.3504713187970649,187.48232868311672,-80,1298.9558487869001,-8.3787727174570933E-3,0.53370585216281274,9.3377230597736514,9.3777230597736505,-0.52524639733291423,-80,184.32403107540455,1296.5483645016843,-8.3943307669668201E-3,-0.52087400861666999,0.53370585216281274,0.14989530220776956,-2.4578484846268728E-3,742.66923937234367,710.8367512173669,9.4983575689116808,410.87297359740336,7.3692298949260246,4.9745342971262325E-2,2.0844808270892163]
[null,742.66923937234367,710.8367512173669,9.4983575689116808,0,0,0,0.08,25.465990523981418,80,1,9.5783575689116809,9.5383575689116817,0.54282194114190929,7.351035958081261,189.6131356234651,-80,1300.5311059536048,-8.3679811996619329E-3,0.53831731199567689,9.4183575689116807,9.4583575689116799,-0.52970714106798766,-80,186.44583184005418,1298.175493027582,-8.3831653752872697E-3,-0.52530343549601799,0.53831731199567689,0.14861123396425799,-2.3955979431088724E-3,742.67374400148992,710.29843390537121,9.5790003708205429,413.92113539718821,7.4842079880919101,4.9745342971262325E-2,2.1175945179209914]
[null,742.67374400148992,710.29843390537121,9.5790003708205429,0,0,0,0.08,25.900248076894968,80,1,9.659000370820543,9.6190003708205438,0.54746749025268571,7.3516047425881279,191.75017516415215,-80,1302.0729765393107,-8.3574254669615492E-3,0.54292999329990377,9.4990003708205428,9.539000370820542,-0.53416756103563046,-80,188.57391506360042,1299.7676455749775,-8.3722486022939965E-3,-0.52973250877941236,0.54292999329990377,0.14734864713176674,-2.3354265509981532E-3,742.67828149844274,709.75550391207128,9.6596514426739724,416.97355146938054,7.6000339746111827,4.9745342971262325E-2,2.1509524020385418]
[null,742.67828149844274,709.75550391207128,9.6596514426739724,0,0,0,0.08,26.338222069097174,80,1,9.7396514426739724,9.6996514426739715,0.55211429845446958,7.3521776772033709,193.89341498936898,-80,1303.5824692791061,-8.3470974091361307E-3,0.54754389621696853,9.5796514426739723,9.6196514426739732,-0.53862765573219917,-80,190.70824773796161,1301.325893930509,-8.361571765124625E-3,-0.53416122828772428,0.54754389621696853,0.14610700722394571,-2.2772483041682552E-3,742.68285190068025,709.20796001585427,9.7403107622243699,420.03011632993628,7.7167090069250541,4.9745342971262325E-2,2.1845548113449365]
[null,742.68285190068025,709.20796001585427,9.7403107622243699,0,0,0,0.08,26.779913507860783,80,1,9.8203107622243699,9.7803107622243708,0.55676236470604579,7.3527547666592268,196.04282323632975,-80,1305.0605534180597,-8.3369892725408141E-3,0.55215902087229674,9.6603107622243698,9.7003107622243689,-0.5430874236869272,-80,192.8487973232977,1302.851267326723,-8.3511265688733741E-3,-0.53858959382025617,0.55215902087229674,0.14488579734442553,-2.2209814315170208E-3,742.68745524451401,708.65580099498197,9.8209783077839603,423.09072895211443,7.8342342094117523,4.9745342971262325E-2,2.2184020696611055]
[null,742.68745524451401,708.65580099498197,9.8209783077839603,0,0,0,0.08,27.225323399625633,80,1,9.9009783077839604,9.8609783077839595,0.56141168799726415,7.3533360155406369,198.19836848532248,-80,1306.5081606058002,-8.3270936408471677E-3,0.55677536737620537,9.7409783077839602,9.7809783077839612,-0.54754686346073811,-80,194.9955317376068,1304.3447545125443,-8.3409050852980265E-3,-0.54301760515648201,0.55677536737620537,0.14368451746886482,-2.1665481534179115E-3,742.69209156513512,708.09902562760578,9.9016540582066224,426.15529253031258,7.9526106795590614,4.9745342971262325E-2,2.2524944930635304]
[null,742.69209156513512,708.09902562760578,9.9016540582066224,0,0,0,0.08,27.674452750023466,80,1,9.9816540582066224,9.9416540582066233,0.56606226734878362,7.353921428291061,200.36001975005769,-80,1307.9261866837003,-8.3174034170157285E-3,0.56139293582605554,9.8216540582066223,9.8616540582066214,-0.5520059736455778,-80,197.14841934663261,1305.8073057047229,-8.3308997329099663E-3,-0.54744526205811506,0.56139293582605554,0.14250268376157044,-2.1138744568412362E-3,742.69676089665779,707.53763269177978,9.982337992870514,429.22371425981618,8.0718394890756766,4.9745342971262325E-2,2.2868323902043159]
[null,742.69676089665779,707.53763269177978,9.982337992870514,0,0,0,0.08,28.127302563902415,80,1,10.062337992870514,10.022337992870515,0.57071410181045223,7.3545110092179913,202.52774646830156,-80,1309.3154933716742,-8.3079118064088714E-3,0.56601172630690122,9.902337992870514,9.9423379928705131,-0.55646475286282282,-80,199.30742895407781,1307.2398344281428,-8.3211032583436154E-3,-0.55187256427008458,0.56601172630690122,0.14133982792544236,-2.0628898836164938E-3,742.70146327216139,706.97162096547288,10.063030091661419,432.29590512928269,8.191921684944921,4.9745342971262325E-2,2.3214160626146585]
[null,742.70146327216139,706.97162096547288,10.063030091661419,0,0,0,0.08,28.583873845350809,80,1,10.143030091661419,10.10303009166142,0.57536719046062501,7.3551047624982457,204.70151849278835,-80,1310.6769098610812,-8.2986123009608209E-3,0.57063173889292951,9.9830300916614192,10.023030091661418,-0.56092319976281146,-80,201.47252979210819,1308.6432192522743,-8.3115087189105791E-3,-0.55629951152246682,0.57063173889292951,0.1401954965827984,-2.0135273332043215E-3,742.70619872372913,706.4009892265799,10.143730334956594,435.37177972671452,8.3128582904245647,4.9745342971262325E-2,2.3562458049927955]
[null,742.70619872372913,706.4009892265799,10.143730334956594,0,0,0,0.08,29.04416759771939,80,1,10.223730334956594,10.183730334956593,0.5800215324053255,7.3557026921828657,206.88130608239169,-80,1312.011234319755,-8.2894986643287216E-3,0.57525297364861416,10.063730334956594,10.103730334956595,-0.56538131302386319,-80,203.64369151213336,1310.0183054305214,-8.30210946625181E-3,-0.56072610353175767,0.57525297364861416,0.13906925068564177,-1.9657228774064704E-3,742.71096728248585,705.82573625293128,10.22443870360941,438.4512560571697,8.4346503059960014,4.9745342971262325E-2,2.3913219054773691]
[null,742.71096728248585,705.82573625293128,10.22443870360941,0,0,0,0.08,29.50818482364366,80,1,10.30443870360941,10.264438703609411,0.58467712677732209,7.3563048022018807,209.06707989355684,-80,1313.3192353147404,-8.280564917954444E-3,0.57987543062966629,10.14443870360941,10.184438703609409,-0.56983909135136912,-80,205.82088417586081,1311.3659064487179,-8.2928991310079279E-3,-0.56515234000207881,0.57987543062966629,0.13796066495373122,-1.9194155867082066E-3,742.71576897863349,705.24586082230167,10.305155178934571,441.53425537142738,8.557298710265842,4.9745342971262325E-2,2.4266446459070834]
[null,742.71576897863349,705.24586082230167,10.305155178934571,0,0,0,0.08,29.975926525065461,80,1,10.385155178934571,10.345155178934572,0.58933397273520427,7.3569110963687896,211.25881097197771,-80,1314.6016531579201,-8.2718053279728955E-3,0.58449910988387144,10.225155178934571,10.26515517893457,-0.57429653347661258,-80,208.00407824661099,1312.686805488569,-8.2838716084347452E-3,-0.56957822062598618,0.58449910988387144,0.13686932733891491,-1.8745473674389708E-3,742.72060384148483,704.66136171241783,10.385879742693849,444.62070200489615,8.6808044608227579,4.9745342971262325E-2,2.4622143020674749]
[null,{"$f":"AF157","v":742.72060384148483},704.66136171241783,10.385879742693849,0,0,0,0.08,30.447393703253603,80,1,10.465879742693849,10.425879742693848,0.59399206946267213,7.3575215783848185,213.45647074451048,-80,1315.8592011793471,-8.2632143929075221E-3,0.5891240114520343,10.305879742693849,10.34587974269385,-0.57875363815652747,-80,210.19324458087905,1313.9817568114208,-8.2750210448968003E-3,-0.57400374508609053,{"$f":"delta_z(N158,S158,H158,AE157,AB158)","v":0.5891240114520343},0.1357948385142565,-1.8310628090478409E-3,742.72547189949546,704.07223770096584,10.466612377082336,447.7105232262146,8.8051684950522624,4.9745342971262325E-2,2.498031143925572]
[null,742.72547189949546,704.07223770096584,10.466612377082336,0,0,0,{"$f":"dv(S158)","v":0.08},30.922587358823694,80,1,10.546612377082337,10.506612377082337,0.59865141616779738,7.3581362518429607,215.66003101131463,-80,1317.0925669327496,-8.2547868320984475E-3,0.59375013536879839,10.386612377082336,10.426612377082336,-0.58321040417271774,-80,212.38835442013823,1315.2514870673485,-8.266341825177102E-3,-0.57842891305583255,0.59375013536879839,0.13473681138667745,-1.7889090406154671E-3,742.73037318029446,703.47848756559699,10.547353064715351,450.80364909470717,8.9303917309119036,4.9745342971262325E-2,2.5340954358531484]
[null,742.73037318029446,703.47848756559699,10.547353064715351,0,0,0,0.08,31.40150849175798,80,1,10.627353064715351,10.587353064715352,0.60331201208225593,7.358755120231848,217.86946393821751,-80,1318.3024133373794,-8.2465175748129022E-3,0.59837748166334681,10.467353064715351,10.50735306471535,-0.58766683033032052,-80,214.58937938287974,1316.4966965342144,-8.2578285605462032E-3,-0.58285372420000103,0.59837748166334681,0.13369487063186111,-1.7480355960720003E-3,742.73530771071341,702.88011008393369,10.628101788615663,453.90001232608699,9.0564750676691492,4.9745342971262325E-2,2.5704074368392353]
[null,742.73530771071341,702.88011008393369,10.628101788615663,0,0,0,0.08,31.884158101423782,80,1,10.708101788615663,10.668101788615662,0.6079738564604753,7.3593781869394146,220.08474204928805,-80,1319.4893797600678,-8.2384017499916341E-3,0.60300605035993449,10.548101788615662,10.588101788615663,-0.592122915457864,-80,216.79629145687079,1317.7180602909982,-8.2494760775382679E-3,-0.5872781781761397,0.60300605035993449,0.13266865225025185,-1.7083942875111436E-3,742.74027551681399,702.27710403357378,10.708858532201353,456.99954816580896,9.183419386604097,4.9745342971262325E-2,2.6069674006925001]
[null,742.74027551681399,702.27710403357378,10.708858532201353,0,0,0,0.08,32.370537186592173,80,1,10.788858532201353,10.748858532201353,0.61263694857917983,7.3600054552563812,222.3058382196194,-80,1320.6540830411013,-8.2304346765883947E-3,0.60763584147873528,10.628858532201352,10.668858532201352,-0.59657865840640056,-80,219.00906299163384,1318.9162293294301,-8.2412794073857768E-3,-0.59170227463514657,0.60763584147873528,0.13165780314293668,-1.6699390862477616E-3,742.74527662391449,701.669468192095,10.789623279274048,460.10219426991654,9.3112255516790743,4.9745342971262325E-2,2.6437755762340935]
[null,742.74527662391449,701.669468192095,10.789623279274048,0,0,0,0.08,32.860646745455597,80,1,10.869623279274048,10.829623279274049,0.61730128773665172,7.3606369283796038,224.53272566830688,-80,1321.7971184672735,-8.2226118544629929E-3,0.61226685503633516,10.709623279274048,10.749623279274047,-0.60103405804845522,-80,221.22766669113301,1320.0918316076525,-8.2332337760683289E-3,-0.59612601322160608,0.61226685503633516,0.13066198070652113,-1.6326260106815788E-3,742.75031105661481,701.0572013370587,10.870396014007557,463.20789059239752,9.4398944101769633,4.9745342971262325E-2,2.6808322074814854]
[null,742.75031105661481,701.0572013370587,10.870396014007557,0,0,0,0.08,33.354487775644884,80,1,10.950396014007557,10.910396014007556,0.62196687325199207,7.3612726094152299,226.76537795161747,-80,1322.9190606952498,-8.214928955791314E-3,0.61689909104615559,10.790396014007557,10.830396014007558,-0.60548911327782662,-80,223.45207560665966,1321.2454730493982,-8.2253345949343786E-3,-0.60054939357488824,0.61689909104615559,0.12968085244595456,-1.5964130208676014E-3,742.75537883882066,700.44030224601249,10.951176720937054,466.31657927881776,9.5694267933099688,4.9745342971262325E-2,2.718137533823791]
[null,742.75537883882066,700.44030224601249,10.951176720937054,0,0,0,0.08,33.852061274246537,80,1,11.031176720937054,10.991176720937055,0.62663370446456668,7.3619125013817559,229.0037689563469,-80,1324.0204646281663,-8.207381816958419E-3,0.62153254951899672,10.871176720937054,10.911176720937053,-0.60994382300903283,-80,225.68226312991601,1322.3777384919301,-8.2175774518578413E-3,-0.60497241532982249,0.62153254951899672,0.1287140956043443,-1.5612599193106725E-3,742.76047999376624,699.81876969649352,11.031965384948457,469.42820456596638,9.6998235168005156,4.9745342971262325E-2,2.7556917901890681]
[null,742.76047999376624,699.81876969649352,11.031965384948457,0,0,0,0.08,34.353368237818181,80,1,11.111965384948457,11.071965384948456,0.63130178073353704,7.3625566072128841,231.2478728933493,-80,1325.1018662481915,-8.199966430903512E-3,0.62616723046360367,10.951965384948457,10.991965384948458,-0.61439818617617448,-80,227.91820298628272,1323.4891925857698,-8.2099581028944428E-3,-0.609395078116726,0.62616723046360367,0.12776139680891532,-1.5271282574759455E-3,742.76561454403623,699.19260246602994,11.112761991268394,472.54271268705816,9.831085381435809,4.9745342971262325E-2,2.7934952072040327]
[null,742.76561454403623,699.19260246602994,11.112761991268394,0,0,0,0.08,34.85840966240503,80,1,11.192761991268394,11.152761991268395,0.63597110143712143,7.3632049297603075,233.49766429124583,-80,1326.1637834076032,-8.1926789398875394E-3,0.630803133886911,11.032761991268394,11.072761991268393,-0.6188522017329916,-80,230.15986922827048,1324.5803806490389,-8.2024724644051625E-3,-0.6138173815625515,0.630803133886911,0.1268224517323692,-1.4939812475710781E-3,742.77078251158639,698.56179933214298,11.193566525454381,475.66005178187743,9.9632131735974419,4.9745342971262325E-2,2.831548011346583]
[null,742.77078251158639,698.56179933214298,11.193566525454381,0,0,0,0.08,35.36718654355473,80,1,11.273566525454381,11.233566525454382,0.64064166597205485,7.363857471796309,235.75311799029433,-80,1327.2067165807562,-8.1855156286567161E-3,0.63544025979442986,11.113566525454381,11.15356652545438,-0.62330586865172677,-80,232.40723622914518,1325.6518294790528,-8.1951166056167014E-3,-0.61823932529079095,0.63544025979442986,0.1258969647687741,-1.4617836795253617E-3,742.77598391776405,697.92635907234853,11.274378973385415,478.7801718118908,10.096207665767411,4.9745342971262325E-2,2.8698504250915344]
[null,742.77598391776405,697.92635907234853,11.274378973385415,0,0,0,0.08,35.879699876332417,80,1,11.354378973385415,11.314378973385416,0.64531347375330483,7.3645142360163414,238.01420913642323,-80,1328.2311495791766,-8.1784729179767111E-3,0.64007860819083973,11.194378973385415,11.234378973385414,-0.62775918592309665,-80,234.66027867672224,1326.7040481236297,-8.1878867415908461E-3,-0.62266090892242387,0.64007860819083973,0.12498464872325177,-1.4305018426946049E-3,742.78121878332649,697.2862804641577,11.355199321252879,481.90302448006565,10.230069617011873,4.9745342971262325E-2,2.9084026670499399]
[null,742.78121878332649,697.2862804641577,11.355199321252879,0,0,0,0.08,36.395950655335035,80,1,11.435199321252879,11.395199321252878,0.64998652421311931,7.3651752250413596,240.28091317541904,-80,1329.2375502318591,-8.1715473585146428E-3,0.64471817907987283,11.275199321252879,11.31519932125288,-0.63221215255548202,-80,236.91897156732446,1327.7375286144204,-8.180779226577067E-3,-0.62708213207603669,0.64471817907987283,0.12408522451495657,-1.4001034516996868E-3,742.78648712845973,696.64156228507784,11.436027555551794,485.02856315442983,10.364799773443659,4.9745342971262325E-2,2.9472049521022941]
[null,742.78648712845973,696.64156228507784,11.436027555551794,0,0,0,0.08,36.915939874705508,80,1,11.516027555551794,11.476027555551795,0.65466081680111188,7.3658404414201817,242.55320584726687,-80,1330.2263710327236,-8.1647356250469511E-3,0.64935897246518148,11.356027555551794,11.396027555551793,-0.6366647675744872,-80,239.18329019989912,1328.7527466644137,-8.1737905477239359E-3,-0.63150299436826052,0.64935897246518148,0.12319842089236642,-1.3705575769286376E-3,742.79178897279564,695.99220331261267,11.51686366307235,488.15674279637869,10.500398868664876,4.9745342971262325E-2,2.9862574915260045]
[null,742.79178897279564,695.99220331261267,11.51686366307235,0,0,0,0.08,37.439668528146377,80,1,11.59686366307235,11.556863663072349,0.65933635098311072,7.3665098876316639,244.83106318063335,-80,1331.1980497570555,-8.1580345109733814E-3,0.65400098834994125,11.43686366307235,11.476863663072351,-0.6411170300224569,-80,241.4532101702867,1329.7501623316343,-8.1669173191272672E-3,-0.63592349541411941,0.65400098834994125,0.12232397416071457,-1.3418345782311299E-3,742.79712433542886,695.33820232426274,11.597707630891714,491.28751989179733,10.636867624190375,4.9745342971262325E-2,3.0255604931173483]
[null,742.79712433542886,695.33820232426274,11.597707630891714,0,0,0,0.08,37.967137608932902,80,1,11.677707630891714,11.637707630891715,0.66401312624135755,7.3671835660868181,247.11446148749292,-80,1332.1530100486439,-8.1514409231182722E-3,0.65864422673775191,11.517707630891714,11.557707630891713,-0.64556893895820622,-80,243.72870736563652,1330.7302206509189,-8.1601562761940607E-3,-0.64034363482754719,0.65864422673775191,0.12146162792049049,-1.3139060430223963E-3,742.80249323493251,694.67955809752493,11.678559446366162,494.42085238669495,10.774206749853345,4.9745342971262325E-2,3.065114161308284]
[null,742.80249323493251,694.67955809752493,11.678559446366162,0,0,0,0.08,38.49834810992607,80,1,11.758559446366162,11.718559446366161,0.66869114207351288,7.3678614791308128,249.40337735788853,-80,1333.0916619792199,-8.144951876801863E-3,0.66328868763232063,11.598559446366162,11.638559446366163,-0.6500204934560827,-80,246.00975795896798,1331.6933522355464,-8.1535042703029387E-3,-0.64476341222120204,0.66328868763232063,0.12061113281694656,-1.2867447270563017E-3,742.80789568937371,694.01626940989263,11.759419097123414,497.55669962525042,10.912416944193692,4.9745342971262325E-2,3.1049186972783041]
[null,742.80789568937371,694.01626940989263,11.759419097123414,0,0,0,0.08,39.033301023584869,80,1,11.839419097123415,11.799419097123415,0.67337039799276965,7.3685436290449209,251.69778765482553,-80,1334.0144025817069,-8.1385644911653558E-3,0.66793437103820918,11.679419097123414,11.719419097123414,-0.6544716926061227,-80,248.29633840386654,1332.6399738503717,-8.146958263743077E-3,-0.6491828272073259,0.66793437103820918,0.11977224629966468,-1.2603244990657884E-3,742.81333171632832,693.34833503885443,11.840286571055367,500.69502229178443,11.051498894830299,4.9745342971262325E-2,3.1449742990616469]
[null,742.81333171632832,693.34833503885443,11.840286571055367,0,0,0,0.08,39.571997341979113,80,1,11.920286571055367,11.880286571055368,0.67805089352688697,7.3692300180483894,253.99766950929427,-80,1334.9216163586896,-8.1322759847346979E-3,0.67258127696047909,11.760286571055367,11.800286571055366,-0.65892253551317026,-80,250.58842542931902,1333.5704889580268,-8.1405153249148425E-3,-0.65360187939754144,0.67258127696047909,0.11894473239209839,-1.2346202878000237E-3,742.81880133289474,692.67575376189393,11.921161856310878,503.83578235484833,11.191453278817757,4.9745342971262325E-2,3.1852811616500349]
[null,742.81880133289474,692.67575376189393,11.921161856310878,0,0,0,0.08,40.114438056800651,80,1,12.001161856310878,11.961161856310877,0.68273262821813319,7.3699206483001758,256.30300031541299,-80,1335.8136757674326,-8.1260836712090979E-3,0.67722940540520726,11.841161856310878,11.881161856310879,-0.66337302129676345,-80,252.88599603467244,1334.4852882396403,-8.1341726237766244E-3,-0.65802056840337475,0.67722940540520726,0.11812836147026654,-1.2096080324406398E-3,742.82430455570761,691.9985243564887,12.002044941288927,506.97894301473968,11.332280762988518,4.9745342971262325E-2,3.2258394770912142]
[null,742.82430455570761,691.9985243564887,12.002044941288927,0,0,0,0.08,40.660624159375132,80,1,12.082044941288927,12.042044941288928,0.68741560162288806,7.3706155219006817,258.61375772569403,-80,1336.6909416826959,-8.1199849554609536E-3,0.68187875637963702,11.922044941288927,11.962044941288926,-0.66782314909069385,-80,255.18902748472195,1335.384750091453,-8.1279274275231177E-3,-0.66243889383642263,0.68187875637963702,0.11732291005039007,-1.1852646353307293E-3,742.82984140095084,691.31664560010904,12.082935814631997,510.12446865335431,11.473982004281115,4.9745342971262325E-2,3.2666494345834827]
[null,742.82984140095084,691.31664560010904,12.082935814631997,0,0,0,0.08,41.210556640673445,80,1,12.162935814631997,12.122935814631997,0.69209981331110271,7.3713146408933934,260.92991964642414,-80,1337.5537638385158,-8.1139773297350861E-3,0.68652932989215942,12.002935814631996,12.042935814631996,-0.67227291804243805,-80,257.49749730492084,1336.2692410986122,-8.1217770964815972E-3,-0.66685685530836281,0.68652932989215942,0.1165281605850204,-1.1615679172650192E-3,742.83541188436982,690.63011627021683,12.163834465219599,513.27232478637382,11.616557650055109,4.9745342971262325E-2,3.3077112205663926]
[null,742.83541188436982,690.63011627021683,12.163834465219599,0,0,0,0.08,41.764236491322393,80,1,12.243834465219599,12.2038344652196,0.69678526286610065,7.3720180072664299,263.25146423315897,-80,1338.4024812500575,-8.1080583700358071E-3,0.69118112595260994,12.083834465219599,12.123834465219598,-0.67672232731300141,-80,259.81138327670612,1337.1391164873492,-8.1157190802135133E-3,-0.67127445243134454,0.69118112595260994,0.11574390126718406,-1.1384965752552882E-3,742.84101602128328,689.93893514426418,12.244740882162052,516.42247801801159,11.760008338393446,4.9745342971262325E-2,3.3490250188078337]
[null,742.84101602128328,689.93893514426418,12.244740882162052,0,0,0,0.08,42.321664701615283,80,1,12.324740882162052,12.284740882162051,0.70147194988415151,7.3727256229540359,265.57836988632306,-80,1339.2374226165709,-8.1022257326910652E-3,0.69583414457231263,12.164740882162052,12.204740882162053,-0.68117137607647749,-80,262.13066343293849,1337.9947205566864,-8.1097509138094749E-3,-0.67569168481807063,0.69583414457231263,0.11496992584227264,-1.1160301423624658E-3,742.84665382659512,689.24310099969182,12.325655054794519,519.57489599775965,11.904334698392823,4.9745342971262325E-2,3.3905910104876544]
[null,742.84665382659512,689.24310099969182,12.325655054794519,0,0,0,0.08,42.88284226152264,80,1,12.405655054794519,12.365655054794519,0.70615987397425783,7.3734374898380768,267.91061524692111,-80,1340.0589067064307,-8.096477151083593E-3,0.7004883857643176,12.245655054794518,12.285655054794518,-0.68562006351972116,-80,264.4553160534561,1338.8363870907356,-8.1038702143665046E-3,-0.68010855208196819,0.7004883857643176,0.11420603342724993,-1.0941489497251771E-3,742.85232531480506,688.54261261392753,12.406576972671131,522.7295473793489,12.049537350442643,4.9745342971262325E-2,3.4324093742780022]
[null,742.85232531480506,688.54261261392753,12.406576972671131,0,0,0,0.08,43.447770160702021,80,1,12.486576972671131,12.446576972671132,0.71084903475740191,7.3741536097493858,270.24817919234636,-80,1340.8672427251736,-8.0908104325398498E-3,0.70514384954307741,12.326576972671131,12.36657697267113,-0.69006838884200761,-80,266.7853196607312,1339.664439752594,-8.0980746776374013E-3,-0.68452505383731932,0.70514384954307741,0.11345202833696812,-1.0728340903720379E-3,742.85803050001937,687.83746876438443,12.487506625559385,525.8864017812424,12.195616906492988,4.9745342971262325E-2,3.4744802864205018]
[null,742.85803050001937,687.83746876438443,12.487506625559385,0,0,0,0.08,44.016449388507958,80,1,12.567506625559385,12.527506625559386,0.71553943186698632,7.3748739844691125,272.59104083229158,-80,1341.6627306674045,-8.0852234553678189E-3,0.70980053592529047,12.407506625559385,12.447506625559384,-0.69451635125474809,-80,269.12065301563365,1340.4791924607875,-8.0923620748423204E-3,-0.68894118969942764,0.70980053592529047,0.11270771991699417,-1.0520673852881734E-3,742.86376939596107,687.12766822845913,12.56844400343468,529.04542974984713,12.34257397031239,4.9745342971262325E-2,3.5168039208004895]
[null,742.86376939596107,687.12766822845913,12.56844400343468,0,0,0,0.08,44.588880934001558,80,1,12.64844400343468,12.608444003434681,0.72023106494764022,7.3755986157300182,274.93917950475549,-80,1342.4456616533801,-8.0797141660354874E-3,0.71445844492910282,12.48844400343468,12.528444003434679,-0.69896394998113465,-80,271.46129511329411,1341.280949749151,-8.0867302496335659E-3,-0.69335695928469321,0.71445844492910282,0.11197292238310454,-1.0318313505719883E-3,742.86954201597962,686.41320978353008,12.649389096475005,532.20660272324392,12.490409137735513,4.9745342971262325E-2,3.5593804490183492]
[null,742.86954201597962,686.41320978353008,12.649389096475005,0,0,0,0.08,45.165065785959634,80,1,12.729389096475005,12.689389096475004,0.72492393365570251,7.3763275052176933,277.29257477214185,-80,1343.2163182510449,-8.0742805764823147E-3,0.71911757657495623,12.569389096475005,12.609389096475006,-0.70341118425587013,-80,273.80722517906463,1342.0700071109852,-8.0811771152051442E-3,-0.69777236221075001,0.71911757657495623,0.11124745466663101,-1.0121091669940056E-3,742.87534837306032,685.69409220695513,12.730341895055885,535.36989299779668,12.639122996901568,4.9745342971262325E-2,3.6022100404581727]
[null,742.87534837306032,685.69409220695513,12.730341895055885,0,0,0,0.08,45.74500493288415,80,1,12.810341895055885,12.770341895055886,0.72961803765855393,7.3770606545717499,279.65120641745216,-80,1343.9749747842413,-8.0689207615564414E-3,0.72377793088527731,12.650341895055885,12.690341895055884,-0.70785805332494078,-80,276.15842266457599,1342.8466513282845,-8.0757006515390518E-3,-0.70218739809662933,0.72377793088527731,0.11053114026583995,-9.9288465046496713E-4,742.88118847983355,684.97031427606987,12.811302389745387,538.5352736954577,12.788716128483639,4.9745342971262325E-2,3.6452928623538092]
[null,742.88118847983355,684.97031427606987,12.811302389745387,0,0,0,0.08,46.328699363010948,80,1,12.891302389745388,12.851302389745388,0.73431337663426177,7.3777980653869841,282.01505444056284,-80,1344.7218976277793,-8.0636328565707877E-3,0.72843950788446032,12.731302389745387,12.771302389745387,-0.71230455644507629,-80,278.51486724388548,1343.6111607867811,-8.0702989027807894E-3,-0.70660206656259361,0.72843950788446032,0.10982380710285282,-9.7414222430265479E-4,742.8870623485833,684.24187476818543,12.892270571299324,541.70271873277204,12.939189105909408,4.9745342971262325E-2,3.688629079852431]
[null,742.8870623485833,684.24187476818543,12.892270571299324,0,0,0,0.08,46.916150064318302,80,1,12.972270571299324,{"$f":"(D189+L189)/2","v":12.932270571299323},0.73900995027139516,7.3785397392144514,284.38409905459031,-80,1345.4573454900121,{"$f":"Q189/O189/R189","v":-8.058415054971799E-3},{"$f":"N189/(1-S189)","v":0.73310230759900474},12.812270571299324,{"$f":"(D189+U189)/2","v":12.852270571299325},-0.71675069288379234,-80,280.87653880971357,1344.3638057775097,{"$f":"X189/O189/Z189","v":-8.064969974737244E-3},-0.7110163672305313,0.73310230759900474,{"$f":"H189/AC189*K189","v":0.10912528738588929},-9.5586689284351504E-4,{"$f":"B189-(AC189-N189)","v":742.89296999125565},{"$f":"C189-AC189","v":683.50877246058644},12.9732464306566,{"$f":"AC189/R189*1000000","v":544.8722027913941},13.090542495573684,4.9745342971262325E-2,3.7322188560757428]
[null,{"$f":"AF189","v":742.89296999125565},683.50877246058644,12.9732464306566,0,{"$f":"(E190+E189)/2","v":0},{"$f":"F190*$S$53*$C$55*(B190-C190+N190)^1.5","v":0},0.08,{"$f":"(B190-C190)*B$19","v":47.507358024535371},80,{"$f":"IF((1-S189-0.015)>0,1,-1)","v":1},{"$f":"D190+K190*H190","v":13.0532464306566},13.013246430656601,{"$f":"2*($P$53*M190/$S$52/$S$51)^2-(B190-C190)*2","v":0.74370775826919555},{"$f":"wh(B190,$F$51,$F$52,$F$53)","v":7.3792856775625477},{"$f":"$C$54*$L$55*$L$55*M190*M190/(($B$19*(B190-C190))^0.333)*1000","v":286.75832068233876},{"$f":"M190/$S$54*(B190-C190+N190/2)*E190-$C$53","v":-80},{"$f":"rate1(1,$L$52,$L$51,$L$54,L190,$L$53,$L$50,P190)","v":1346.1815696835265},-8.0532656061147179E-3,0.73776633005799008,{"$f":"D190-K190*H190","v":12.8932464306566},12.933246430656599,{"$f":"2*($P$53*V190/$S$52/$S$51)^2-(B190-C190)*2","v":-0.72119646191903541},{"$f":"V190/$S$54*(B190-C190+W190/2)*F190-$C$53","v":-80},{"$f":"$C$54*$L$55*$L$55*V190*V190/(($B$19*(B190-C190))^0.333)*1000","v":283.2434174697687},{"$f":"rate1(1,$L$52,$L$51,$L$54,U190,$L$53,$L$50,Y190)","v":1345.1048487855567},-8.0597120324902051E-3,{"$f":"W190/(1-AA190)","v":-0.71543029972394234},{"$f":"delta_z(N190,S190,H190,AE189,AB190)","v":0.73776633005799008},0.10843541747657666,{"$f":"(AD190-AD189)/(AC190+AC189)*2","v":-9.3804421639114694E-4},742.89891141946691,682.77100613052846,{"$f":"$S$54*$S$53*$C$55*SQRT(AF190-AG190)","v":13.054229958934734},548.04370129018434,{"$f":"AJ189+AI190/3600","v":13.242776857043181},4.9745342971262325E-2,3.7760623521789576]
[null,742.89891141946691,682.77100613052846,13.054229958934734,{"$f":"CalBreachWidth(C191,B191,I191,E190)","v":0},0,0,{"$f":"dv(S190)","v":0.08},48.10232423115076,80,1,13.134229958934734,13.094229958934733,0.74840680033631202,7.3800358818980225,289.13769995282809,-80,1346.8948143845266,-8.0481828131398342E-3,0.74243157529211368,12.974229958934734,13.014229958934735,-0.725641862838728,-80,285.61548354315681,1345.8345447666265,-8.0545232981194034E-3,-0.71984386366780728,0.74243157529211368,0.10775403776236696,-9.2066028704254621E-4,742.90488664451107,682.02857455523633,13.135221147425408,551.2171903574914,13.395892743253595,{"$f":"AK190+AI191*G190/1000000","v":4.9745342971262325E-2},{"$f":"AL190+AI191*J191/1000000","v":3.8201597274075567}]
[null,742.90488664451107,682.02857455523633,13.135221147425408,0,0,0,0.08,48.701049671419788,{"$f":"IF(H192>0, $B$7,\"\")","v":80},1,13.215221147425408,13.175221147425408,0.75310707619181017,7.3807903536469315,291.52221769789935,-80,1347.5973168814523,-8.0431650309444411E-3,0.74709804333497132,13.055221147425408,13.095221147425409,-0.73008689494085388,-80,287.99271755686812,1346.5531414120126,-8.0494020485293253E-3,-0.72425705868898094,0.74709804333497132,0.10708099253330655,-9.0370170642294371E-4,742.91089567736788,681.28147651190136,13.216219987590339,554.39264680629617,13.549890700699789,4.9745342971262325E-2,3.8645111391520603]
[null,742.91089567736788,681.28147651190136,13.216219987590339,0,0,0,0.08,49.303535332373215,80,1,13.296219987590339,13.256219987590338,0.75780858556387898,7.381549094195651,293.91185494889965,-80,1348.289307813352,-8.0382106642453641E-3,0.75176573422204107,13.136219987590339,13.17621998759034,-0.7345315575329181,-80,290.37510024235121,1347.260879402535,-8.0443466133741683E-3,-0.72866988441594893,0.75176573422204107,0.10641612986363017,-8.8715556360971103E-4,742.91693852870969,680.52971077767927,13.297226471057094,557.57004810877754,13.704771269618893,4.9745342971262325E-2,3.9091167430007627]
[null,742.91693852870969,680.52971077767927,13.297226471057094,0,0,0,0.08,49.909782200824338,80,1,13.377226471057094,13.337226471057093,0.7625113281902145,7.3823121048917439,296.30659293343723,-80,1348.9710113984922,-8.0333181657276272E-3,0.75643464799131999,13.217226471057094,13.257226471057095,-0.73897584993187593,-80,292.76261253215688,1347.9579926519787,-8.0393553730760386E-3,-0.73308234047903864,0.75643464799131999,0.10575930149740839,-8.7100941488669321E-4,742.92301520890862,679.77327612968793,13.378240589615119,560.74937237318113,13.860534984167,4.9745342971262325E-2,3.9539766927906173]
[null,742.92301520890862,679.77327612968793,13.378240589615119,0,0,0,0.08,50.519791263376561,80,1,13.458240589615119,13.41824058961512,0.76721530381752245,7.3830793870448623,298.70641307220944,-80,1349.642645653669,-8.0284860342746331E-3,0.76110478468307485,13.298240589615119,13.338240589615118,-0.7434197714639339,-80,295.15523555665993,1348.6447085405252,-8.034426756931402E-3,-0.73749442651049024,0.76110478468307485,0.10511036273843964,-8.5525126398213044E-4,742.92912572804312,679.01217134500484,13.459262335211884,563.93059832104734,14.017182372589513,4.9745342971262325E-2,3.9990911406563012]
[null,742.92912572804312,679.01217134500484,13.459262335211884,0,0,0,0.08,51.133563506430619,80,1,13.539262335211884,13.499262335211885,0.77192051220151825,7.3838509419275784,301.11129697590246,-80,1350.3044226046534,-8.0237128132758431E-3,0.76577614434007579,13.379262335211884,13.419262335211883,-0.74786332146410928,-80,297.55295064085533,1349.3212481386595,-8.0295592413013143E-3,-0.74190614214427653,0.76577614434007579,0.10446917234401672,-8.3986954350544901E-4,742.93527009590457,678.24639520066478,13.540291699949115,567.11370526576604,14.17471395738556,4.9745342971262325E-2,4.0444602370775629]
[null,742.93527009590457,678.24639520066478,13.540291699949115,0,0,0,0.08,51.751099916191833,80,1,13.620291699949115,13.580291699949115,0.77662695310635854,7.3846267707762179,303.52122644215621,-80,1350.9565484881887,-8.0189970890079433E-3,0.77044872700725753,13.460291699949115,13.500291699949116,-0.75230649927621585,-80,299.95573930122174,1349.9878264219969,-8.024751347881106E-3,-0.74631748701633427,0.77044872700725753,0.10383559242255248,-8.2485309707107856E-4,742.94144832200368,677.47594647365747,13.621328676079171,570.29867309162648,14.333130255466568,4.9745342971262325E-2,4.0900841309248932]
[null,742.94144832200368,677.47594647365747,13.621328676079171,0,0,0,0.08,52.37240147867697,80,1,13.701328676079171,13.661328676079172,0.78133462630489703,7.3854068747916655,305.93618345259796,-80,1351.5992239459276,-8.0143374890858498E-3,0.77512253273218634,13.541328676079171,13.58132867607917,-0.75674930425287812,-80,302.36358324265649,1350.6446524774547,-8.0200016420455215E-3,-0.75072846076481403,0.77512253273218634,0.10320948833471845,-8.1019116250852664E-4,742.94766041557637,676.70082394092526,13.702373256001485,573.48548223433727,14.49243177830944,4.9745342971262325E-2,4.1359629695036402]
[null,742.94766041557637,676.70082394092526,13.702373256001485,0,0,0,0.08,52.997469179720888,80,1,13.782373256001485,13.742373256001486,0.7860435315780876,7.3861912551401092,308.35615016993683,-80,1352.2326442106807,-8.0097326809801129E-3,0.7797975615646745,13.622373256001485,13.662373256001484,-0.76119173575463606,-80,304.77646435547661,1351.2919297011701,-8.0153087312655365E-3,-0.75513906302941669,0.7797975615646745,0.10259072859817477,-7.9587335556749429E-4,742.95390638558979,675.92102637936057,13.783425432259156,576.67411366174679,14.65261903210437,4.9745342971262325E-2,4.1820968985965798]
[null,742.95390638558979,675.92102637936057,13.783425432259156,0,0,0,0.08,53.626304004983382,80,1,13.863425432259156,13.823425432259157,0.79075366871506958,7.3869799129538043,310.78110893512508,-80,1352.8569992853297,-8.0051813705973411E-3,0.78447381355706125,13.703425432259156,13.743425432259155,-0.76563379315047086,-80,307.19436471248531,1351.9298559885488,-8.0106712635931859E-3,-0.75954929345213129,0.78447381355706125,0.10197918479554313,-7.8188965464389706E-4,742.96018624074782,675.13655256580353,13.864485197535597,579.86454885584601,14.81369251789766,4.9745342971262325E-2,4.2284860625050475]
[null,742.96018624074782,675.13655256580353,13.864485197535597,0,0,0,0.08,54.258906939955438,80,1,13.944485197535597,13.904485197535596,0.79546503751276987,7.3877728493317578,313.21104226457578,-80,1353.472474114735,-8.0006823009206793E-3,0.78915128876400698,13.784485197535597,13.824485197535598,-0.77007547581717972,-80,309.61726656609994,1352.5586239168015,-8.0060879262111584E-3,-0.76395915167682138,0.78915128876400698,0.10137473148564259,-7.6823038601631728E-4,742.96649998949658,674.34740127703947,13.945552544651314,583.05676979516466,14.975652731729651,4.9745342971262325E-2,4.2751306040886607]
[null,742.96649998949658,674.34740127703947,13.945552544651314,0,0,0,0.08,54.895278969965695,80,1,14.025552544651314,13.985552544651313,0.80017763777584605,7.3885700653404358,315.64593284744308,-80,1354.0792487509575,-7.9962342507072688E-3,0.79382998724261822,13.865552544651313,13.905552544651314,-0.77451678313951788,-80,312.04515234554447,1353.1784209203126,-8.0015574440438081E-3,-0.76836863734956373,0.79382998724261822,0.10077724611775041,-7.54886209898143E-4,742.97284764002984,673.55357128979688,14.026627466560736,586.25075893812732,15.13850016476802,4.9745342971262325E-2,4.3220306648037106]
[null,742.97284764002984,673.55357128979688,14.026627466560736,0,0,0,0.08,55.535421080186374,80,1,14.106627466560736,14.066627466560735,0.80489146931671485,7.3893715620144347,318.08576354295724,-80,1354.6774985120951,-7.991836033239991E-3,0.79850990905264863,13.946627466560736,13.986627466560737,-0.77895771450954499,-80,314.47800465409949,1353.7894294591656,-7.9970785784266845E-3,-0.77277775011819005,0.79850990905264863,0.10018660894880055,-7.4184810708320973E-4,742.97922920029396,672.75506138074422,14.107709956349218,589.4464992071463,15.302235303436673,4.9745342971262325E-2,4.3691863847402823]
[null,742.97922920029396,672.75506138074422,14.107709956349218,0,0,0,0.08,56.179334255639787,80,1,14.187709956349218,14.147709956349217,0.80960653195472787,7.3901773403571172,320.53051737781863,-80,1355.2673941350135,-7.9874864951309434E-3,0.80319105425584925,14.027709956349218,14.067709956349219,-0.78339826932702294,-80,316.91580626641183,1354.3918271811326,-7.9926501258317153E-3,-0.77718648963286419,0.80319105425584925,9.9602702963517725E-2,-7.2910736605501952E-4,742.98564467799281,671.95187032648835,14.188800007229993,592.64397397273638,15.46685862954021,4.9745342971262325E-2,4.4165979026581015]
[null,742.98564467799281,671.95187032648835,14.188800007229993,0,0,0,0.08,56.827019481203571,80,1,14.268800007229993,14.228800007229992,0.81432282551671165,7.390987401341226,322.98017754364258,-80,1355.8491019222472,-7.9831845151740674E-3,0.80787342291666264,14.108800007229993,14.148800007229994,-0.78783844699870542,-80,319.35854012585958,1354.985787077421,-7.988270916645333E-3,-0.78159485554555141,0.80787342291666264,9.9025413797097422E-2,-7.1665557102155259E-4,742.99209408059289,671.14399690357163,14.26989761254136,595.84316703924117,15.632370620384444,4.9745342971262325E-2,4.4642653560212411]
[null,742.99209408059289,671.14399690357163,14.26989761254136,0,0,0,0.08,57.478477741617013,80,1,14.34989761254136,14.309897612541359,0.81904034983645602,7.3918017459095298,325.43472739446111,-80,1356.422783883326,-7.9789290032446E-3,0.81255701510186984,14.18989761254136,14.229897612541361,-0.79227824693867888,-80,321.80618934197372,1355.5714776324551,-7.9839398139969642E-3,-0.78600284751052463,0.81255701510186984,9.845462966062811E-2,-7.0448459011578373E-4,742.99857741532753,670.33143988846973,14.351002765743825,599.04406263037424,15.798771748892882,4.9745342971262325E-2,4.5121888810316708]
[null,742.99857741532753,670.33143988846973,14.351002765743825,0,0,0,0.08,58.133710021486245,80,1,14.431002765743825,14.391002765743824,0.8237591047546573,7.3926203749753565,327.8941504442729,-80,1356.9885978707687,-7.9747188992432966E-3,0.81724183088068081,14.271002765743825,14.311002765743826,-0.79671766856790782,-80,324.25873718791229,1356.1490629679554,-7.9796557126356141E-3,-0.79041046518407465,0.81724183088068081,9.789024126896434E-2,-6.9258656435422755E-4,743.00509468920154,669.51419805758906,14.432115460417416,602.24664537565252,15.966062483719453,4.9745342971262325E-2,4.5603686126617227]
[null,743.00509468920154,669.51419805758906,14.432115460417416,0,0,0,0.08,58.79271730528999,80,1,14.512115460417416,14.472115460417417,0.82847909011883303,7.3934432894231819,330.35843036464667,-80,1357.5466977109811,-7.9705531720830926E-3,0.82192787032479231,14.352115460417416,14.392115460417415,-0.8011567113140643,-80,326.71616709798803,1356.7187029815661,-7.9754175378521381E-3,-0.79481770822449527,0.82192787032479231,9.7332141771013639E-2,-6.8095389701293906E-4,743.01164590899555,668.69227018726428,14.513235690259023,605.45090029733853,16.134243289357602,4.9745342971262325E-2,4.6088046846855102]

{"sheet":"User Manual","index":4,"n_rows":3,"n_cols":1,"rows_kept":3,"cut":false,"hidden":false,"merged":[[0,0,0,18],[1,0,1,16383],[2,0,2,18]]}
["Dam Breach Analysis DB-IWHR 2014"]
[" Copy Right：Chen ZuYu（Email：chenzuyu@cashq.ac.cn）"]
["       Disclaimer: The author assumes No responsibility and makes no guarantees, expressed or implied, about its quality, reliability, or any other characteristic."]